BEGIN:VCALENDAR
VERSION:2.0
PRODID:-//St. Andrew&#039;s Anglican Church - ECPv6.7.0//NONSGML v1.0//EN
CALSCALE:GREGORIAN
METHOD:PUBLISH
X-WR-CALNAME:St. Andrew&#039;s Anglican Church
X-ORIGINAL-URL:https://saclr.org
X-WR-CALDESC:Events for St. Andrew&#039;s Anglican Church
REFRESH-INTERVAL;VALUE=DURATION:PT1H
X-Robots-Tag:noindex
X-PUBLISHED-TTL:PT1H
BEGIN:VTIMEZONE
TZID:America/Chicago
BEGIN:DAYLIGHT
TZOFFSETFROM:-0600
TZOFFSETTO:-0500
TZNAME:CDT
DTSTART:20230312T080000
END:DAYLIGHT
BEGIN:STANDARD
TZOFFSETFROM:-0500
TZOFFSETTO:-0600
TZNAME:CST
DTSTART:20231105T070000
END:STANDARD
END:VTIMEZONE
BEGIN:VEVENT
DTSTART;TZID=America/Chicago:20231008T130000
DTEND;TZID=America/Chicago:20231008T140000
DTSTAMP:20260419T085508
CREATED:20230927T194619Z
LAST-MODIFIED:20230927T194619Z
UID:10002488-1696770000-1696773600@saclr.org
SUMMARY:Young Adult Sunday Lunch
DESCRIPTION:More information available here.
URL:https://saclr.org/event/young-adult-sunday-lunch/
LOCATION:Chuy’s Mexican Restaurant\, 16001 Chenal Parkway\, Little Rock\, AR\, 72223\, United States
END:VEVENT
END:VCALENDAR