BEGIN:VCALENDAR
VERSION:2.0
PRODID:-//St. Andrew&#039;s Anglican Church - ECPv6.7.0//NONSGML v1.0//EN
CALSCALE:GREGORIAN
METHOD:PUBLISH
X-ORIGINAL-URL:https://saclr.org
X-WR-CALDESC:Events for St. Andrew&#039;s Anglican Church
REFRESH-INTERVAL;VALUE=DURATION:PT1H
X-Robots-Tag:noindex
X-PUBLISHED-TTL:PT1H
BEGIN:VTIMEZONE
TZID:America/Chicago
BEGIN:DAYLIGHT
TZOFFSETFROM:-0600
TZOFFSETTO:-0500
TZNAME:CDT
DTSTART:20200308T080000
END:DAYLIGHT
BEGIN:STANDARD
TZOFFSETFROM:-0500
TZOFFSETTO:-0600
TZNAME:CST
DTSTART:20201101T070000
END:STANDARD
END:VTIMEZONE
BEGIN:VEVENT
DTSTART;TZID=America/Chicago:20201201T121500
DTEND;TZID=America/Chicago:20201201T131500
DTSTAMP:20260424T100636
CREATED:20190104T012627Z
LAST-MODIFIED:20250828T140023Z
UID:10001509-1606824900-1606828500@saclr.org
SUMMARY:Men's Bible Fellowship
DESCRIPTION:More information available here
URL:https://saclr.org/event/mens-bible-fellowship-2/2020-12-01/
END:VEVENT
BEGIN:VEVENT
DTSTART;TZID=America/Chicago:20201202T180000
DTEND;TZID=America/Chicago:20201202T200000
DTSTAMP:20260424T100636
CREATED:20150922T063132Z
LAST-MODIFIED:20241212T222527Z
UID:10000757-1606932000-1606939200@saclr.org
SUMMARY:DASH (Wednesday)
DESCRIPTION:Sixth through twelfth graders enjoy dinner at 6 p.m. Worship and teaching on Gospel basics begins at 7 p.m.
URL:https://saclr.org/event/dash-wednesday/2020-12-02/
CATEGORIES:Youth Ministry
END:VEVENT
BEGIN:VEVENT
DTSTART;TZID=America/Chicago:20201208T121500
DTEND;TZID=America/Chicago:20201208T131500
DTSTAMP:20260424T100636
CREATED:20190104T012627Z
LAST-MODIFIED:20250828T140023Z
UID:10001510-1607429700-1607433300@saclr.org
SUMMARY:Men's Bible Fellowship
DESCRIPTION:More information available here
URL:https://saclr.org/event/mens-bible-fellowship-2/2020-12-08/
END:VEVENT
BEGIN:VEVENT
DTSTART;TZID=America/Chicago:20201209T180000
DTEND;TZID=America/Chicago:20201209T200000
DTSTAMP:20260424T100636
CREATED:20150922T063132Z
LAST-MODIFIED:20241212T222527Z
UID:10000758-1607536800-1607544000@saclr.org
SUMMARY:DASH (Wednesday)
DESCRIPTION:Sixth through twelfth graders enjoy dinner at 6 p.m. Worship and teaching on Gospel basics begins at 7 p.m.
URL:https://saclr.org/event/dash-wednesday/2020-12-09/
CATEGORIES:Youth Ministry
END:VEVENT
BEGIN:VEVENT
DTSTART;TZID=America/Chicago:20201215T121500
DTEND;TZID=America/Chicago:20201215T131500
DTSTAMP:20260424T100636
CREATED:20190104T012627Z
LAST-MODIFIED:20250828T140023Z
UID:10001511-1608034500-1608038100@saclr.org
SUMMARY:Men's Bible Fellowship
DESCRIPTION:More information available here
URL:https://saclr.org/event/mens-bible-fellowship-2/2020-12-15/
END:VEVENT
BEGIN:VEVENT
DTSTART;TZID=America/Chicago:20201216T180000
DTEND;TZID=America/Chicago:20201216T200000
DTSTAMP:20260424T100636
CREATED:20150922T063132Z
LAST-MODIFIED:20241212T222527Z
UID:10000759-1608141600-1608148800@saclr.org
SUMMARY:DASH (Wednesday)
DESCRIPTION:Sixth through twelfth graders enjoy dinner at 6 p.m. Worship and teaching on Gospel basics begins at 7 p.m.
URL:https://saclr.org/event/dash-wednesday/2020-12-16/
CATEGORIES:Youth Ministry
END:VEVENT
BEGIN:VEVENT
DTSTART;TZID=America/Chicago:20201222T121500
DTEND;TZID=America/Chicago:20201222T131500
DTSTAMP:20260424T100636
CREATED:20190104T012627Z
LAST-MODIFIED:20250828T140023Z
UID:10001512-1608639300-1608642900@saclr.org
SUMMARY:Men's Bible Fellowship
DESCRIPTION:More information available here
URL:https://saclr.org/event/mens-bible-fellowship-2/2020-12-22/
END:VEVENT
BEGIN:VEVENT
DTSTART;TZID=America/Chicago:20201223T180000
DTEND;TZID=America/Chicago:20201223T200000
DTSTAMP:20260424T100636
CREATED:20150922T063132Z
LAST-MODIFIED:20241212T222527Z
UID:10000760-1608746400-1608753600@saclr.org
SUMMARY:DASH (Wednesday)
DESCRIPTION:Sixth through twelfth graders enjoy dinner at 6 p.m. Worship and teaching on Gospel basics begins at 7 p.m.
URL:https://saclr.org/event/dash-wednesday/2020-12-23/
CATEGORIES:Youth Ministry
END:VEVENT
BEGIN:VEVENT
DTSTART;TZID=America/Chicago:20201229T121500
DTEND;TZID=America/Chicago:20201229T131500
DTSTAMP:20260424T100636
CREATED:20190104T012627Z
LAST-MODIFIED:20250828T140023Z
UID:10001513-1609244100-1609247700@saclr.org
SUMMARY:Men's Bible Fellowship
DESCRIPTION:More information available here
URL:https://saclr.org/event/mens-bible-fellowship-2/2020-12-29/
END:VEVENT
BEGIN:VEVENT
DTSTART;TZID=America/Chicago:20201230T180000
DTEND;TZID=America/Chicago:20201230T200000
DTSTAMP:20260424T100636
CREATED:20150922T063132Z
LAST-MODIFIED:20241212T222527Z
UID:10000761-1609351200-1609358400@saclr.org
SUMMARY:DASH (Wednesday)
DESCRIPTION:Sixth through twelfth graders enjoy dinner at 6 p.m. Worship and teaching on Gospel basics begins at 7 p.m.
URL:https://saclr.org/event/dash-wednesday/2020-12-30/
CATEGORIES:Youth Ministry
END:VEVENT
END:VCALENDAR