BEGIN:VCALENDAR
VERSION:2.0
PRODID:-//St. Andrew&#039;s Anglican Church - ECPv6.7.0//NONSGML v1.0//EN
CALSCALE:GREGORIAN
METHOD:PUBLISH
X-ORIGINAL-URL:https://saclr.org
X-WR-CALDESC:Events for St. Andrew&#039;s Anglican Church
REFRESH-INTERVAL;VALUE=DURATION:PT1H
X-Robots-Tag:noindex
X-PUBLISHED-TTL:PT1H
BEGIN:VTIMEZONE
TZID:America/Chicago
BEGIN:DAYLIGHT
TZOFFSETFROM:-0600
TZOFFSETTO:-0500
TZNAME:CDT
DTSTART:20200308T080000
END:DAYLIGHT
BEGIN:STANDARD
TZOFFSETFROM:-0500
TZOFFSETTO:-0600
TZNAME:CST
DTSTART:20201101T070000
END:STANDARD
END:VTIMEZONE
BEGIN:VEVENT
DTSTART;TZID=America/Chicago:20201006T121500
DTEND;TZID=America/Chicago:20201006T131500
DTSTAMP:20260424T135028
CREATED:20190104T012627Z
LAST-MODIFIED:20250828T140023Z
UID:10001501-1601986500-1601990100@saclr.org
SUMMARY:Men's Bible Fellowship
DESCRIPTION:More information available here
URL:https://saclr.org/event/mens-bible-fellowship-2/2020-10-06/
END:VEVENT
BEGIN:VEVENT
DTSTART;TZID=America/Chicago:20201007T180000
DTEND;TZID=America/Chicago:20201007T200000
DTSTAMP:20260424T135028
CREATED:20150922T063132Z
LAST-MODIFIED:20241212T222527Z
UID:10000749-1602093600-1602100800@saclr.org
SUMMARY:DASH (Wednesday)
DESCRIPTION:Sixth through twelfth graders enjoy dinner at 6 p.m. Worship and teaching on Gospel basics begins at 7 p.m.
URL:https://saclr.org/event/dash-wednesday/2020-10-07/
CATEGORIES:Youth Ministry
END:VEVENT
BEGIN:VEVENT
DTSTART;TZID=America/Chicago:20201013T121500
DTEND;TZID=America/Chicago:20201013T131500
DTSTAMP:20260424T135028
CREATED:20190104T012627Z
LAST-MODIFIED:20250828T140023Z
UID:10001502-1602591300-1602594900@saclr.org
SUMMARY:Men's Bible Fellowship
DESCRIPTION:More information available here
URL:https://saclr.org/event/mens-bible-fellowship-2/2020-10-13/
END:VEVENT
BEGIN:VEVENT
DTSTART;TZID=America/Chicago:20201014T180000
DTEND;TZID=America/Chicago:20201014T200000
DTSTAMP:20260424T135028
CREATED:20150922T063132Z
LAST-MODIFIED:20241212T222527Z
UID:10000750-1602698400-1602705600@saclr.org
SUMMARY:DASH (Wednesday)
DESCRIPTION:Sixth through twelfth graders enjoy dinner at 6 p.m. Worship and teaching on Gospel basics begins at 7 p.m.
URL:https://saclr.org/event/dash-wednesday/2020-10-14/
CATEGORIES:Youth Ministry
END:VEVENT
BEGIN:VEVENT
DTSTART;TZID=America/Chicago:20201020T121500
DTEND;TZID=America/Chicago:20201020T131500
DTSTAMP:20260424T135028
CREATED:20190104T012627Z
LAST-MODIFIED:20250828T140023Z
UID:10001503-1603196100-1603199700@saclr.org
SUMMARY:Men's Bible Fellowship
DESCRIPTION:More information available here
URL:https://saclr.org/event/mens-bible-fellowship-2/2020-10-20/
END:VEVENT
BEGIN:VEVENT
DTSTART;TZID=America/Chicago:20201021T180000
DTEND;TZID=America/Chicago:20201021T200000
DTSTAMP:20260424T135028
CREATED:20150922T063132Z
LAST-MODIFIED:20241212T222527Z
UID:10000751-1603303200-1603310400@saclr.org
SUMMARY:DASH (Wednesday)
DESCRIPTION:Sixth through twelfth graders enjoy dinner at 6 p.m. Worship and teaching on Gospel basics begins at 7 p.m.
URL:https://saclr.org/event/dash-wednesday/2020-10-21/
CATEGORIES:Youth Ministry
END:VEVENT
BEGIN:VEVENT
DTSTART;TZID=America/Chicago:20201027T121500
DTEND;TZID=America/Chicago:20201027T131500
DTSTAMP:20260424T135028
CREATED:20190104T012627Z
LAST-MODIFIED:20250828T140023Z
UID:10001504-1603800900-1603804500@saclr.org
SUMMARY:Men's Bible Fellowship
DESCRIPTION:More information available here
URL:https://saclr.org/event/mens-bible-fellowship-2/2020-10-27/
END:VEVENT
BEGIN:VEVENT
DTSTART;TZID=America/Chicago:20201028T180000
DTEND;TZID=America/Chicago:20201028T200000
DTSTAMP:20260424T135028
CREATED:20150922T063132Z
LAST-MODIFIED:20241212T222527Z
UID:10000752-1603908000-1603915200@saclr.org
SUMMARY:DASH (Wednesday)
DESCRIPTION:Sixth through twelfth graders enjoy dinner at 6 p.m. Worship and teaching on Gospel basics begins at 7 p.m.
URL:https://saclr.org/event/dash-wednesday/2020-10-28/
CATEGORIES:Youth Ministry
END:VEVENT
END:VCALENDAR