BEGIN:VCALENDAR
VERSION:2.0
PRODID:-//St. Andrew&#039;s Anglican Church - ECPv6.7.0//NONSGML v1.0//EN
CALSCALE:GREGORIAN
METHOD:PUBLISH
X-WR-CALNAME:St. Andrew&#039;s Anglican Church
X-ORIGINAL-URL:https://saclr.org
X-WR-CALDESC:Events for St. Andrew&#039;s Anglican Church
REFRESH-INTERVAL;VALUE=DURATION:PT1H
X-Robots-Tag:noindex
X-PUBLISHED-TTL:PT1H
BEGIN:VTIMEZONE
TZID:America/Chicago
BEGIN:DAYLIGHT
TZOFFSETFROM:-0600
TZOFFSETTO:-0500
TZNAME:CDT
DTSTART:20160313T080000
END:DAYLIGHT
BEGIN:STANDARD
TZOFFSETFROM:-0500
TZOFFSETTO:-0600
TZNAME:CST
DTSTART:20161106T070000
END:STANDARD
END:VTIMEZONE
BEGIN:VEVENT
DTSTART;TZID=America/Chicago:20161110T183000
DTEND;TZID=America/Chicago:20161110T200000
DTSTAMP:20260424T005220
CREATED:20150922T064540Z
LAST-MODIFIED:20150922T064540Z
UID:10001236-1478802600-1478808000@saclr.org
SUMMARY:YoungLife Capernaum
DESCRIPTION:High School and young adults with special needs are invited to join us for fun\, music\, food & small group time. We can’t wait to see you there!
URL:https://saclr.org/event/younglife-capernaum-2016-01-28/2016-11-10/
LOCATION:Commons
CATEGORIES:Adult Ministry
ORGANIZER;CN="Kay Michael":MAILTO:kay@saclr.org
END:VEVENT
BEGIN:VEVENT
DTSTART;TZID=America/Chicago:20161109T180000
DTEND;TZID=America/Chicago:20161109T203000
DTSTAMP:20260424T005220
CREATED:20150922T063533Z
LAST-MODIFIED:20150922T063533Z
UID:10000107-1478714400-1478723400@saclr.org
SUMMARY:GiG Kids
DESCRIPTION:Children whose parents attend Growing in Grace enjoy a meal together and learn the Gospel story through the Jesus Storybook Bible.
URL:https://saclr.org/event/gig-kids/2016-11-09/
CATEGORIES:Children's Ministry,Early Childhood
END:VEVENT
BEGIN:VEVENT
DTSTART;TZID=America/Chicago:20161109T180000
DTEND;TZID=America/Chicago:20161109T203000
DTSTAMP:20260424T005220
CREATED:20150922T063351Z
LAST-MODIFIED:20150922T063351Z
UID:10000321-1478714400-1478723400@saclr.org
SUMMARY:Growing in Grace (GiG)
DESCRIPTION:A complimentary dinner is followed by a recovery service and a small-group\, 12-step-style meeting.
URL:https://saclr.org/event/growing-in-grace-gig/2016-11-09/
CATEGORIES:Adult Ministry
END:VEVENT
BEGIN:VEVENT
DTSTART;TZID=America/Chicago:20161109T180000
DTEND;TZID=America/Chicago:20161109T200000
DTSTAMP:20260424T005220
CREATED:20150922T063132Z
LAST-MODIFIED:20241212T222527Z
UID:10000547-1478714400-1478721600@saclr.org
SUMMARY:DASH (Wednesday)
DESCRIPTION:Sixth through twelfth graders enjoy dinner at 6 p.m. Worship and teaching on Gospel basics begins at 7 p.m.
URL:https://saclr.org/event/dash-wednesday/2016-11-09/
CATEGORIES:Youth Ministry
END:VEVENT
BEGIN:VEVENT
DTSTART;TZID=America/Chicago:20161109T120000
DTEND;TZID=America/Chicago:20161109T130000
DTSTAMP:20260424T005220
CREATED:20150922T063804Z
LAST-MODIFIED:20150922T063804Z
UID:10001360-1478692800-1478696400@saclr.org
SUMMARY:Men's Bible Fellowship
DESCRIPTION:Men of all ages are invited to gather in the Commons at noon on Wednesday for lively biblical discussion. Bring your lunch and join us as we delve into his Word\, establish new friendships and have a little fun.
URL:https://saclr.org/event/mens-bible-fellowship/2016-11-09/
CATEGORIES:Adult Ministry
END:VEVENT
BEGIN:VEVENT
DTSTART;TZID=America/Chicago:20161108T100000
DTEND;TZID=America/Chicago:20161108T120000
DTSTAMP:20260424T005220
CREATED:20150924T112140Z
LAST-MODIFIED:20150924T112140Z
UID:10001268-1478599200-1478606400@saclr.org
SUMMARY:Prayer Shawl Ministry
DESCRIPTION:
URL:https://saclr.org/event/prayer-shawl-ministry/2016-11-08/
LOCATION:Library
END:VEVENT
BEGIN:VEVENT
DTSTART;TZID=America/Chicago:20161106T233000
DTEND;TZID=America/Chicago:20161106T233000
DTSTAMP:20260424T005220
CREATED:20150922T070134Z
LAST-MODIFIED:20150922T070134Z
UID:10001368-1478475000-1478475000@saclr.org
SUMMARY:All Saints' Picnic
DESCRIPTION:Join us after the service for a church wide picnic.
URL:https://saclr.org/event/all-saints-picnic/
LOCATION:Pavilion
CATEGORIES:Events
ORGANIZER;CN="Kathy Stephenson":MAILTO:kathys@saclr.org
END:VEVENT
BEGIN:VEVENT
DTSTART;TZID=America/Chicago:20161106T100000
DTEND;TZID=America/Chicago:20161106T113000
DTSTAMP:20260424T005220
CREATED:20150922T070003Z
LAST-MODIFIED:20150922T070003Z
UID:10001377-1478426400-1478431800@saclr.org
SUMMARY:All Saints' Sunday/Baptism
DESCRIPTION:There will only be ONE\, combined worship service. We will celebrate the sacrament of Baptism\, as well. If you would like to be baptized\, or have your child baptized\, please contact Beka LeMaster.
URL:https://saclr.org/event/all-saints-sundaybaptism/
CATEGORIES:Worship
ORGANIZER;CN="Beka LeMaster":MAILTO:beka@saclr.org
END:VEVENT
BEGIN:VEVENT
DTSTART;TZID=America/Chicago:20161106T020000
DTEND;TZID=America/Chicago:20161106T020000
DTSTAMP:20260424T005220
CREATED:20160115T024009Z
LAST-MODIFIED:20160115T024009Z
UID:10001396-1478397600-1478397600@saclr.org
SUMMARY:Daylight Saving Time
DESCRIPTION:Daylight Saving Time ends. Don’t forget to turn your clocks back an hour before you go to bed on Saturday.
URL:https://saclr.org/event/daylight-saving-time/
END:VEVENT
BEGIN:VEVENT
DTSTART;TZID=America/Chicago:20161102T180000
DTEND;TZID=America/Chicago:20161102T203000
DTSTAMP:20260424T005220
CREATED:20150922T063533Z
LAST-MODIFIED:20150922T063533Z
UID:10000106-1478109600-1478118600@saclr.org
SUMMARY:GiG Kids
DESCRIPTION:Children whose parents attend Growing in Grace enjoy a meal together and learn the Gospel story through the Jesus Storybook Bible.
URL:https://saclr.org/event/gig-kids/2016-11-02/
CATEGORIES:Children's Ministry,Early Childhood
END:VEVENT
BEGIN:VEVENT
DTSTART;TZID=America/Chicago:20161102T180000
DTEND;TZID=America/Chicago:20161102T203000
DTSTAMP:20260424T005220
CREATED:20150922T063351Z
LAST-MODIFIED:20150922T063351Z
UID:10000320-1478109600-1478118600@saclr.org
SUMMARY:Growing in Grace (GiG)
DESCRIPTION:A complimentary dinner is followed by a recovery service and a small-group\, 12-step-style meeting.
URL:https://saclr.org/event/growing-in-grace-gig/2016-11-02/
CATEGORIES:Adult Ministry
END:VEVENT
BEGIN:VEVENT
DTSTART;TZID=America/Chicago:20161102T180000
DTEND;TZID=America/Chicago:20161102T200000
DTSTAMP:20260424T005220
CREATED:20150922T063132Z
LAST-MODIFIED:20241212T222527Z
UID:10000546-1478109600-1478116800@saclr.org
SUMMARY:DASH (Wednesday)
DESCRIPTION:Sixth through twelfth graders enjoy dinner at 6 p.m. Worship and teaching on Gospel basics begins at 7 p.m.
URL:https://saclr.org/event/dash-wednesday/2016-11-02/
CATEGORIES:Youth Ministry
END:VEVENT
BEGIN:VEVENT
DTSTART;TZID=America/Chicago:20161102T120000
DTEND;TZID=America/Chicago:20161102T130000
DTSTAMP:20260424T005220
CREATED:20150922T063804Z
LAST-MODIFIED:20150922T063804Z
UID:10001359-1478088000-1478091600@saclr.org
SUMMARY:Men's Bible Fellowship
DESCRIPTION:Men of all ages are invited to gather in the Commons at noon on Wednesday for lively biblical discussion. Bring your lunch and join us as we delve into his Word\, establish new friendships and have a little fun.
URL:https://saclr.org/event/mens-bible-fellowship/2016-11-02/
CATEGORIES:Adult Ministry
END:VEVENT
BEGIN:VEVENT
DTSTART;TZID=America/Chicago:20161027T190000
DTEND;TZID=America/Chicago:20161027T210000
DTSTAMP:20260424T005220
CREATED:20150922T065234Z
LAST-MODIFIED:20150922T065234Z
UID:10001391-1477594800-1477602000@saclr.org
SUMMARY:Roots & Wings
DESCRIPTION:Join us at Roots and Wings\, a new\, monthly gathering for moms of teenagers and college students for a time of fellowship\, prayer and encouragement. We have given them roots to always remember that they are loved and always have a place to call home. Now we are learning to give them wings to fly out of our nests.
URL:https://saclr.org/event/roots-wings/2016-10-27/
LOCATION:Cook’s home\, 7 Broadview Dr.\, Little Rock\, AR\, 72207\, United States
CATEGORIES:Women's Ministry
ORGANIZER;CN="Kimberly Cook":MAILTO:kimberlycook@me.com
GEO:34.765922;-92.348264
X-APPLE-STRUCTURED-LOCATION;VALUE=URI;X-ADDRESS=Cook’s home 7 Broadview Dr. Little Rock AR 72207 United States;X-APPLE-RADIUS=500;X-TITLE=7 Broadview Dr.:geo:-92.348264,34.765922
END:VEVENT
BEGIN:VEVENT
DTSTART;TZID=America/Chicago:20161027T183000
DTEND;TZID=America/Chicago:20161027T200000
DTSTAMP:20260424T005220
CREATED:20150922T064540Z
LAST-MODIFIED:20150922T064540Z
UID:10001235-1477593000-1477598400@saclr.org
SUMMARY:YoungLife Capernaum
DESCRIPTION:High School and young adults with special needs are invited to join us for fun\, music\, food & small group time. We can’t wait to see you there!
URL:https://saclr.org/event/younglife-capernaum-2016-01-28/2016-10-27/
LOCATION:Commons
CATEGORIES:Adult Ministry
ORGANIZER;CN="Kay Michael":MAILTO:kay@saclr.org
END:VEVENT
BEGIN:VEVENT
DTSTART;TZID=America/Chicago:20161026T180000
DTEND;TZID=America/Chicago:20161026T203000
DTSTAMP:20260424T005220
CREATED:20150922T063533Z
LAST-MODIFIED:20150922T063533Z
UID:10000105-1477504800-1477513800@saclr.org
SUMMARY:GiG Kids
DESCRIPTION:Children whose parents attend Growing in Grace enjoy a meal together and learn the Gospel story through the Jesus Storybook Bible.
URL:https://saclr.org/event/gig-kids/2016-10-26/
CATEGORIES:Children's Ministry,Early Childhood
END:VEVENT
BEGIN:VEVENT
DTSTART;TZID=America/Chicago:20161026T180000
DTEND;TZID=America/Chicago:20161026T203000
DTSTAMP:20260424T005220
CREATED:20150922T063351Z
LAST-MODIFIED:20150922T063351Z
UID:10000319-1477504800-1477513800@saclr.org
SUMMARY:Growing in Grace (GiG)
DESCRIPTION:A complimentary dinner is followed by a recovery service and a small-group\, 12-step-style meeting.
URL:https://saclr.org/event/growing-in-grace-gig/2016-10-26/
CATEGORIES:Adult Ministry
END:VEVENT
BEGIN:VEVENT
DTSTART;TZID=America/Chicago:20161026T180000
DTEND;TZID=America/Chicago:20161026T200000
DTSTAMP:20260424T005220
CREATED:20150922T063132Z
LAST-MODIFIED:20241212T222527Z
UID:10000545-1477504800-1477512000@saclr.org
SUMMARY:DASH (Wednesday)
DESCRIPTION:Sixth through twelfth graders enjoy dinner at 6 p.m. Worship and teaching on Gospel basics begins at 7 p.m.
URL:https://saclr.org/event/dash-wednesday/2016-10-26/
CATEGORIES:Youth Ministry
END:VEVENT
BEGIN:VEVENT
DTSTART;TZID=America/Chicago:20161026T120000
DTEND;TZID=America/Chicago:20161026T130000
DTSTAMP:20260424T005220
CREATED:20150922T063804Z
LAST-MODIFIED:20150922T063804Z
UID:10001358-1477483200-1477486800@saclr.org
SUMMARY:Men's Bible Fellowship
DESCRIPTION:Men of all ages are invited to gather in the Commons at noon on Wednesday for lively biblical discussion. Bring your lunch and join us as we delve into his Word\, establish new friendships and have a little fun.
URL:https://saclr.org/event/mens-bible-fellowship/2016-10-26/
CATEGORIES:Adult Ministry
END:VEVENT
BEGIN:VEVENT
DTSTART;TZID=America/Chicago:20161019T180000
DTEND;TZID=America/Chicago:20161019T203000
DTSTAMP:20260424T005220
CREATED:20150922T063533Z
LAST-MODIFIED:20150922T063533Z
UID:10000104-1476900000-1476909000@saclr.org
SUMMARY:GiG Kids
DESCRIPTION:Children whose parents attend Growing in Grace enjoy a meal together and learn the Gospel story through the Jesus Storybook Bible.
URL:https://saclr.org/event/gig-kids/2016-10-19/
CATEGORIES:Children's Ministry,Early Childhood
END:VEVENT
BEGIN:VEVENT
DTSTART;TZID=America/Chicago:20161019T180000
DTEND;TZID=America/Chicago:20161019T203000
DTSTAMP:20260424T005220
CREATED:20150922T063351Z
LAST-MODIFIED:20150922T063351Z
UID:10000318-1476900000-1476909000@saclr.org
SUMMARY:Growing in Grace (GiG)
DESCRIPTION:A complimentary dinner is followed by a recovery service and a small-group\, 12-step-style meeting.
URL:https://saclr.org/event/growing-in-grace-gig/2016-10-19/
CATEGORIES:Adult Ministry
END:VEVENT
BEGIN:VEVENT
DTSTART;TZID=America/Chicago:20161019T180000
DTEND;TZID=America/Chicago:20161019T200000
DTSTAMP:20260424T005220
CREATED:20150922T063132Z
LAST-MODIFIED:20241212T222527Z
UID:10000544-1476900000-1476907200@saclr.org
SUMMARY:DASH (Wednesday)
DESCRIPTION:Sixth through twelfth graders enjoy dinner at 6 p.m. Worship and teaching on Gospel basics begins at 7 p.m.
URL:https://saclr.org/event/dash-wednesday/2016-10-19/
CATEGORIES:Youth Ministry
END:VEVENT
BEGIN:VEVENT
DTSTART;TZID=America/Chicago:20161019T120000
DTEND;TZID=America/Chicago:20161019T130000
DTSTAMP:20260424T005220
CREATED:20150922T063804Z
LAST-MODIFIED:20150922T063804Z
UID:10001357-1476878400-1476882000@saclr.org
SUMMARY:Men's Bible Fellowship
DESCRIPTION:Men of all ages are invited to gather in the Commons at noon on Wednesday for lively biblical discussion. Bring your lunch and join us as we delve into his Word\, establish new friendships and have a little fun.
URL:https://saclr.org/event/mens-bible-fellowship/2016-10-19/
CATEGORIES:Adult Ministry
END:VEVENT
BEGIN:VEVENT
DTSTART;TZID=America/Chicago:20161013T183000
DTEND;TZID=America/Chicago:20161013T200000
DTSTAMP:20260424T005220
CREATED:20150922T064540Z
LAST-MODIFIED:20150922T064540Z
UID:10001234-1476383400-1476388800@saclr.org
SUMMARY:YoungLife Capernaum
DESCRIPTION:High School and young adults with special needs are invited to join us for fun\, music\, food & small group time. We can’t wait to see you there!
URL:https://saclr.org/event/younglife-capernaum-2016-01-28/2016-10-13/
LOCATION:Commons
CATEGORIES:Adult Ministry
ORGANIZER;CN="Kay Michael":MAILTO:kay@saclr.org
END:VEVENT
BEGIN:VEVENT
DTSTART;TZID=America/Chicago:20161012T180000
DTEND;TZID=America/Chicago:20161012T203000
DTSTAMP:20260424T005220
CREATED:20150922T063533Z
LAST-MODIFIED:20150922T063533Z
UID:10000103-1476295200-1476304200@saclr.org
SUMMARY:GiG Kids
DESCRIPTION:Children whose parents attend Growing in Grace enjoy a meal together and learn the Gospel story through the Jesus Storybook Bible.
URL:https://saclr.org/event/gig-kids/2016-10-12/
CATEGORIES:Children's Ministry,Early Childhood
END:VEVENT
BEGIN:VEVENT
DTSTART;TZID=America/Chicago:20161012T180000
DTEND;TZID=America/Chicago:20161012T203000
DTSTAMP:20260424T005220
CREATED:20150922T063351Z
LAST-MODIFIED:20150922T063351Z
UID:10000317-1476295200-1476304200@saclr.org
SUMMARY:Growing in Grace (GiG)
DESCRIPTION:A complimentary dinner is followed by a recovery service and a small-group\, 12-step-style meeting.
URL:https://saclr.org/event/growing-in-grace-gig/2016-10-12/
CATEGORIES:Adult Ministry
END:VEVENT
BEGIN:VEVENT
DTSTART;TZID=America/Chicago:20161012T180000
DTEND;TZID=America/Chicago:20161012T200000
DTSTAMP:20260424T005220
CREATED:20150922T063132Z
LAST-MODIFIED:20241212T222527Z
UID:10000543-1476295200-1476302400@saclr.org
SUMMARY:DASH (Wednesday)
DESCRIPTION:Sixth through twelfth graders enjoy dinner at 6 p.m. Worship and teaching on Gospel basics begins at 7 p.m.
URL:https://saclr.org/event/dash-wednesday/2016-10-12/
CATEGORIES:Youth Ministry
END:VEVENT
BEGIN:VEVENT
DTSTART;TZID=America/Chicago:20161012T120000
DTEND;TZID=America/Chicago:20161012T130000
DTSTAMP:20260424T005220
CREATED:20150922T063804Z
LAST-MODIFIED:20150922T063804Z
UID:10001356-1476273600-1476277200@saclr.org
SUMMARY:Men's Bible Fellowship
DESCRIPTION:Men of all ages are invited to gather in the Commons at noon on Wednesday for lively biblical discussion. Bring your lunch and join us as we delve into his Word\, establish new friendships and have a little fun.
URL:https://saclr.org/event/mens-bible-fellowship/2016-10-12/
CATEGORIES:Adult Ministry
END:VEVENT
BEGIN:VEVENT
DTSTART;TZID=America/Chicago:20161008T100000
DTEND;TZID=America/Chicago:20161008T120000
DTSTAMP:20260424T005220
CREATED:20150924T112140Z
LAST-MODIFIED:20150924T112140Z
UID:10001267-1475920800-1475928000@saclr.org
SUMMARY:Prayer Shawl Ministry
DESCRIPTION:
URL:https://saclr.org/event/prayer-shawl-ministry/2016-10-08/
LOCATION:Library
END:VEVENT
BEGIN:VEVENT
DTSTART;TZID=America/Chicago:20161005T180000
DTEND;TZID=America/Chicago:20161005T203000
DTSTAMP:20260424T005220
CREATED:20150922T063533Z
LAST-MODIFIED:20150922T063533Z
UID:10000102-1475690400-1475699400@saclr.org
SUMMARY:GiG Kids
DESCRIPTION:Children whose parents attend Growing in Grace enjoy a meal together and learn the Gospel story through the Jesus Storybook Bible.
URL:https://saclr.org/event/gig-kids/2016-10-05/
CATEGORIES:Children's Ministry,Early Childhood
END:VEVENT
END:VCALENDAR