BEGIN:VCALENDAR
VERSION:2.0
PRODID:-//St. Andrew&#039;s Anglican Church - ECPv6.7.0//NONSGML v1.0//EN
CALSCALE:GREGORIAN
METHOD:PUBLISH
X-WR-CALNAME:St. Andrew&#039;s Anglican Church
X-ORIGINAL-URL:https://saclr.org
X-WR-CALDESC:Events for St. Andrew&#039;s Anglican Church
REFRESH-INTERVAL;VALUE=DURATION:PT1H
X-Robots-Tag:noindex
X-PUBLISHED-TTL:PT1H
BEGIN:VTIMEZONE
TZID:America/Chicago
BEGIN:DAYLIGHT
TZOFFSETFROM:-0600
TZOFFSETTO:-0500
TZNAME:CDT
DTSTART:20170312T080000
END:DAYLIGHT
BEGIN:STANDARD
TZOFFSETFROM:-0500
TZOFFSETTO:-0600
TZNAME:CST
DTSTART:20171105T070000
END:STANDARD
END:VTIMEZONE
BEGIN:VEVENT
DTSTART;TZID=America/Chicago:20170405T180000
DTEND;TZID=America/Chicago:20170405T203000
DTSTAMP:20260423T142626
CREATED:20150922T063351Z
LAST-MODIFIED:20150922T063351Z
UID:10000342-1491415200-1491424200@saclr.org
SUMMARY:Growing in Grace (GiG)
DESCRIPTION:A complimentary dinner is followed by a recovery service and a small-group\, 12-step-style meeting.
URL:https://saclr.org/event/growing-in-grace-gig/2017-04-05/
CATEGORIES:Adult Ministry
END:VEVENT
BEGIN:VEVENT
DTSTART;TZID=America/Chicago:20170405T180000
DTEND;TZID=America/Chicago:20170405T200000
DTSTAMP:20260423T142626
CREATED:20150922T063132Z
LAST-MODIFIED:20241212T222527Z
UID:10000568-1491415200-1491422400@saclr.org
SUMMARY:DASH (Wednesday)
DESCRIPTION:Sixth through twelfth graders enjoy dinner at 6 p.m. Worship and teaching on Gospel basics begins at 7 p.m.
URL:https://saclr.org/event/dash-wednesday/2017-04-05/
CATEGORIES:Youth Ministry
END:VEVENT
BEGIN:VEVENT
DTSTART;TZID=America/Chicago:20170330T183000
DTEND;TZID=America/Chicago:20170330T200000
DTSTAMP:20260423T142626
CREATED:20150922T064540Z
LAST-MODIFIED:20150922T064540Z
UID:10001246-1490898600-1490904000@saclr.org
SUMMARY:YoungLife Capernaum
DESCRIPTION:High School and young adults with special needs are invited to join us for fun\, music\, food & small group time. We can’t wait to see you there!
URL:https://saclr.org/event/younglife-capernaum-2016-01-28/2017-03-30/
LOCATION:Commons
CATEGORIES:Adult Ministry
ORGANIZER;CN="Kay Michael":MAILTO:kay@saclr.org
END:VEVENT
BEGIN:VEVENT
DTSTART;TZID=America/Chicago:20170329T180000
DTEND;TZID=America/Chicago:20170329T203000
DTSTAMP:20260423T142626
CREATED:20150922T063533Z
LAST-MODIFIED:20150922T063533Z
UID:10000127-1490810400-1490819400@saclr.org
SUMMARY:GiG Kids
DESCRIPTION:Children whose parents attend Growing in Grace enjoy a meal together and learn the Gospel story through the Jesus Storybook Bible.
URL:https://saclr.org/event/gig-kids/2017-03-29/
CATEGORIES:Children's Ministry,Early Childhood
END:VEVENT
BEGIN:VEVENT
DTSTART;TZID=America/Chicago:20170329T180000
DTEND;TZID=America/Chicago:20170329T203000
DTSTAMP:20260423T142626
CREATED:20150922T063351Z
LAST-MODIFIED:20150922T063351Z
UID:10000341-1490810400-1490819400@saclr.org
SUMMARY:Growing in Grace (GiG)
DESCRIPTION:A complimentary dinner is followed by a recovery service and a small-group\, 12-step-style meeting.
URL:https://saclr.org/event/growing-in-grace-gig/2017-03-29/
CATEGORIES:Adult Ministry
END:VEVENT
BEGIN:VEVENT
DTSTART;TZID=America/Chicago:20170329T180000
DTEND;TZID=America/Chicago:20170329T200000
DTSTAMP:20260423T142626
CREATED:20170123T231914Z
LAST-MODIFIED:20170123T231914Z
UID:10000039-1490810400-1490817600@saclr.org
SUMMARY:Evening of Prayer & Praise
DESCRIPTION:Join us the last Sunday of every month at 6 p.m. for our monthly Evening of Prayer & Praise. All are welcome to come and worship our God.
URL:https://saclr.org/event/evening-prayer-praise/2017-03-29/
END:VEVENT
BEGIN:VEVENT
DTSTART;TZID=America/Chicago:20170329T180000
DTEND;TZID=America/Chicago:20170329T200000
DTSTAMP:20260423T142626
CREATED:20150922T063132Z
LAST-MODIFIED:20241212T222527Z
UID:10000567-1490810400-1490817600@saclr.org
SUMMARY:DASH (Wednesday)
DESCRIPTION:Sixth through twelfth graders enjoy dinner at 6 p.m. Worship and teaching on Gospel basics begins at 7 p.m.
URL:https://saclr.org/event/dash-wednesday/2017-03-29/
CATEGORIES:Youth Ministry
END:VEVENT
BEGIN:VEVENT
DTSTART;TZID=America/Chicago:20170323T094500
DTEND;TZID=America/Chicago:20170323T113000
DTSTAMP:20260423T142626
CREATED:20160627T200850Z
LAST-MODIFIED:20160627T200850Z
UID:10001413-1490262300-1490268600@saclr.org
SUMMARY:BLiSS Women's Study
DESCRIPTION:BLiSS is a discussion-oriented study for moms from all seasons of life based on Gospel readings taken from the lectionary. Together we discover and discuss how God is working in our lives and how he is inviting us to respond in trust. During large group time we share our lives and hearts through story. Small group time led by mentor moms creates space for honest discussion of scripture and the Holy Spirit’s work in our lives as we are present to God and to one another. One mom has described BLiSS as a space where real life is shared by real\, beautiful\, imperfect moms. \nChildcare is provided free of charge for children ages birth through pre-K. Register at here for child care. If you registered for child care last semester you don’t need to register for this semester. If you do not need childcare please put N/A for childcare.
URL:https://saclr.org/event/bliss-womens-study-2/2017-03-23/
LOCATION:Andrew Room
ORGANIZER;CN="Tongua Williams":MAILTO:Tongua@saclr.org
END:VEVENT
BEGIN:VEVENT
DTSTART;TZID=America/Chicago:20170322T180000
DTEND;TZID=America/Chicago:20170322T203000
DTSTAMP:20260423T142626
CREATED:20150922T063533Z
LAST-MODIFIED:20150922T063533Z
UID:10000126-1490205600-1490214600@saclr.org
SUMMARY:GiG Kids
DESCRIPTION:Children whose parents attend Growing in Grace enjoy a meal together and learn the Gospel story through the Jesus Storybook Bible.
URL:https://saclr.org/event/gig-kids/2017-03-22/
CATEGORIES:Children's Ministry,Early Childhood
END:VEVENT
BEGIN:VEVENT
DTSTART;TZID=America/Chicago:20170322T180000
DTEND;TZID=America/Chicago:20170322T203000
DTSTAMP:20260423T142626
CREATED:20150922T063351Z
LAST-MODIFIED:20150922T063351Z
UID:10000340-1490205600-1490214600@saclr.org
SUMMARY:Growing in Grace (GiG)
DESCRIPTION:A complimentary dinner is followed by a recovery service and a small-group\, 12-step-style meeting.
URL:https://saclr.org/event/growing-in-grace-gig/2017-03-22/
CATEGORIES:Adult Ministry
END:VEVENT
BEGIN:VEVENT
DTSTART;TZID=America/Chicago:20170322T180000
DTEND;TZID=America/Chicago:20170322T200000
DTSTAMP:20260423T142626
CREATED:20150922T063132Z
LAST-MODIFIED:20241212T222527Z
UID:10000566-1490205600-1490212800@saclr.org
SUMMARY:DASH (Wednesday)
DESCRIPTION:Sixth through twelfth graders enjoy dinner at 6 p.m. Worship and teaching on Gospel basics begins at 7 p.m.
URL:https://saclr.org/event/dash-wednesday/2017-03-22/
CATEGORIES:Youth Ministry
END:VEVENT
BEGIN:VEVENT
DTSTART;TZID=America/Chicago:20170316T183000
DTEND;TZID=America/Chicago:20170316T200000
DTSTAMP:20260423T142626
CREATED:20150922T064540Z
LAST-MODIFIED:20150922T064540Z
UID:10001245-1489689000-1489694400@saclr.org
SUMMARY:YoungLife Capernaum
DESCRIPTION:High School and young adults with special needs are invited to join us for fun\, music\, food & small group time. We can’t wait to see you there!
URL:https://saclr.org/event/younglife-capernaum-2016-01-28/2017-03-16/
LOCATION:Commons
CATEGORIES:Adult Ministry
ORGANIZER;CN="Kay Michael":MAILTO:kay@saclr.org
END:VEVENT
BEGIN:VEVENT
DTSTART;TZID=America/Chicago:20170315T180000
DTEND;TZID=America/Chicago:20170315T203000
DTSTAMP:20260423T142626
CREATED:20150922T063533Z
LAST-MODIFIED:20150922T063533Z
UID:10000125-1489600800-1489609800@saclr.org
SUMMARY:GiG Kids
DESCRIPTION:Children whose parents attend Growing in Grace enjoy a meal together and learn the Gospel story through the Jesus Storybook Bible.
URL:https://saclr.org/event/gig-kids/2017-03-15/
CATEGORIES:Children's Ministry,Early Childhood
END:VEVENT
BEGIN:VEVENT
DTSTART;TZID=America/Chicago:20170315T180000
DTEND;TZID=America/Chicago:20170315T203000
DTSTAMP:20260423T142626
CREATED:20150922T063351Z
LAST-MODIFIED:20150922T063351Z
UID:10000339-1489600800-1489609800@saclr.org
SUMMARY:Growing in Grace (GiG)
DESCRIPTION:A complimentary dinner is followed by a recovery service and a small-group\, 12-step-style meeting.
URL:https://saclr.org/event/growing-in-grace-gig/2017-03-15/
CATEGORIES:Adult Ministry
END:VEVENT
BEGIN:VEVENT
DTSTART;TZID=America/Chicago:20170315T180000
DTEND;TZID=America/Chicago:20170315T200000
DTSTAMP:20260423T142626
CREATED:20150922T063132Z
LAST-MODIFIED:20241212T222527Z
UID:10000565-1489600800-1489608000@saclr.org
SUMMARY:DASH (Wednesday)
DESCRIPTION:Sixth through twelfth graders enjoy dinner at 6 p.m. Worship and teaching on Gospel basics begins at 7 p.m.
URL:https://saclr.org/event/dash-wednesday/2017-03-15/
CATEGORIES:Youth Ministry
END:VEVENT
BEGIN:VEVENT
DTSTART;TZID=America/Chicago:20170308T180000
DTEND;TZID=America/Chicago:20170308T203000
DTSTAMP:20260423T142626
CREATED:20150922T063533Z
LAST-MODIFIED:20150922T063533Z
UID:10000124-1488996000-1489005000@saclr.org
SUMMARY:GiG Kids
DESCRIPTION:Children whose parents attend Growing in Grace enjoy a meal together and learn the Gospel story through the Jesus Storybook Bible.
URL:https://saclr.org/event/gig-kids/2017-03-08/
CATEGORIES:Children's Ministry,Early Childhood
END:VEVENT
BEGIN:VEVENT
DTSTART;TZID=America/Chicago:20170308T180000
DTEND;TZID=America/Chicago:20170308T203000
DTSTAMP:20260423T142626
CREATED:20150922T063351Z
LAST-MODIFIED:20150922T063351Z
UID:10000338-1488996000-1489005000@saclr.org
SUMMARY:Growing in Grace (GiG)
DESCRIPTION:A complimentary dinner is followed by a recovery service and a small-group\, 12-step-style meeting.
URL:https://saclr.org/event/growing-in-grace-gig/2017-03-08/
CATEGORIES:Adult Ministry
END:VEVENT
BEGIN:VEVENT
DTSTART;TZID=America/Chicago:20170308T180000
DTEND;TZID=America/Chicago:20170308T200000
DTSTAMP:20260423T142626
CREATED:20150922T063132Z
LAST-MODIFIED:20241212T222527Z
UID:10000564-1488996000-1489003200@saclr.org
SUMMARY:DASH (Wednesday)
DESCRIPTION:Sixth through twelfth graders enjoy dinner at 6 p.m. Worship and teaching on Gospel basics begins at 7 p.m.
URL:https://saclr.org/event/dash-wednesday/2017-03-08/
CATEGORIES:Youth Ministry
END:VEVENT
BEGIN:VEVENT
DTSTART;TZID=America/Chicago:20170302T183000
DTEND;TZID=America/Chicago:20170302T200000
DTSTAMP:20260423T142626
CREATED:20150922T064540Z
LAST-MODIFIED:20150922T064540Z
UID:10001244-1488479400-1488484800@saclr.org
SUMMARY:YoungLife Capernaum
DESCRIPTION:High School and young adults with special needs are invited to join us for fun\, music\, food & small group time. We can’t wait to see you there!
URL:https://saclr.org/event/younglife-capernaum-2016-01-28/2017-03-02/
LOCATION:Commons
CATEGORIES:Adult Ministry
ORGANIZER;CN="Kay Michael":MAILTO:kay@saclr.org
END:VEVENT
BEGIN:VEVENT
DTSTART;TZID=America/Chicago:20170301T180000
DTEND;TZID=America/Chicago:20170301T203000
DTSTAMP:20260423T142626
CREATED:20150922T063533Z
LAST-MODIFIED:20150922T063533Z
UID:10000123-1488391200-1488400200@saclr.org
SUMMARY:GiG Kids
DESCRIPTION:Children whose parents attend Growing in Grace enjoy a meal together and learn the Gospel story through the Jesus Storybook Bible.
URL:https://saclr.org/event/gig-kids/2017-03-01/
CATEGORIES:Children's Ministry,Early Childhood
END:VEVENT
BEGIN:VEVENT
DTSTART;TZID=America/Chicago:20170301T180000
DTEND;TZID=America/Chicago:20170301T203000
DTSTAMP:20260423T142626
CREATED:20150922T063351Z
LAST-MODIFIED:20150922T063351Z
UID:10000337-1488391200-1488400200@saclr.org
SUMMARY:Growing in Grace (GiG)
DESCRIPTION:A complimentary dinner is followed by a recovery service and a small-group\, 12-step-style meeting.
URL:https://saclr.org/event/growing-in-grace-gig/2017-03-01/
CATEGORIES:Adult Ministry
END:VEVENT
BEGIN:VEVENT
DTSTART;TZID=America/Chicago:20170301T180000
DTEND;TZID=America/Chicago:20170301T200000
DTSTAMP:20260423T142626
CREATED:20150922T063132Z
LAST-MODIFIED:20241212T222527Z
UID:10000563-1488391200-1488398400@saclr.org
SUMMARY:DASH (Wednesday)
DESCRIPTION:Sixth through twelfth graders enjoy dinner at 6 p.m. Worship and teaching on Gospel basics begins at 7 p.m.
URL:https://saclr.org/event/dash-wednesday/2017-03-01/
CATEGORIES:Youth Ministry
END:VEVENT
BEGIN:VEVENT
DTSTART;TZID=America/Chicago:20170222T180000
DTEND;TZID=America/Chicago:20170222T203000
DTSTAMP:20260423T142626
CREATED:20150922T063533Z
LAST-MODIFIED:20150922T063533Z
UID:10000122-1487786400-1487795400@saclr.org
SUMMARY:GiG Kids
DESCRIPTION:Children whose parents attend Growing in Grace enjoy a meal together and learn the Gospel story through the Jesus Storybook Bible.
URL:https://saclr.org/event/gig-kids/2017-02-22/
CATEGORIES:Children's Ministry,Early Childhood
END:VEVENT
BEGIN:VEVENT
DTSTART;TZID=America/Chicago:20170222T180000
DTEND;TZID=America/Chicago:20170222T203000
DTSTAMP:20260423T142626
CREATED:20150922T063351Z
LAST-MODIFIED:20150922T063351Z
UID:10000336-1487786400-1487795400@saclr.org
SUMMARY:Growing in Grace (GiG)
DESCRIPTION:A complimentary dinner is followed by a recovery service and a small-group\, 12-step-style meeting.
URL:https://saclr.org/event/growing-in-grace-gig/2017-02-22/
CATEGORIES:Adult Ministry
END:VEVENT
BEGIN:VEVENT
DTSTART;TZID=America/Chicago:20170222T180000
DTEND;TZID=America/Chicago:20170222T200000
DTSTAMP:20260423T142626
CREATED:20150922T063132Z
LAST-MODIFIED:20241212T222527Z
UID:10000562-1487786400-1487793600@saclr.org
SUMMARY:DASH (Wednesday)
DESCRIPTION:Sixth through twelfth graders enjoy dinner at 6 p.m. Worship and teaching on Gospel basics begins at 7 p.m.
URL:https://saclr.org/event/dash-wednesday/2017-02-22/
CATEGORIES:Youth Ministry
END:VEVENT
BEGIN:VEVENT
DTSTART;TZID=America/Chicago:20170219T160000
DTEND;TZID=America/Chicago:20170219T173000
DTSTAMP:20260423T142626
CREATED:20170210T015012Z
LAST-MODIFIED:20170210T015012Z
UID:10000226-1487520000-1487525400@saclr.org
SUMMARY:Town Hall Meeting
DESCRIPTION:In late January\, it was announced that the 2016-17 school year would be the final one for Wilson Elementary School. St. Andrew’s has long been an Education Partner of Wilson’s and been involved in the life of the school and it’s students. On Sunday\, February 19\, at 4 p.m. the Missions Committee will host an all St. Andrew’s Town Hall Meeting to share how we plan to finish strong with our friends at Wilson and discern how we continue to minister to the community around the church. We want to hear from you\, the body of St. Andrew’s\, and would be blessed by your attendance and input.
URL:https://saclr.org/event/town-hall-meeting/
END:VEVENT
BEGIN:VEVENT
DTSTART;TZID=America/Chicago:20170216T183000
DTEND;TZID=America/Chicago:20170216T200000
DTSTAMP:20260423T142626
CREATED:20150922T064540Z
LAST-MODIFIED:20150922T064540Z
UID:10001243-1487269800-1487275200@saclr.org
SUMMARY:YoungLife Capernaum
DESCRIPTION:High School and young adults with special needs are invited to join us for fun\, music\, food & small group time. We can’t wait to see you there!
URL:https://saclr.org/event/younglife-capernaum-2016-01-28/2017-02-16/
LOCATION:Commons
CATEGORIES:Adult Ministry
ORGANIZER;CN="Kay Michael":MAILTO:kay@saclr.org
END:VEVENT
BEGIN:VEVENT
DTSTART;TZID=America/Chicago:20170215T180000
DTEND;TZID=America/Chicago:20170215T203000
DTSTAMP:20260423T142626
CREATED:20150922T063533Z
LAST-MODIFIED:20150922T063533Z
UID:10000121-1487181600-1487190600@saclr.org
SUMMARY:GiG Kids
DESCRIPTION:Children whose parents attend Growing in Grace enjoy a meal together and learn the Gospel story through the Jesus Storybook Bible.
URL:https://saclr.org/event/gig-kids/2017-02-15/
CATEGORIES:Children's Ministry,Early Childhood
END:VEVENT
BEGIN:VEVENT
DTSTART;TZID=America/Chicago:20170215T180000
DTEND;TZID=America/Chicago:20170215T203000
DTSTAMP:20260423T142626
CREATED:20150922T063351Z
LAST-MODIFIED:20150922T063351Z
UID:10000335-1487181600-1487190600@saclr.org
SUMMARY:Growing in Grace (GiG)
DESCRIPTION:A complimentary dinner is followed by a recovery service and a small-group\, 12-step-style meeting.
URL:https://saclr.org/event/growing-in-grace-gig/2017-02-15/
CATEGORIES:Adult Ministry
END:VEVENT
BEGIN:VEVENT
DTSTART;TZID=America/Chicago:20170215T180000
DTEND;TZID=America/Chicago:20170215T200000
DTSTAMP:20260423T142626
CREATED:20150922T063132Z
LAST-MODIFIED:20241212T222527Z
UID:10000561-1487181600-1487188800@saclr.org
SUMMARY:DASH (Wednesday)
DESCRIPTION:Sixth through twelfth graders enjoy dinner at 6 p.m. Worship and teaching on Gospel basics begins at 7 p.m.
URL:https://saclr.org/event/dash-wednesday/2017-02-15/
CATEGORIES:Youth Ministry
END:VEVENT
END:VCALENDAR