BEGIN:VCALENDAR
VERSION:2.0
PRODID:-//St. Andrew&#039;s Anglican Church - ECPv6.7.0//NONSGML v1.0//EN
CALSCALE:GREGORIAN
METHOD:PUBLISH
X-WR-CALNAME:St. Andrew&#039;s Anglican Church
X-ORIGINAL-URL:https://saclr.org
X-WR-CALDESC:Events for St. Andrew&#039;s Anglican Church
REFRESH-INTERVAL;VALUE=DURATION:PT1H
X-Robots-Tag:noindex
X-PUBLISHED-TTL:PT1H
BEGIN:VTIMEZONE
TZID:America/Chicago
BEGIN:DAYLIGHT
TZOFFSETFROM:-0600
TZOFFSETTO:-0500
TZNAME:CDT
DTSTART:20170312T080000
END:DAYLIGHT
BEGIN:STANDARD
TZOFFSETFROM:-0500
TZOFFSETTO:-0600
TZNAME:CST
DTSTART:20171105T070000
END:STANDARD
END:VTIMEZONE
BEGIN:VEVENT
DTSTART;TZID=America/Chicago:20170614T180000
DTEND;TZID=America/Chicago:20170614T200000
DTSTAMP:20260423T164051
CREATED:20150922T063132Z
LAST-MODIFIED:20241212T222527Z
UID:10000578-1497463200-1497470400@saclr.org
SUMMARY:DASH (Wednesday)
DESCRIPTION:Sixth through twelfth graders enjoy dinner at 6 p.m. Worship and teaching on Gospel basics begins at 7 p.m.
URL:https://saclr.org/event/dash-wednesday/2017-06-14/
CATEGORIES:Youth Ministry
END:VEVENT
BEGIN:VEVENT
DTSTART;TZID=America/Chicago:20170609T191000
DTEND;TZID=America/Chicago:20170609T191000
DTSTAMP:20260423T164051
CREATED:20170516T234226Z
LAST-MODIFIED:20170516T234226Z
UID:10000045-1497035400-1497035400@saclr.org
SUMMARY:Summer Family Fun Fest—Travs' Game
DESCRIPTION:In lieu of our annual three-day Vacation Bible School\, St. Andrew’s will host three churchwide\, family events. One evening each month during the summer\, everyone is invited to join us for a time of fun\, fellowship and community. \nJune 9—Arkansas Travelers’ game; 7:10 p.m. at Dickey-Stephens Park. Lawn tickets (Berm-Grass GA) are $6 for adults and $4 for children (child tickets not available online) and can be purchased online or by phone (501.664.7559).
URL:https://saclr.org/event/summer-family-fun-fest-travs-game/
END:VEVENT
BEGIN:VEVENT
DTSTART;TZID=America/Chicago:20170607T180000
DTEND;TZID=America/Chicago:20170607T203000
DTSTAMP:20260423T164051
CREATED:20150922T063533Z
LAST-MODIFIED:20150922T063533Z
UID:10000137-1496858400-1496867400@saclr.org
SUMMARY:GiG Kids
DESCRIPTION:Children whose parents attend Growing in Grace enjoy a meal together and learn the Gospel story through the Jesus Storybook Bible.
URL:https://saclr.org/event/gig-kids/2017-06-07/
CATEGORIES:Children's Ministry,Early Childhood
END:VEVENT
BEGIN:VEVENT
DTSTART;TZID=America/Chicago:20170607T180000
DTEND;TZID=America/Chicago:20170607T203000
DTSTAMP:20260423T164051
CREATED:20150922T063351Z
LAST-MODIFIED:20150922T063351Z
UID:10000351-1496858400-1496867400@saclr.org
SUMMARY:Growing in Grace (GiG)
DESCRIPTION:A complimentary dinner is followed by a recovery service and a small-group\, 12-step-style meeting.
URL:https://saclr.org/event/growing-in-grace-gig/2017-06-07/
CATEGORIES:Adult Ministry
END:VEVENT
BEGIN:VEVENT
DTSTART;TZID=America/Chicago:20170607T180000
DTEND;TZID=America/Chicago:20170607T200000
DTSTAMP:20260423T164051
CREATED:20150922T063132Z
LAST-MODIFIED:20241212T222527Z
UID:10000577-1496858400-1496865600@saclr.org
SUMMARY:DASH (Wednesday)
DESCRIPTION:Sixth through twelfth graders enjoy dinner at 6 p.m. Worship and teaching on Gospel basics begins at 7 p.m.
URL:https://saclr.org/event/dash-wednesday/2017-06-07/
CATEGORIES:Youth Ministry
END:VEVENT
BEGIN:VEVENT
DTSTART;TZID=America/Chicago:20170604T100000
DTEND;TZID=America/Chicago:20170604T110000
DTSTAMP:20260423T164051
CREATED:20170401T061622Z
LAST-MODIFIED:20170401T061622Z
UID:10000021-1496570400-1496574000@saclr.org
SUMMARY:Children's Ministry Meeting
DESCRIPTION:Those interested in ministry to children in pre-K4 through 6th grade are invited to join us in the Andrew Room to hear Robert+ and Ryan+ cast vision for the future of our children’s ministry\, explain their interim plan until a new children’s ministry director is hired\, and describe a few areas where some volunteers are needed.
URL:https://saclr.org/event/krew-parent-meeting/
LOCATION:Commons
END:VEVENT
BEGIN:VEVENT
DTSTART;TZID=America/Chicago:20170531T180000
DTEND;TZID=America/Chicago:20170531T203000
DTSTAMP:20260423T164051
CREATED:20150922T063533Z
LAST-MODIFIED:20150922T063533Z
UID:10000136-1496253600-1496262600@saclr.org
SUMMARY:GiG Kids
DESCRIPTION:Children whose parents attend Growing in Grace enjoy a meal together and learn the Gospel story through the Jesus Storybook Bible.
URL:https://saclr.org/event/gig-kids/2017-05-31/
CATEGORIES:Children's Ministry,Early Childhood
END:VEVENT
BEGIN:VEVENT
DTSTART;TZID=America/Chicago:20170531T180000
DTEND;TZID=America/Chicago:20170531T203000
DTSTAMP:20260423T164051
CREATED:20150922T063351Z
LAST-MODIFIED:20150922T063351Z
UID:10000350-1496253600-1496262600@saclr.org
SUMMARY:Growing in Grace (GiG)
DESCRIPTION:A complimentary dinner is followed by a recovery service and a small-group\, 12-step-style meeting.
URL:https://saclr.org/event/growing-in-grace-gig/2017-05-31/
CATEGORIES:Adult Ministry
END:VEVENT
BEGIN:VEVENT
DTSTART;TZID=America/Chicago:20170531T180000
DTEND;TZID=America/Chicago:20170531T200000
DTSTAMP:20260423T164051
CREATED:20150922T063132Z
LAST-MODIFIED:20241212T222527Z
UID:10000576-1496253600-1496260800@saclr.org
SUMMARY:DASH (Wednesday)
DESCRIPTION:Sixth through twelfth graders enjoy dinner at 6 p.m. Worship and teaching on Gospel basics begins at 7 p.m.
URL:https://saclr.org/event/dash-wednesday/2017-05-31/
CATEGORIES:Youth Ministry
END:VEVENT
BEGIN:VEVENT
DTSTART;TZID=America/Chicago:20170524T180000
DTEND;TZID=America/Chicago:20170524T203000
DTSTAMP:20260423T164051
CREATED:20150922T063533Z
LAST-MODIFIED:20150922T063533Z
UID:10000135-1495648800-1495657800@saclr.org
SUMMARY:GiG Kids
DESCRIPTION:Children whose parents attend Growing in Grace enjoy a meal together and learn the Gospel story through the Jesus Storybook Bible.
URL:https://saclr.org/event/gig-kids/2017-05-24/
CATEGORIES:Children's Ministry,Early Childhood
END:VEVENT
BEGIN:VEVENT
DTSTART;TZID=America/Chicago:20170524T180000
DTEND;TZID=America/Chicago:20170524T203000
DTSTAMP:20260423T164051
CREATED:20150922T063351Z
LAST-MODIFIED:20150922T063351Z
UID:10000349-1495648800-1495657800@saclr.org
SUMMARY:Growing in Grace (GiG)
DESCRIPTION:A complimentary dinner is followed by a recovery service and a small-group\, 12-step-style meeting.
URL:https://saclr.org/event/growing-in-grace-gig/2017-05-24/
CATEGORIES:Adult Ministry
END:VEVENT
BEGIN:VEVENT
DTSTART;TZID=America/Chicago:20170524T180000
DTEND;TZID=America/Chicago:20170524T200000
DTSTAMP:20260423T164051
CREATED:20150922T063132Z
LAST-MODIFIED:20241212T222527Z
UID:10000575-1495648800-1495656000@saclr.org
SUMMARY:DASH (Wednesday)
DESCRIPTION:Sixth through twelfth graders enjoy dinner at 6 p.m. Worship and teaching on Gospel basics begins at 7 p.m.
URL:https://saclr.org/event/dash-wednesday/2017-05-24/
CATEGORIES:Youth Ministry
END:VEVENT
BEGIN:VEVENT
DTSTART;TZID=America/Chicago:20170517T180000
DTEND;TZID=America/Chicago:20170517T203000
DTSTAMP:20260423T164051
CREATED:20150922T063533Z
LAST-MODIFIED:20150922T063533Z
UID:10000134-1495044000-1495053000@saclr.org
SUMMARY:GiG Kids
DESCRIPTION:Children whose parents attend Growing in Grace enjoy a meal together and learn the Gospel story through the Jesus Storybook Bible.
URL:https://saclr.org/event/gig-kids/2017-05-17/
CATEGORIES:Children's Ministry,Early Childhood
END:VEVENT
BEGIN:VEVENT
DTSTART;TZID=America/Chicago:20170517T180000
DTEND;TZID=America/Chicago:20170517T203000
DTSTAMP:20260423T164051
CREATED:20150922T063351Z
LAST-MODIFIED:20150922T063351Z
UID:10000348-1495044000-1495053000@saclr.org
SUMMARY:Growing in Grace (GiG)
DESCRIPTION:A complimentary dinner is followed by a recovery service and a small-group\, 12-step-style meeting.
URL:https://saclr.org/event/growing-in-grace-gig/2017-05-17/
CATEGORIES:Adult Ministry
END:VEVENT
BEGIN:VEVENT
DTSTART;TZID=America/Chicago:20170517T180000
DTEND;TZID=America/Chicago:20170517T200000
DTSTAMP:20260423T164051
CREATED:20150922T063132Z
LAST-MODIFIED:20241212T222527Z
UID:10000574-1495044000-1495051200@saclr.org
SUMMARY:DASH (Wednesday)
DESCRIPTION:Sixth through twelfth graders enjoy dinner at 6 p.m. Worship and teaching on Gospel basics begins at 7 p.m.
URL:https://saclr.org/event/dash-wednesday/2017-05-17/
CATEGORIES:Youth Ministry
END:VEVENT
BEGIN:VEVENT
DTSTART;TZID=America/Chicago:20170514T180000
DTEND;TZID=America/Chicago:20170514T200000
DTSTAMP:20260423T164051
CREATED:20170427T222102Z
LAST-MODIFIED:20170427T222102Z
UID:10000044-1494784800-1494792000@saclr.org
SUMMARY:Worship Night with Michael Brymer
DESCRIPTION:Michael will be back in town on May 14 and wants to worship. Join us at 6 p.m.
URL:https://saclr.org/event/worship-night-michael-brymer/
END:VEVENT
BEGIN:VEVENT
DTSTART;TZID=America/Chicago:20170511T091500
DTEND;TZID=America/Chicago:20170511T120000
DTSTAMP:20260423T164051
CREATED:20160414T204644Z
LAST-MODIFIED:20160414T204644Z
UID:10000017-1494494100-1494504000@saclr.org
SUMMARY:Beginnings Trip to the Zoo
DESCRIPTION:The Early Childhood ministry invites you and your family to join them at the zoo on Tuesday\, May 9. They’ll meet at the gate at 9:15 a.m. The cost is $3 per person (free if you have a zoo membership). Please email Jessie Smith by Monday\, April 25\, to reserve your spot (even if you have a zoo pass).
URL:https://saclr.org/event/beginnings-trip-zoo/
CATEGORIES:Early Childhood
END:VEVENT
BEGIN:VEVENT
DTSTART;TZID=America/Chicago:20170510T180000
DTEND;TZID=America/Chicago:20170510T203000
DTSTAMP:20260423T164051
CREATED:20150922T063533Z
LAST-MODIFIED:20150922T063533Z
UID:10000133-1494439200-1494448200@saclr.org
SUMMARY:GiG Kids
DESCRIPTION:Children whose parents attend Growing in Grace enjoy a meal together and learn the Gospel story through the Jesus Storybook Bible.
URL:https://saclr.org/event/gig-kids/2017-05-10/
CATEGORIES:Children's Ministry,Early Childhood
END:VEVENT
BEGIN:VEVENT
DTSTART;TZID=America/Chicago:20170510T180000
DTEND;TZID=America/Chicago:20170510T203000
DTSTAMP:20260423T164051
CREATED:20150922T063351Z
LAST-MODIFIED:20150922T063351Z
UID:10000347-1494439200-1494448200@saclr.org
SUMMARY:Growing in Grace (GiG)
DESCRIPTION:A complimentary dinner is followed by a recovery service and a small-group\, 12-step-style meeting.
URL:https://saclr.org/event/growing-in-grace-gig/2017-05-10/
CATEGORIES:Adult Ministry
END:VEVENT
BEGIN:VEVENT
DTSTART;TZID=America/Chicago:20170510T180000
DTEND;TZID=America/Chicago:20170510T200000
DTSTAMP:20260423T164051
CREATED:20150922T063132Z
LAST-MODIFIED:20241212T222527Z
UID:10000573-1494439200-1494446400@saclr.org
SUMMARY:DASH (Wednesday)
DESCRIPTION:Sixth through twelfth graders enjoy dinner at 6 p.m. Worship and teaching on Gospel basics begins at 7 p.m.
URL:https://saclr.org/event/dash-wednesday/2017-05-10/
CATEGORIES:Youth Ministry
END:VEVENT
BEGIN:VEVENT
DTSTART;VALUE=DATE:20170508
DTEND;VALUE=DATE:20170510
DTSTAMP:20260423T164051
CREATED:20170427T222013Z
LAST-MODIFIED:20170427T222013Z
UID:10000043-1494201600-1494374399@saclr.org
SUMMARY:Staff Retreat
DESCRIPTION:The staff will be off site for a planning retreat.
URL:https://saclr.org/event/staff-retreat/
END:VEVENT
BEGIN:VEVENT
DTSTART;TZID=America/Chicago:20170503T180000
DTEND;TZID=America/Chicago:20170503T203000
DTSTAMP:20260423T164051
CREATED:20150922T063533Z
LAST-MODIFIED:20150922T063533Z
UID:10000132-1493834400-1493843400@saclr.org
SUMMARY:GiG Kids
DESCRIPTION:Children whose parents attend Growing in Grace enjoy a meal together and learn the Gospel story through the Jesus Storybook Bible.
URL:https://saclr.org/event/gig-kids/2017-05-03/
CATEGORIES:Children's Ministry,Early Childhood
END:VEVENT
BEGIN:VEVENT
DTSTART;TZID=America/Chicago:20170503T180000
DTEND;TZID=America/Chicago:20170503T203000
DTSTAMP:20260423T164051
CREATED:20150922T063351Z
LAST-MODIFIED:20150922T063351Z
UID:10000346-1493834400-1493843400@saclr.org
SUMMARY:Growing in Grace (GiG)
DESCRIPTION:A complimentary dinner is followed by a recovery service and a small-group\, 12-step-style meeting.
URL:https://saclr.org/event/growing-in-grace-gig/2017-05-03/
CATEGORIES:Adult Ministry
END:VEVENT
BEGIN:VEVENT
DTSTART;TZID=America/Chicago:20170503T180000
DTEND;TZID=America/Chicago:20170503T200000
DTSTAMP:20260423T164051
CREATED:20150922T063132Z
LAST-MODIFIED:20241212T222527Z
UID:10000572-1493834400-1493841600@saclr.org
SUMMARY:DASH (Wednesday)
DESCRIPTION:Sixth through twelfth graders enjoy dinner at 6 p.m. Worship and teaching on Gospel basics begins at 7 p.m.
URL:https://saclr.org/event/dash-wednesday/2017-05-03/
CATEGORIES:Youth Ministry
END:VEVENT
BEGIN:VEVENT
DTSTART;TZID=America/Chicago:20170430T100000
DTEND;TZID=America/Chicago:20170430T130000
DTSTAMP:20260423T164051
CREATED:20160115T025754Z
LAST-MODIFIED:20160115T025754Z
UID:10001400-1493546400-1493557200@saclr.org
SUMMARY:Spring Picnic
DESCRIPTION:Our annual spring\, churchwide picnic will be after church on Sunday\, April 30\, at the Pavilion. Fried chicken will be provided as the main dish will be provided; salads\, sides\, desserts and drinks will be potluck style. \nCombined Worship Service\nOn Sunday\, April 30\, the day of our spring picnic\, we will all worship together in one combined service beginning at 10 a.m. There will be no Sunday school or Kingdom Life classes that day.
URL:https://saclr.org/event/spring-picnic/
END:VEVENT
BEGIN:VEVENT
DTSTART;TZID=America/Chicago:20170429T180000
DTEND;TZID=America/Chicago:20170429T200000
DTSTAMP:20260423T164051
CREATED:20170123T231914Z
LAST-MODIFIED:20170123T231914Z
UID:10000040-1493488800-1493496000@saclr.org
SUMMARY:Evening of Prayer & Praise
DESCRIPTION:Join us the last Sunday of every month at 6 p.m. for our monthly Evening of Prayer & Praise. All are welcome to come and worship our God.
URL:https://saclr.org/event/evening-prayer-praise/2017-04-29/
END:VEVENT
BEGIN:VEVENT
DTSTART;TZID=America/Chicago:20170426T180000
DTEND;TZID=America/Chicago:20170426T203000
DTSTAMP:20260423T164051
CREATED:20150922T063533Z
LAST-MODIFIED:20150922T063533Z
UID:10000131-1493229600-1493238600@saclr.org
SUMMARY:GiG Kids
DESCRIPTION:Children whose parents attend Growing in Grace enjoy a meal together and learn the Gospel story through the Jesus Storybook Bible.
URL:https://saclr.org/event/gig-kids/2017-04-26/
CATEGORIES:Children's Ministry,Early Childhood
END:VEVENT
BEGIN:VEVENT
DTSTART;TZID=America/Chicago:20170426T180000
DTEND;TZID=America/Chicago:20170426T203000
DTSTAMP:20260423T164051
CREATED:20150922T063351Z
LAST-MODIFIED:20150922T063351Z
UID:10000345-1493229600-1493238600@saclr.org
SUMMARY:Growing in Grace (GiG)
DESCRIPTION:A complimentary dinner is followed by a recovery service and a small-group\, 12-step-style meeting.
URL:https://saclr.org/event/growing-in-grace-gig/2017-04-26/
CATEGORIES:Adult Ministry
END:VEVENT
BEGIN:VEVENT
DTSTART;TZID=America/Chicago:20170426T180000
DTEND;TZID=America/Chicago:20170426T200000
DTSTAMP:20260423T164051
CREATED:20150922T063132Z
LAST-MODIFIED:20241212T222527Z
UID:10000571-1493229600-1493236800@saclr.org
SUMMARY:DASH (Wednesday)
DESCRIPTION:Sixth through twelfth graders enjoy dinner at 6 p.m. Worship and teaching on Gospel basics begins at 7 p.m.
URL:https://saclr.org/event/dash-wednesday/2017-04-26/
CATEGORIES:Youth Ministry
END:VEVENT
BEGIN:VEVENT
DTSTART;TZID=America/Chicago:20170419T180000
DTEND;TZID=America/Chicago:20170419T203000
DTSTAMP:20260423T164051
CREATED:20150922T063533Z
LAST-MODIFIED:20150922T063533Z
UID:10000130-1492624800-1492633800@saclr.org
SUMMARY:GiG Kids
DESCRIPTION:Children whose parents attend Growing in Grace enjoy a meal together and learn the Gospel story through the Jesus Storybook Bible.
URL:https://saclr.org/event/gig-kids/2017-04-19/
CATEGORIES:Children's Ministry,Early Childhood
END:VEVENT
END:VCALENDAR