BEGIN:VCALENDAR
VERSION:2.0
PRODID:-//St. Andrew&#039;s Anglican Church - ECPv6.7.0//NONSGML v1.0//EN
CALSCALE:GREGORIAN
METHOD:PUBLISH
X-WR-CALNAME:St. Andrew&#039;s Anglican Church
X-ORIGINAL-URL:https://saclr.org
X-WR-CALDESC:Events for St. Andrew&#039;s Anglican Church
REFRESH-INTERVAL;VALUE=DURATION:PT1H
X-Robots-Tag:noindex
X-PUBLISHED-TTL:PT1H
BEGIN:VTIMEZONE
TZID:America/Chicago
BEGIN:DAYLIGHT
TZOFFSETFROM:-0600
TZOFFSETTO:-0500
TZNAME:CDT
DTSTART:20170312T080000
END:DAYLIGHT
BEGIN:STANDARD
TZOFFSETFROM:-0500
TZOFFSETTO:-0600
TZNAME:CST
DTSTART:20171105T070000
END:STANDARD
END:VTIMEZONE
BEGIN:VEVENT
DTSTART;TZID=America/Chicago:20170907T094500
DTEND;TZID=America/Chicago:20170907T231500
DTSTAMP:20260423T071900
CREATED:20170906T222916Z
LAST-MODIFIED:20170906T222916Z
UID:10001432-1504777500-1504826100@saclr.org
SUMMARY:BLiSS Women's Study
DESCRIPTION:BLiSS is a discussion-oriented study for moms from all seasons of life based on Gospel readings taken from the lectionary. Together we discover and discuss how God is working in our lives and how he is inviting us to respond in trust. During large group time we share their lives and hearts through story. Small group time led by mentor moms creates space for honest discussion of scripture and the Holy Spirit’s work in our lives as we are present to God and to one another. One mom has described BLiSS as a space where real life is shared by real\, beautiful\, imperfect moms. Child care for infants through preschoolers is available with pre-registration. \nRegister here. (If you do not need child care\, please put N/A for the child’s information).
URL:https://saclr.org/event/bliss-womens-study-3/2017-09-07/
LOCATION:Andrew Room
END:VEVENT
BEGIN:VEVENT
DTSTART;TZID=America/Chicago:20170906T180000
DTEND;TZID=America/Chicago:20170906T203000
DTSTAMP:20260423T071900
CREATED:20150922T063533Z
LAST-MODIFIED:20150922T063533Z
UID:10000150-1504720800-1504729800@saclr.org
SUMMARY:GiG Kids
DESCRIPTION:Children whose parents attend Growing in Grace enjoy a meal together and learn the Gospel story through the Jesus Storybook Bible.
URL:https://saclr.org/event/gig-kids/2017-09-06/
CATEGORIES:Children's Ministry,Early Childhood
END:VEVENT
BEGIN:VEVENT
DTSTART;TZID=America/Chicago:20170906T180000
DTEND;TZID=America/Chicago:20170906T203000
DTSTAMP:20260423T071900
CREATED:20150922T063351Z
LAST-MODIFIED:20150922T063351Z
UID:10000364-1504720800-1504729800@saclr.org
SUMMARY:Growing in Grace (GiG)
DESCRIPTION:A complimentary dinner is followed by a recovery service and a small-group\, 12-step-style meeting.
URL:https://saclr.org/event/growing-in-grace-gig/2017-09-06/
CATEGORIES:Adult Ministry
END:VEVENT
BEGIN:VEVENT
DTSTART;TZID=America/Chicago:20170906T180000
DTEND;TZID=America/Chicago:20170906T200000
DTSTAMP:20260423T071900
CREATED:20150922T063132Z
LAST-MODIFIED:20241212T222527Z
UID:10000590-1504720800-1504728000@saclr.org
SUMMARY:DASH (Wednesday)
DESCRIPTION:Sixth through twelfth graders enjoy dinner at 6 p.m. Worship and teaching on Gospel basics begins at 7 p.m.
URL:https://saclr.org/event/dash-wednesday/2017-09-06/
CATEGORIES:Youth Ministry
END:VEVENT
BEGIN:VEVENT
DTSTART;TZID=America/Chicago:20170830T180000
DTEND;TZID=America/Chicago:20170830T203000
DTSTAMP:20260423T071900
CREATED:20150922T063533Z
LAST-MODIFIED:20150922T063533Z
UID:10000149-1504116000-1504125000@saclr.org
SUMMARY:GiG Kids
DESCRIPTION:Children whose parents attend Growing in Grace enjoy a meal together and learn the Gospel story through the Jesus Storybook Bible.
URL:https://saclr.org/event/gig-kids/2017-08-30/
CATEGORIES:Children's Ministry,Early Childhood
END:VEVENT
BEGIN:VEVENT
DTSTART;TZID=America/Chicago:20170830T180000
DTEND;TZID=America/Chicago:20170830T203000
DTSTAMP:20260423T071900
CREATED:20150922T063351Z
LAST-MODIFIED:20150922T063351Z
UID:10000363-1504116000-1504125000@saclr.org
SUMMARY:Growing in Grace (GiG)
DESCRIPTION:A complimentary dinner is followed by a recovery service and a small-group\, 12-step-style meeting.
URL:https://saclr.org/event/growing-in-grace-gig/2017-08-30/
CATEGORIES:Adult Ministry
END:VEVENT
BEGIN:VEVENT
DTSTART;TZID=America/Chicago:20170830T180000
DTEND;TZID=America/Chicago:20170830T200000
DTSTAMP:20260423T071900
CREATED:20150922T063132Z
LAST-MODIFIED:20241212T222527Z
UID:10000589-1504116000-1504123200@saclr.org
SUMMARY:DASH (Wednesday)
DESCRIPTION:Sixth through twelfth graders enjoy dinner at 6 p.m. Worship and teaching on Gospel basics begins at 7 p.m.
URL:https://saclr.org/event/dash-wednesday/2017-08-30/
CATEGORIES:Youth Ministry
END:VEVENT
BEGIN:VEVENT
DTSTART;TZID=America/Chicago:20170823T180000
DTEND;TZID=America/Chicago:20170823T203000
DTSTAMP:20260423T071900
CREATED:20150922T063533Z
LAST-MODIFIED:20150922T063533Z
UID:10000148-1503511200-1503520200@saclr.org
SUMMARY:GiG Kids
DESCRIPTION:Children whose parents attend Growing in Grace enjoy a meal together and learn the Gospel story through the Jesus Storybook Bible.
URL:https://saclr.org/event/gig-kids/2017-08-23/
CATEGORIES:Children's Ministry,Early Childhood
END:VEVENT
BEGIN:VEVENT
DTSTART;TZID=America/Chicago:20170823T180000
DTEND;TZID=America/Chicago:20170823T203000
DTSTAMP:20260423T071900
CREATED:20150922T063351Z
LAST-MODIFIED:20150922T063351Z
UID:10000362-1503511200-1503520200@saclr.org
SUMMARY:Growing in Grace (GiG)
DESCRIPTION:A complimentary dinner is followed by a recovery service and a small-group\, 12-step-style meeting.
URL:https://saclr.org/event/growing-in-grace-gig/2017-08-23/
CATEGORIES:Adult Ministry
END:VEVENT
BEGIN:VEVENT
DTSTART;TZID=America/Chicago:20170823T180000
DTEND;TZID=America/Chicago:20170823T200000
DTSTAMP:20260423T071900
CREATED:20150922T063132Z
LAST-MODIFIED:20241212T222527Z
UID:10000588-1503511200-1503518400@saclr.org
SUMMARY:DASH (Wednesday)
DESCRIPTION:Sixth through twelfth graders enjoy dinner at 6 p.m. Worship and teaching on Gospel basics begins at 7 p.m.
URL:https://saclr.org/event/dash-wednesday/2017-08-23/
CATEGORIES:Youth Ministry
END:VEVENT
BEGIN:VEVENT
DTSTART;TZID=America/Chicago:20170816T180000
DTEND;TZID=America/Chicago:20170816T203000
DTSTAMP:20260423T071900
CREATED:20150922T063533Z
LAST-MODIFIED:20150922T063533Z
UID:10000147-1502906400-1502915400@saclr.org
SUMMARY:GiG Kids
DESCRIPTION:Children whose parents attend Growing in Grace enjoy a meal together and learn the Gospel story through the Jesus Storybook Bible.
URL:https://saclr.org/event/gig-kids/2017-08-16/
CATEGORIES:Children's Ministry,Early Childhood
END:VEVENT
BEGIN:VEVENT
DTSTART;TZID=America/Chicago:20170816T180000
DTEND;TZID=America/Chicago:20170816T203000
DTSTAMP:20260423T071900
CREATED:20150922T063351Z
LAST-MODIFIED:20150922T063351Z
UID:10000361-1502906400-1502915400@saclr.org
SUMMARY:Growing in Grace (GiG)
DESCRIPTION:A complimentary dinner is followed by a recovery service and a small-group\, 12-step-style meeting.
URL:https://saclr.org/event/growing-in-grace-gig/2017-08-16/
CATEGORIES:Adult Ministry
END:VEVENT
BEGIN:VEVENT
DTSTART;TZID=America/Chicago:20170816T180000
DTEND;TZID=America/Chicago:20170816T200000
DTSTAMP:20260423T071900
CREATED:20150922T063132Z
LAST-MODIFIED:20241212T222527Z
UID:10000587-1502906400-1502913600@saclr.org
SUMMARY:DASH (Wednesday)
DESCRIPTION:Sixth through twelfth graders enjoy dinner at 6 p.m. Worship and teaching on Gospel basics begins at 7 p.m.
URL:https://saclr.org/event/dash-wednesday/2017-08-16/
CATEGORIES:Youth Ministry
END:VEVENT
BEGIN:VEVENT
DTSTART;TZID=America/Chicago:20170811T180000
DTEND;TZID=America/Chicago:20170811T210000
DTSTAMP:20260423T071900
CREATED:20170516T234501Z
LAST-MODIFIED:20170516T234501Z
UID:10001425-1502474400-1502485200@saclr.org
SUMMARY:Summer Family Fun Fest–Movie Night
DESCRIPTION:In lieu of our annual three-day Vacation Bible School\, St. Andrew’s will host three churchwide\, family events. One evening each month during the summer\, everyone is invited to join us for a time of fun\, fellowship and community. \n  \nAugust 11—Movie Night; 6 p.m. on St. Andrew’s campus
URL:https://saclr.org/event/summer-family-fun-fest-movie-night/
END:VEVENT
BEGIN:VEVENT
DTSTART;TZID=America/Chicago:20170809T180000
DTEND;TZID=America/Chicago:20170809T203000
DTSTAMP:20260423T071900
CREATED:20150922T063533Z
LAST-MODIFIED:20150922T063533Z
UID:10000146-1502301600-1502310600@saclr.org
SUMMARY:GiG Kids
DESCRIPTION:Children whose parents attend Growing in Grace enjoy a meal together and learn the Gospel story through the Jesus Storybook Bible.
URL:https://saclr.org/event/gig-kids/2017-08-09/
CATEGORIES:Children's Ministry,Early Childhood
END:VEVENT
BEGIN:VEVENT
DTSTART;TZID=America/Chicago:20170809T180000
DTEND;TZID=America/Chicago:20170809T203000
DTSTAMP:20260423T071900
CREATED:20150922T063351Z
LAST-MODIFIED:20150922T063351Z
UID:10000360-1502301600-1502310600@saclr.org
SUMMARY:Growing in Grace (GiG)
DESCRIPTION:A complimentary dinner is followed by a recovery service and a small-group\, 12-step-style meeting.
URL:https://saclr.org/event/growing-in-grace-gig/2017-08-09/
CATEGORIES:Adult Ministry
END:VEVENT
BEGIN:VEVENT
DTSTART;TZID=America/Chicago:20170809T180000
DTEND;TZID=America/Chicago:20170809T200000
DTSTAMP:20260423T071900
CREATED:20150922T063132Z
LAST-MODIFIED:20241212T222527Z
UID:10000586-1502301600-1502308800@saclr.org
SUMMARY:DASH (Wednesday)
DESCRIPTION:Sixth through twelfth graders enjoy dinner at 6 p.m. Worship and teaching on Gospel basics begins at 7 p.m.
URL:https://saclr.org/event/dash-wednesday/2017-08-09/
CATEGORIES:Youth Ministry
END:VEVENT
BEGIN:VEVENT
DTSTART;TZID=America/Chicago:20170802T180000
DTEND;TZID=America/Chicago:20170802T203000
DTSTAMP:20260423T071900
CREATED:20150922T063533Z
LAST-MODIFIED:20150922T063533Z
UID:10000145-1501696800-1501705800@saclr.org
SUMMARY:GiG Kids
DESCRIPTION:Children whose parents attend Growing in Grace enjoy a meal together and learn the Gospel story through the Jesus Storybook Bible.
URL:https://saclr.org/event/gig-kids/2017-08-02/
CATEGORIES:Children's Ministry,Early Childhood
END:VEVENT
BEGIN:VEVENT
DTSTART;TZID=America/Chicago:20170802T180000
DTEND;TZID=America/Chicago:20170802T203000
DTSTAMP:20260423T071900
CREATED:20150922T063351Z
LAST-MODIFIED:20150922T063351Z
UID:10000359-1501696800-1501705800@saclr.org
SUMMARY:Growing in Grace (GiG)
DESCRIPTION:A complimentary dinner is followed by a recovery service and a small-group\, 12-step-style meeting.
URL:https://saclr.org/event/growing-in-grace-gig/2017-08-02/
CATEGORIES:Adult Ministry
END:VEVENT
BEGIN:VEVENT
DTSTART;TZID=America/Chicago:20170802T180000
DTEND;TZID=America/Chicago:20170802T200000
DTSTAMP:20260423T071900
CREATED:20150922T063132Z
LAST-MODIFIED:20241212T222527Z
UID:10000585-1501696800-1501704000@saclr.org
SUMMARY:DASH (Wednesday)
DESCRIPTION:Sixth through twelfth graders enjoy dinner at 6 p.m. Worship and teaching on Gospel basics begins at 7 p.m.
URL:https://saclr.org/event/dash-wednesday/2017-08-02/
CATEGORIES:Youth Ministry
END:VEVENT
BEGIN:VEVENT
DTSTART;TZID=America/Chicago:20170726T180000
DTEND;TZID=America/Chicago:20170726T203000
DTSTAMP:20260423T071900
CREATED:20150922T063533Z
LAST-MODIFIED:20150922T063533Z
UID:10000144-1501092000-1501101000@saclr.org
SUMMARY:GiG Kids
DESCRIPTION:Children whose parents attend Growing in Grace enjoy a meal together and learn the Gospel story through the Jesus Storybook Bible.
URL:https://saclr.org/event/gig-kids/2017-07-26/
CATEGORIES:Children's Ministry,Early Childhood
END:VEVENT
BEGIN:VEVENT
DTSTART;TZID=America/Chicago:20170726T180000
DTEND;TZID=America/Chicago:20170726T203000
DTSTAMP:20260423T071900
CREATED:20150922T063351Z
LAST-MODIFIED:20150922T063351Z
UID:10000358-1501092000-1501101000@saclr.org
SUMMARY:Growing in Grace (GiG)
DESCRIPTION:A complimentary dinner is followed by a recovery service and a small-group\, 12-step-style meeting.
URL:https://saclr.org/event/growing-in-grace-gig/2017-07-26/
CATEGORIES:Adult Ministry
END:VEVENT
BEGIN:VEVENT
DTSTART;TZID=America/Chicago:20170726T180000
DTEND;TZID=America/Chicago:20170726T200000
DTSTAMP:20260423T071900
CREATED:20150922T063132Z
LAST-MODIFIED:20241212T222527Z
UID:10000584-1501092000-1501099200@saclr.org
SUMMARY:DASH (Wednesday)
DESCRIPTION:Sixth through twelfth graders enjoy dinner at 6 p.m. Worship and teaching on Gospel basics begins at 7 p.m.
URL:https://saclr.org/event/dash-wednesday/2017-07-26/
CATEGORIES:Youth Ministry
END:VEVENT
BEGIN:VEVENT
DTSTART;TZID=America/Chicago:20170722T090000
DTEND;TZID=America/Chicago:20170722T110000
DTSTAMP:20260423T071900
CREATED:20170712T191223Z
LAST-MODIFIED:20170712T191223Z
UID:10001426-1500714000-1500721200@saclr.org
SUMMARY:Prayer Walk
DESCRIPTION:God can do great things with a few small steps of obedience. Everyone is encouraged to participate in our churchwide prayer walk from 9-11 a.m. on July 22. After a brief meeting at St. Andrew’s\, we will go out in small groups to explore our neighborhood\, blessing and interceding as the Lord leads. By being prayerfully present in our neighborhood\, we trust that God will increase our love for the people living and working around us and open new doors to share his love.
URL:https://saclr.org/event/prayer-walk/
END:VEVENT
BEGIN:VEVENT
DTSTART;TZID=America/Chicago:20170719T180000
DTEND;TZID=America/Chicago:20170719T203000
DTSTAMP:20260423T071900
CREATED:20150922T063533Z
LAST-MODIFIED:20150922T063533Z
UID:10000143-1500487200-1500496200@saclr.org
SUMMARY:GiG Kids
DESCRIPTION:Children whose parents attend Growing in Grace enjoy a meal together and learn the Gospel story through the Jesus Storybook Bible.
URL:https://saclr.org/event/gig-kids/2017-07-19/
CATEGORIES:Children's Ministry,Early Childhood
END:VEVENT
BEGIN:VEVENT
DTSTART;TZID=America/Chicago:20170719T180000
DTEND;TZID=America/Chicago:20170719T203000
DTSTAMP:20260423T071900
CREATED:20150922T063351Z
LAST-MODIFIED:20150922T063351Z
UID:10000357-1500487200-1500496200@saclr.org
SUMMARY:Growing in Grace (GiG)
DESCRIPTION:A complimentary dinner is followed by a recovery service and a small-group\, 12-step-style meeting.
URL:https://saclr.org/event/growing-in-grace-gig/2017-07-19/
CATEGORIES:Adult Ministry
END:VEVENT
BEGIN:VEVENT
DTSTART;TZID=America/Chicago:20170719T180000
DTEND;TZID=America/Chicago:20170719T200000
DTSTAMP:20260423T071900
CREATED:20150922T063132Z
LAST-MODIFIED:20241212T222527Z
UID:10000583-1500487200-1500494400@saclr.org
SUMMARY:DASH (Wednesday)
DESCRIPTION:Sixth through twelfth graders enjoy dinner at 6 p.m. Worship and teaching on Gospel basics begins at 7 p.m.
URL:https://saclr.org/event/dash-wednesday/2017-07-19/
CATEGORIES:Youth Ministry
END:VEVENT
BEGIN:VEVENT
DTSTART;TZID=America/Chicago:20170714T180000
DTEND;TZID=America/Chicago:20170714T210000
DTSTAMP:20260423T071900
CREATED:20170516T234353Z
LAST-MODIFIED:20170516T234353Z
UID:10001424-1500055200-1500066000@saclr.org
SUMMARY:Summer Family Fun Fest–Food Truck Friday
DESCRIPTION:In lieu of our annual three-day Vacation Bible School\, St. Andrew’s will host three churchwide\, family events. One evening each month during the summer\, everyone is invited to join us for a time of fun\, fellowship and community. \nJuly 14—Food Truck Friday; 6 p.m. on St. Andrew’s campus
URL:https://saclr.org/event/summer-family-fun-fest-food-truck-friday/
END:VEVENT
BEGIN:VEVENT
DTSTART;TZID=America/Chicago:20170712T180000
DTEND;TZID=America/Chicago:20170712T203000
DTSTAMP:20260423T071900
CREATED:20150922T063533Z
LAST-MODIFIED:20150922T063533Z
UID:10000142-1499882400-1499891400@saclr.org
SUMMARY:GiG Kids
DESCRIPTION:Children whose parents attend Growing in Grace enjoy a meal together and learn the Gospel story through the Jesus Storybook Bible.
URL:https://saclr.org/event/gig-kids/2017-07-12/
CATEGORIES:Children's Ministry,Early Childhood
END:VEVENT
BEGIN:VEVENT
DTSTART;TZID=America/Chicago:20170712T180000
DTEND;TZID=America/Chicago:20170712T203000
DTSTAMP:20260423T071900
CREATED:20150922T063351Z
LAST-MODIFIED:20150922T063351Z
UID:10000356-1499882400-1499891400@saclr.org
SUMMARY:Growing in Grace (GiG)
DESCRIPTION:A complimentary dinner is followed by a recovery service and a small-group\, 12-step-style meeting.
URL:https://saclr.org/event/growing-in-grace-gig/2017-07-12/
CATEGORIES:Adult Ministry
END:VEVENT
END:VCALENDAR