BEGIN:VCALENDAR
VERSION:2.0
PRODID:-//St. Andrew&#039;s Anglican Church - ECPv6.7.0//NONSGML v1.0//EN
CALSCALE:GREGORIAN
METHOD:PUBLISH
X-WR-CALNAME:St. Andrew&#039;s Anglican Church
X-ORIGINAL-URL:https://saclr.org
X-WR-CALDESC:Events for St. Andrew&#039;s Anglican Church
REFRESH-INTERVAL;VALUE=DURATION:PT1H
X-Robots-Tag:noindex
X-PUBLISHED-TTL:PT1H
BEGIN:VTIMEZONE
TZID:America/Chicago
BEGIN:DAYLIGHT
TZOFFSETFROM:-0600
TZOFFSETTO:-0500
TZNAME:CDT
DTSTART:20170312T080000
END:DAYLIGHT
BEGIN:STANDARD
TZOFFSETFROM:-0500
TZOFFSETTO:-0600
TZNAME:CST
DTSTART:20171105T070000
END:STANDARD
END:VTIMEZONE
BEGIN:VEVENT
DTSTART;TZID=America/Chicago:20171129T180000
DTEND;TZID=America/Chicago:20171129T200000
DTSTAMP:20260423T040242
CREATED:20150922T063132Z
LAST-MODIFIED:20241212T222527Z
UID:10000602-1511978400-1511985600@saclr.org
SUMMARY:DASH (Wednesday)
DESCRIPTION:Sixth through twelfth graders enjoy dinner at 6 p.m. Worship and teaching on Gospel basics begins at 7 p.m.
URL:https://saclr.org/event/dash-wednesday/2017-11-29/
CATEGORIES:Youth Ministry
END:VEVENT
BEGIN:VEVENT
DTSTART;TZID=America/Chicago:20171123T094500
DTEND;TZID=America/Chicago:20171123T231500
DTSTAMP:20260423T040242
CREATED:20170906T222916Z
LAST-MODIFIED:20170906T222916Z
UID:10001433-1511430300-1511478900@saclr.org
SUMMARY:BLiSS Women's Study
DESCRIPTION:BLiSS is a discussion-oriented study for moms from all seasons of life based on Gospel readings taken from the lectionary. Together we discover and discuss how God is working in our lives and how he is inviting us to respond in trust. During large group time we share their lives and hearts through story. Small group time led by mentor moms creates space for honest discussion of scripture and the Holy Spirit’s work in our lives as we are present to God and to one another. One mom has described BLiSS as a space where real life is shared by real\, beautiful\, imperfect moms. Child care for infants through preschoolers is available with pre-registration. \nRegister here. (If you do not need child care\, please put N/A for the child’s information).
URL:https://saclr.org/event/bliss-womens-study-3/2017-11-23/
LOCATION:Andrew Room
END:VEVENT
BEGIN:VEVENT
DTSTART;TZID=America/Chicago:20171122T180000
DTEND;TZID=America/Chicago:20171122T203000
DTSTAMP:20260423T040242
CREATED:20150922T063533Z
LAST-MODIFIED:20150922T063533Z
UID:10000161-1511373600-1511382600@saclr.org
SUMMARY:GiG Kids
DESCRIPTION:Children whose parents attend Growing in Grace enjoy a meal together and learn the Gospel story through the Jesus Storybook Bible.
URL:https://saclr.org/event/gig-kids/2017-11-22/
CATEGORIES:Children's Ministry,Early Childhood
END:VEVENT
BEGIN:VEVENT
DTSTART;TZID=America/Chicago:20171122T180000
DTEND;TZID=America/Chicago:20171122T203000
DTSTAMP:20260423T040242
CREATED:20150922T063351Z
LAST-MODIFIED:20150922T063351Z
UID:10000375-1511373600-1511382600@saclr.org
SUMMARY:Growing in Grace (GiG)
DESCRIPTION:A complimentary dinner is followed by a recovery service and a small-group\, 12-step-style meeting.
URL:https://saclr.org/event/growing-in-grace-gig/2017-11-22/
CATEGORIES:Adult Ministry
END:VEVENT
BEGIN:VEVENT
DTSTART;TZID=America/Chicago:20171122T180000
DTEND;TZID=America/Chicago:20171122T200000
DTSTAMP:20260423T040242
CREATED:20150922T063132Z
LAST-MODIFIED:20241212T222527Z
UID:10000601-1511373600-1511380800@saclr.org
SUMMARY:DASH (Wednesday)
DESCRIPTION:Sixth through twelfth graders enjoy dinner at 6 p.m. Worship and teaching on Gospel basics begins at 7 p.m.
URL:https://saclr.org/event/dash-wednesday/2017-11-22/
CATEGORIES:Youth Ministry
END:VEVENT
BEGIN:VEVENT
DTSTART;TZID=America/Chicago:20171119T180000
DTEND;TZID=America/Chicago:20171119T193000
DTSTAMP:20260423T040242
CREATED:20171116T221623Z
LAST-MODIFIED:20171116T221623Z
UID:10001748-1511114400-1511119800@saclr.org
SUMMARY:Evening of Prayer & Praise
DESCRIPTION:
URL:https://saclr.org/event/evening-prayer-praise-2/
END:VEVENT
BEGIN:VEVENT
DTSTART;TZID=America/Chicago:20171115T180000
DTEND;TZID=America/Chicago:20171115T203000
DTSTAMP:20260423T040242
CREATED:20150922T063533Z
LAST-MODIFIED:20150922T063533Z
UID:10000160-1510768800-1510777800@saclr.org
SUMMARY:GiG Kids
DESCRIPTION:Children whose parents attend Growing in Grace enjoy a meal together and learn the Gospel story through the Jesus Storybook Bible.
URL:https://saclr.org/event/gig-kids/2017-11-15/
CATEGORIES:Children's Ministry,Early Childhood
END:VEVENT
BEGIN:VEVENT
DTSTART;TZID=America/Chicago:20171115T180000
DTEND;TZID=America/Chicago:20171115T203000
DTSTAMP:20260423T040242
CREATED:20150922T063351Z
LAST-MODIFIED:20150922T063351Z
UID:10000374-1510768800-1510777800@saclr.org
SUMMARY:Growing in Grace (GiG)
DESCRIPTION:A complimentary dinner is followed by a recovery service and a small-group\, 12-step-style meeting.
URL:https://saclr.org/event/growing-in-grace-gig/2017-11-15/
CATEGORIES:Adult Ministry
END:VEVENT
BEGIN:VEVENT
DTSTART;TZID=America/Chicago:20171115T180000
DTEND;TZID=America/Chicago:20171115T200000
DTSTAMP:20260423T040242
CREATED:20150922T063132Z
LAST-MODIFIED:20241212T222527Z
UID:10000600-1510768800-1510776000@saclr.org
SUMMARY:DASH (Wednesday)
DESCRIPTION:Sixth through twelfth graders enjoy dinner at 6 p.m. Worship and teaching on Gospel basics begins at 7 p.m.
URL:https://saclr.org/event/dash-wednesday/2017-11-15/
CATEGORIES:Youth Ministry
END:VEVENT
BEGIN:VEVENT
DTSTART;TZID=America/Chicago:20171108T180000
DTEND;TZID=America/Chicago:20171108T203000
DTSTAMP:20260423T040242
CREATED:20150922T063533Z
LAST-MODIFIED:20150922T063533Z
UID:10000159-1510164000-1510173000@saclr.org
SUMMARY:GiG Kids
DESCRIPTION:Children whose parents attend Growing in Grace enjoy a meal together and learn the Gospel story through the Jesus Storybook Bible.
URL:https://saclr.org/event/gig-kids/2017-11-08/
CATEGORIES:Children's Ministry,Early Childhood
END:VEVENT
BEGIN:VEVENT
DTSTART;TZID=America/Chicago:20171108T180000
DTEND;TZID=America/Chicago:20171108T203000
DTSTAMP:20260423T040242
CREATED:20150922T063351Z
LAST-MODIFIED:20150922T063351Z
UID:10000373-1510164000-1510173000@saclr.org
SUMMARY:Growing in Grace (GiG)
DESCRIPTION:A complimentary dinner is followed by a recovery service and a small-group\, 12-step-style meeting.
URL:https://saclr.org/event/growing-in-grace-gig/2017-11-08/
CATEGORIES:Adult Ministry
END:VEVENT
BEGIN:VEVENT
DTSTART;TZID=America/Chicago:20171108T180000
DTEND;TZID=America/Chicago:20171108T200000
DTSTAMP:20260423T040242
CREATED:20150922T063132Z
LAST-MODIFIED:20241212T222527Z
UID:10000599-1510164000-1510171200@saclr.org
SUMMARY:DASH (Wednesday)
DESCRIPTION:Sixth through twelfth graders enjoy dinner at 6 p.m. Worship and teaching on Gospel basics begins at 7 p.m.
URL:https://saclr.org/event/dash-wednesday/2017-11-08/
CATEGORIES:Youth Ministry
END:VEVENT
BEGIN:VEVENT
DTSTART;TZID=America/Chicago:20171101T180000
DTEND;TZID=America/Chicago:20171101T203000
DTSTAMP:20260423T040242
CREATED:20150922T063533Z
LAST-MODIFIED:20150922T063533Z
UID:10000158-1509559200-1509568200@saclr.org
SUMMARY:GiG Kids
DESCRIPTION:Children whose parents attend Growing in Grace enjoy a meal together and learn the Gospel story through the Jesus Storybook Bible.
URL:https://saclr.org/event/gig-kids/2017-11-01/
CATEGORIES:Children's Ministry,Early Childhood
END:VEVENT
BEGIN:VEVENT
DTSTART;TZID=America/Chicago:20171101T180000
DTEND;TZID=America/Chicago:20171101T203000
DTSTAMP:20260423T040242
CREATED:20150922T063351Z
LAST-MODIFIED:20150922T063351Z
UID:10000372-1509559200-1509568200@saclr.org
SUMMARY:Growing in Grace (GiG)
DESCRIPTION:A complimentary dinner is followed by a recovery service and a small-group\, 12-step-style meeting.
URL:https://saclr.org/event/growing-in-grace-gig/2017-11-01/
CATEGORIES:Adult Ministry
END:VEVENT
BEGIN:VEVENT
DTSTART;TZID=America/Chicago:20171101T180000
DTEND;TZID=America/Chicago:20171101T200000
DTSTAMP:20260423T040243
CREATED:20150922T063132Z
LAST-MODIFIED:20241212T222527Z
UID:10000598-1509559200-1509566400@saclr.org
SUMMARY:DASH (Wednesday)
DESCRIPTION:Sixth through twelfth graders enjoy dinner at 6 p.m. Worship and teaching on Gospel basics begins at 7 p.m.
URL:https://saclr.org/event/dash-wednesday/2017-11-01/
CATEGORIES:Youth Ministry
END:VEVENT
BEGIN:VEVENT
DTSTART;TZID=America/Chicago:20171025T180000
DTEND;TZID=America/Chicago:20171025T203000
DTSTAMP:20260423T040243
CREATED:20150922T063533Z
LAST-MODIFIED:20150922T063533Z
UID:10000157-1508954400-1508963400@saclr.org
SUMMARY:GiG Kids
DESCRIPTION:Children whose parents attend Growing in Grace enjoy a meal together and learn the Gospel story through the Jesus Storybook Bible.
URL:https://saclr.org/event/gig-kids/2017-10-25/
CATEGORIES:Children's Ministry,Early Childhood
END:VEVENT
BEGIN:VEVENT
DTSTART;TZID=America/Chicago:20171025T180000
DTEND;TZID=America/Chicago:20171025T203000
DTSTAMP:20260423T040243
CREATED:20150922T063351Z
LAST-MODIFIED:20150922T063351Z
UID:10000371-1508954400-1508963400@saclr.org
SUMMARY:Growing in Grace (GiG)
DESCRIPTION:A complimentary dinner is followed by a recovery service and a small-group\, 12-step-style meeting.
URL:https://saclr.org/event/growing-in-grace-gig/2017-10-25/
CATEGORIES:Adult Ministry
END:VEVENT
BEGIN:VEVENT
DTSTART;TZID=America/Chicago:20171025T180000
DTEND;TZID=America/Chicago:20171025T200000
DTSTAMP:20260423T040243
CREATED:20150922T063132Z
LAST-MODIFIED:20241212T222527Z
UID:10000597-1508954400-1508961600@saclr.org
SUMMARY:DASH (Wednesday)
DESCRIPTION:Sixth through twelfth graders enjoy dinner at 6 p.m. Worship and teaching on Gospel basics begins at 7 p.m.
URL:https://saclr.org/event/dash-wednesday/2017-10-25/
CATEGORIES:Youth Ministry
END:VEVENT
BEGIN:VEVENT
DTSTART;TZID=America/Chicago:20171018T180000
DTEND;TZID=America/Chicago:20171018T203000
DTSTAMP:20260423T040243
CREATED:20150922T063533Z
LAST-MODIFIED:20150922T063533Z
UID:10000156-1508349600-1508358600@saclr.org
SUMMARY:GiG Kids
DESCRIPTION:Children whose parents attend Growing in Grace enjoy a meal together and learn the Gospel story through the Jesus Storybook Bible.
URL:https://saclr.org/event/gig-kids/2017-10-18/
CATEGORIES:Children's Ministry,Early Childhood
END:VEVENT
BEGIN:VEVENT
DTSTART;TZID=America/Chicago:20171018T180000
DTEND;TZID=America/Chicago:20171018T203000
DTSTAMP:20260423T040243
CREATED:20150922T063351Z
LAST-MODIFIED:20150922T063351Z
UID:10000370-1508349600-1508358600@saclr.org
SUMMARY:Growing in Grace (GiG)
DESCRIPTION:A complimentary dinner is followed by a recovery service and a small-group\, 12-step-style meeting.
URL:https://saclr.org/event/growing-in-grace-gig/2017-10-18/
CATEGORIES:Adult Ministry
END:VEVENT
BEGIN:VEVENT
DTSTART;TZID=America/Chicago:20171018T180000
DTEND;TZID=America/Chicago:20171018T200000
DTSTAMP:20260423T040243
CREATED:20150922T063132Z
LAST-MODIFIED:20241212T222527Z
UID:10000596-1508349600-1508356800@saclr.org
SUMMARY:DASH (Wednesday)
DESCRIPTION:Sixth through twelfth graders enjoy dinner at 6 p.m. Worship and teaching on Gospel basics begins at 7 p.m.
URL:https://saclr.org/event/dash-wednesday/2017-10-18/
CATEGORIES:Youth Ministry
END:VEVENT
BEGIN:VEVENT
DTSTART;TZID=America/Chicago:20171011T180000
DTEND;TZID=America/Chicago:20171011T203000
DTSTAMP:20260423T040243
CREATED:20150922T063533Z
LAST-MODIFIED:20150922T063533Z
UID:10000155-1507744800-1507753800@saclr.org
SUMMARY:GiG Kids
DESCRIPTION:Children whose parents attend Growing in Grace enjoy a meal together and learn the Gospel story through the Jesus Storybook Bible.
URL:https://saclr.org/event/gig-kids/2017-10-11/
CATEGORIES:Children's Ministry,Early Childhood
END:VEVENT
BEGIN:VEVENT
DTSTART;TZID=America/Chicago:20171011T180000
DTEND;TZID=America/Chicago:20171011T203000
DTSTAMP:20260423T040243
CREATED:20150922T063351Z
LAST-MODIFIED:20150922T063351Z
UID:10000369-1507744800-1507753800@saclr.org
SUMMARY:Growing in Grace (GiG)
DESCRIPTION:A complimentary dinner is followed by a recovery service and a small-group\, 12-step-style meeting.
URL:https://saclr.org/event/growing-in-grace-gig/2017-10-11/
CATEGORIES:Adult Ministry
END:VEVENT
BEGIN:VEVENT
DTSTART;TZID=America/Chicago:20171011T180000
DTEND;TZID=America/Chicago:20171011T200000
DTSTAMP:20260423T040243
CREATED:20150922T063132Z
LAST-MODIFIED:20241212T222527Z
UID:10000595-1507744800-1507752000@saclr.org
SUMMARY:DASH (Wednesday)
DESCRIPTION:Sixth through twelfth graders enjoy dinner at 6 p.m. Worship and teaching on Gospel basics begins at 7 p.m.
URL:https://saclr.org/event/dash-wednesday/2017-10-11/
CATEGORIES:Youth Ministry
END:VEVENT
BEGIN:VEVENT
DTSTART;TZID=America/Chicago:20171004T180000
DTEND;TZID=America/Chicago:20171004T203000
DTSTAMP:20260423T040243
CREATED:20150922T063533Z
LAST-MODIFIED:20150922T063533Z
UID:10000154-1507140000-1507149000@saclr.org
SUMMARY:GiG Kids
DESCRIPTION:Children whose parents attend Growing in Grace enjoy a meal together and learn the Gospel story through the Jesus Storybook Bible.
URL:https://saclr.org/event/gig-kids/2017-10-04/
CATEGORIES:Children's Ministry,Early Childhood
END:VEVENT
BEGIN:VEVENT
DTSTART;TZID=America/Chicago:20171004T180000
DTEND;TZID=America/Chicago:20171004T203000
DTSTAMP:20260423T040243
CREATED:20150922T063351Z
LAST-MODIFIED:20150922T063351Z
UID:10000368-1507140000-1507149000@saclr.org
SUMMARY:Growing in Grace (GiG)
DESCRIPTION:A complimentary dinner is followed by a recovery service and a small-group\, 12-step-style meeting.
URL:https://saclr.org/event/growing-in-grace-gig/2017-10-04/
CATEGORIES:Adult Ministry
END:VEVENT
BEGIN:VEVENT
DTSTART;TZID=America/Chicago:20171004T180000
DTEND;TZID=America/Chicago:20171004T200000
DTSTAMP:20260423T040243
CREATED:20150922T063132Z
LAST-MODIFIED:20241212T222527Z
UID:10000594-1507140000-1507147200@saclr.org
SUMMARY:DASH (Wednesday)
DESCRIPTION:Sixth through twelfth graders enjoy dinner at 6 p.m. Worship and teaching on Gospel basics begins at 7 p.m.
URL:https://saclr.org/event/dash-wednesday/2017-10-04/
CATEGORIES:Youth Ministry
END:VEVENT
BEGIN:VEVENT
DTSTART;TZID=America/Chicago:20171004T094000
DTEND;TZID=America/Chicago:20171004T120000
DTSTAMP:20260423T040243
CREATED:20170906T223731Z
LAST-MODIFIED:20170906T223731Z
UID:10001446-1507110000-1507118400@saclr.org
SUMMARY:Pumpkin Patch Trip
DESCRIPTION:All families are invited to meet us at the Bo Brook Farms pumpkin patch in Roland at 9:45 a.m.\, on Wednesday\, October 4. The cost is $3/person\, which includes a hayride\, corn pit\, hay maze\, farm zoo and a small pumpkin for each child (please make checks payable to St. Andrew’s Church). There will be picnic tables available for us to use\, so please feel free to bring a picnic lunch. Please contact Jessie by Monday\, October 2\, to reserve your spot with our group.
URL:https://saclr.org/event/pumpkin-patch-trip-2/
CATEGORIES:Early Childhood
END:VEVENT
BEGIN:VEVENT
DTSTART;TZID=America/Chicago:20171002T180000
DTEND;TZID=America/Chicago:20171002T200000
DTSTAMP:20260423T040243
CREATED:20170906T223034Z
LAST-MODIFIED:20170906T223034Z
UID:10001444-1506967200-1506974400@saclr.org
SUMMARY:Discipleship With Jesus As Our Guide
DESCRIPTION:
URL:https://saclr.org/event/discipleship-jesus-guide/2017-10-02/
LOCATION:Andrew Room
END:VEVENT
BEGIN:VEVENT
DTSTART;TZID=America/Chicago:20170927T180000
DTEND;TZID=America/Chicago:20170927T203000
DTSTAMP:20260423T040243
CREATED:20150922T063533Z
LAST-MODIFIED:20150922T063533Z
UID:10000153-1506535200-1506544200@saclr.org
SUMMARY:GiG Kids
DESCRIPTION:Children whose parents attend Growing in Grace enjoy a meal together and learn the Gospel story through the Jesus Storybook Bible.
URL:https://saclr.org/event/gig-kids/2017-09-27/
CATEGORIES:Children's Ministry,Early Childhood
END:VEVENT
END:VCALENDAR