BEGIN:VCALENDAR
VERSION:2.0
PRODID:-//St. Andrew&#039;s Anglican Church - ECPv6.7.0//NONSGML v1.0//EN
CALSCALE:GREGORIAN
METHOD:PUBLISH
X-WR-CALNAME:St. Andrew&#039;s Anglican Church
X-ORIGINAL-URL:https://saclr.org
X-WR-CALDESC:Events for St. Andrew&#039;s Anglican Church
REFRESH-INTERVAL;VALUE=DURATION:PT1H
X-Robots-Tag:noindex
X-PUBLISHED-TTL:PT1H
BEGIN:VTIMEZONE
TZID:America/Chicago
BEGIN:DAYLIGHT
TZOFFSETFROM:-0600
TZOFFSETTO:-0500
TZNAME:CDT
DTSTART:20170312T080000
END:DAYLIGHT
BEGIN:STANDARD
TZOFFSETFROM:-0500
TZOFFSETTO:-0600
TZNAME:CST
DTSTART:20171105T070000
END:STANDARD
BEGIN:DAYLIGHT
TZOFFSETFROM:-0600
TZOFFSETTO:-0500
TZNAME:CDT
DTSTART:20180311T080000
END:DAYLIGHT
BEGIN:STANDARD
TZOFFSETFROM:-0500
TZOFFSETTO:-0600
TZNAME:CST
DTSTART:20181104T070000
END:STANDARD
END:VTIMEZONE
BEGIN:VEVENT
DTSTART;TZID=America/Chicago:20180214T180000
DTEND;TZID=America/Chicago:20180214T203000
DTSTAMP:20260423T061427
CREATED:20150922T063351Z
LAST-MODIFIED:20150922T063351Z
UID:10000387-1518631200-1518640200@saclr.org
SUMMARY:Growing in Grace (GiG)
DESCRIPTION:A complimentary dinner is followed by a recovery service and a small-group\, 12-step-style meeting.
URL:https://saclr.org/event/growing-in-grace-gig/2018-02-14/
CATEGORIES:Adult Ministry
END:VEVENT
BEGIN:VEVENT
DTSTART;TZID=America/Chicago:20180214T180000
DTEND;TZID=America/Chicago:20180214T200000
DTSTAMP:20260423T061427
CREATED:20150922T063132Z
LAST-MODIFIED:20241212T222527Z
UID:10000613-1518631200-1518638400@saclr.org
SUMMARY:DASH (Wednesday)
DESCRIPTION:Sixth through twelfth graders enjoy dinner at 6 p.m. Worship and teaching on Gospel basics begins at 7 p.m.
URL:https://saclr.org/event/dash-wednesday/2018-02-14/
CATEGORIES:Youth Ministry
END:VEVENT
BEGIN:VEVENT
DTSTART;TZID=America/Chicago:20180211T190000
DTEND;TZID=America/Chicago:20180211T200000
DTSTAMP:20260423T061427
CREATED:20180111T235948Z
LAST-MODIFIED:20180111T235948Z
UID:10001746-1518375600-1518379200@saclr.org
SUMMARY:Time of Preparation for Lent
DESCRIPTION:Please join us from 7-8 p.m. each evening from Sunday\, February 11–Tuesday\, February 13 for a time of preparation for Lent. This will be a time for us to create space in our busy lives\, to slow down and turn to the Lord to see what he wants to show us. Robert has asked that we all clear out our evenings the beginning of that week to make time to gather in the sanctuary for worship music\, prayer and scripture reading. \nCHILD CARE VOUCHER\nIn an effort to incorporate our families with young children and in lieu of on-site child care\, we are offering a $30 voucher for each evening you attend the Time of Preparation services. It is our desire to serve your family and bless you. Please pick up the voucher form each evening and return the completed forms to Kathy Stephenson in the office by February 19. Checks will be issued one week after receipts are turned in. Auditing principles prevent us from reimbursing you for any family member who would be keeping your children.
URL:https://saclr.org/event/time-preparation-lent/2018-02-11/
END:VEVENT
BEGIN:VEVENT
DTSTART;TZID=America/Chicago:20180207T180000
DTEND;TZID=America/Chicago:20180207T203000
DTSTAMP:20260423T061427
CREATED:20150922T063533Z
LAST-MODIFIED:20150922T063533Z
UID:10000172-1518026400-1518035400@saclr.org
SUMMARY:GiG Kids
DESCRIPTION:Children whose parents attend Growing in Grace enjoy a meal together and learn the Gospel story through the Jesus Storybook Bible.
URL:https://saclr.org/event/gig-kids/2018-02-07/
CATEGORIES:Children's Ministry,Early Childhood
END:VEVENT
BEGIN:VEVENT
DTSTART;TZID=America/Chicago:20180207T180000
DTEND;TZID=America/Chicago:20180207T203000
DTSTAMP:20260423T061427
CREATED:20150922T063351Z
LAST-MODIFIED:20150922T063351Z
UID:10000386-1518026400-1518035400@saclr.org
SUMMARY:Growing in Grace (GiG)
DESCRIPTION:A complimentary dinner is followed by a recovery service and a small-group\, 12-step-style meeting.
URL:https://saclr.org/event/growing-in-grace-gig/2018-02-07/
CATEGORIES:Adult Ministry
END:VEVENT
BEGIN:VEVENT
DTSTART;TZID=America/Chicago:20180207T180000
DTEND;TZID=America/Chicago:20180207T200000
DTSTAMP:20260423T061427
CREATED:20150922T063132Z
LAST-MODIFIED:20241212T222527Z
UID:10000612-1518026400-1518033600@saclr.org
SUMMARY:DASH (Wednesday)
DESCRIPTION:Sixth through twelfth graders enjoy dinner at 6 p.m. Worship and teaching on Gospel basics begins at 7 p.m.
URL:https://saclr.org/event/dash-wednesday/2018-02-07/
CATEGORIES:Youth Ministry
END:VEVENT
BEGIN:VEVENT
DTSTART;TZID=America/Chicago:20180131T180000
DTEND;TZID=America/Chicago:20180131T203000
DTSTAMP:20260423T061427
CREATED:20150922T063533Z
LAST-MODIFIED:20150922T063533Z
UID:10000171-1517421600-1517430600@saclr.org
SUMMARY:GiG Kids
DESCRIPTION:Children whose parents attend Growing in Grace enjoy a meal together and learn the Gospel story through the Jesus Storybook Bible.
URL:https://saclr.org/event/gig-kids/2018-01-31/
CATEGORIES:Children's Ministry,Early Childhood
END:VEVENT
BEGIN:VEVENT
DTSTART;TZID=America/Chicago:20180131T180000
DTEND;TZID=America/Chicago:20180131T203000
DTSTAMP:20260423T061427
CREATED:20150922T063351Z
LAST-MODIFIED:20150922T063351Z
UID:10000385-1517421600-1517430600@saclr.org
SUMMARY:Growing in Grace (GiG)
DESCRIPTION:A complimentary dinner is followed by a recovery service and a small-group\, 12-step-style meeting.
URL:https://saclr.org/event/growing-in-grace-gig/2018-01-31/
CATEGORIES:Adult Ministry
END:VEVENT
BEGIN:VEVENT
DTSTART;TZID=America/Chicago:20180131T180000
DTEND;TZID=America/Chicago:20180131T200000
DTSTAMP:20260423T061427
CREATED:20150922T063132Z
LAST-MODIFIED:20241212T222527Z
UID:10000611-1517421600-1517428800@saclr.org
SUMMARY:DASH (Wednesday)
DESCRIPTION:Sixth through twelfth graders enjoy dinner at 6 p.m. Worship and teaching on Gospel basics begins at 7 p.m.
URL:https://saclr.org/event/dash-wednesday/2018-01-31/
CATEGORIES:Youth Ministry
END:VEVENT
BEGIN:VEVENT
DTSTART;TZID=America/Chicago:20180124T180000
DTEND;TZID=America/Chicago:20180124T203000
DTSTAMP:20260423T061427
CREATED:20150922T063533Z
LAST-MODIFIED:20150922T063533Z
UID:10000170-1516816800-1516825800@saclr.org
SUMMARY:GiG Kids
DESCRIPTION:Children whose parents attend Growing in Grace enjoy a meal together and learn the Gospel story through the Jesus Storybook Bible.
URL:https://saclr.org/event/gig-kids/2018-01-24/
CATEGORIES:Children's Ministry,Early Childhood
END:VEVENT
BEGIN:VEVENT
DTSTART;TZID=America/Chicago:20180124T180000
DTEND;TZID=America/Chicago:20180124T203000
DTSTAMP:20260423T061427
CREATED:20150922T063351Z
LAST-MODIFIED:20150922T063351Z
UID:10000384-1516816800-1516825800@saclr.org
SUMMARY:Growing in Grace (GiG)
DESCRIPTION:A complimentary dinner is followed by a recovery service and a small-group\, 12-step-style meeting.
URL:https://saclr.org/event/growing-in-grace-gig/2018-01-24/
CATEGORIES:Adult Ministry
END:VEVENT
BEGIN:VEVENT
DTSTART;TZID=America/Chicago:20180124T180000
DTEND;TZID=America/Chicago:20180124T200000
DTSTAMP:20260423T061427
CREATED:20150922T063132Z
LAST-MODIFIED:20241212T222527Z
UID:10000610-1516816800-1516824000@saclr.org
SUMMARY:DASH (Wednesday)
DESCRIPTION:Sixth through twelfth graders enjoy dinner at 6 p.m. Worship and teaching on Gospel basics begins at 7 p.m.
URL:https://saclr.org/event/dash-wednesday/2018-01-24/
CATEGORIES:Youth Ministry
END:VEVENT
BEGIN:VEVENT
DTSTART;VALUE=DATE:20180124
DTEND;VALUE=DATE:20180128
DTSTAMP:20260423T061427
CREATED:20160115T021506Z
LAST-MODIFIED:20160115T021506Z
UID:10000006-1516752000-1517097599@saclr.org
SUMMARY:AMiA Winter Conference
DESCRIPTION:
URL:https://saclr.org/event/winter-conference/
LOCATION:Unnamed Venue\, Dallas\, TX\, United States
GEO:32.7766642;-96.7969879
END:VEVENT
BEGIN:VEVENT
DTSTART;TZID=America/Chicago:20180117T180000
DTEND;TZID=America/Chicago:20180117T203000
DTSTAMP:20260423T061427
CREATED:20150922T063533Z
LAST-MODIFIED:20150922T063533Z
UID:10000169-1516212000-1516221000@saclr.org
SUMMARY:GiG Kids
DESCRIPTION:Children whose parents attend Growing in Grace enjoy a meal together and learn the Gospel story through the Jesus Storybook Bible.
URL:https://saclr.org/event/gig-kids/2018-01-17/
CATEGORIES:Children's Ministry,Early Childhood
END:VEVENT
BEGIN:VEVENT
DTSTART;TZID=America/Chicago:20180117T180000
DTEND;TZID=America/Chicago:20180117T203000
DTSTAMP:20260423T061427
CREATED:20150922T063351Z
LAST-MODIFIED:20150922T063351Z
UID:10000383-1516212000-1516221000@saclr.org
SUMMARY:Growing in Grace (GiG)
DESCRIPTION:A complimentary dinner is followed by a recovery service and a small-group\, 12-step-style meeting.
URL:https://saclr.org/event/growing-in-grace-gig/2018-01-17/
CATEGORIES:Adult Ministry
END:VEVENT
BEGIN:VEVENT
DTSTART;TZID=America/Chicago:20180117T180000
DTEND;TZID=America/Chicago:20180117T200000
DTSTAMP:20260423T061427
CREATED:20150922T063132Z
LAST-MODIFIED:20241212T222527Z
UID:10000609-1516212000-1516219200@saclr.org
SUMMARY:DASH (Wednesday)
DESCRIPTION:Sixth through twelfth graders enjoy dinner at 6 p.m. Worship and teaching on Gospel basics begins at 7 p.m.
URL:https://saclr.org/event/dash-wednesday/2018-01-17/
CATEGORIES:Youth Ministry
END:VEVENT
BEGIN:VEVENT
DTSTART;TZID=America/Chicago:20180110T180000
DTEND;TZID=America/Chicago:20180110T203000
DTSTAMP:20260423T061427
CREATED:20150922T063533Z
LAST-MODIFIED:20150922T063533Z
UID:10000168-1515607200-1515616200@saclr.org
SUMMARY:GiG Kids
DESCRIPTION:Children whose parents attend Growing in Grace enjoy a meal together and learn the Gospel story through the Jesus Storybook Bible.
URL:https://saclr.org/event/gig-kids/2018-01-10/
CATEGORIES:Children's Ministry,Early Childhood
END:VEVENT
BEGIN:VEVENT
DTSTART;TZID=America/Chicago:20180110T180000
DTEND;TZID=America/Chicago:20180110T203000
DTSTAMP:20260423T061427
CREATED:20150922T063351Z
LAST-MODIFIED:20150922T063351Z
UID:10000382-1515607200-1515616200@saclr.org
SUMMARY:Growing in Grace (GiG)
DESCRIPTION:A complimentary dinner is followed by a recovery service and a small-group\, 12-step-style meeting.
URL:https://saclr.org/event/growing-in-grace-gig/2018-01-10/
CATEGORIES:Adult Ministry
END:VEVENT
BEGIN:VEVENT
DTSTART;TZID=America/Chicago:20180110T180000
DTEND;TZID=America/Chicago:20180110T200000
DTSTAMP:20260423T061427
CREATED:20150922T063132Z
LAST-MODIFIED:20241212T222527Z
UID:10000608-1515607200-1515614400@saclr.org
SUMMARY:DASH (Wednesday)
DESCRIPTION:Sixth through twelfth graders enjoy dinner at 6 p.m. Worship and teaching on Gospel basics begins at 7 p.m.
URL:https://saclr.org/event/dash-wednesday/2018-01-10/
CATEGORIES:Youth Ministry
END:VEVENT
BEGIN:VEVENT
DTSTART;VALUE=DATE:20180107
DTEND;VALUE=DATE:20180108
DTSTAMP:20260423T061427
CREATED:20150922T051243Z
LAST-MODIFIED:20150922T051243Z
UID:10001273-1515283200-1515369599@saclr.org
SUMMARY:Sunday Services/Classes—Baptism Sunday
DESCRIPTION:THE SERVICES\nThe 8:45 a.m. worship service is more traditional. The liturgy is followed in a printed program with a mixture of ancient and modern hymns. It is approximately 70 minutes in length. \nThe 11 a.m. worship service is more contemporary. The liturgy is followed on two projection screens with hymns set to modern accompaniment and the newest songs of praise. It is approximately 90 minutes in length. \nCHILDREN IN THE SERVICE\nA Mother’s Room\, with volume-controlled audio of the service\, is available for nursing moms and those with infants. \nChild care for infants through preschoolers is available throughout the service. Children may be picked up at The Peace to partake in Holy Communion with their families. \nKindergarteners through sixth graders follow the cross out of the sanctuary after the Gospel reading for KREW Cuts\, a creative time of worship designed specifically for kids\, before returning for Holy Communion. \nBETWEEN THE SERVICES\nClasses for all age groups are available between services (10:10-10:50 a.m.). \nBeginnings\nMusic class for toddlers and preschoolers is held in the preschool room. Child care for infants in available in the infant room. \nK.R.E.W\nChildren learn about our faith in Christ in an age-appropriate way through lessons built around the Kid’s Quest Catechism Club by Great Commission Publications. \nDASH\nSeventh through twelfth graders participate in teaching and discussion on a companion verse or parallel topic to the day’s sermon. \nAdults\nWe always have several classes for adults\, find out the current offerings here.
URL:https://saclr.org/event/sunday-services-2018-01-07/
CATEGORIES:Worship
END:VEVENT
BEGIN:VEVENT
DTSTART;TZID=America/Chicago:20180104T094500
DTEND;TZID=America/Chicago:20180104T231500
DTSTAMP:20260423T061427
CREATED:20170906T222916Z
LAST-MODIFIED:20170906T222916Z
UID:10001439-1515059100-1515107700@saclr.org
SUMMARY:BLiSS Women's Study
DESCRIPTION:BLiSS is a discussion-oriented study for moms from all seasons of life based on Gospel readings taken from the lectionary. Together we discover and discuss how God is working in our lives and how he is inviting us to respond in trust. During large group time we share their lives and hearts through story. Small group time led by mentor moms creates space for honest discussion of scripture and the Holy Spirit’s work in our lives as we are present to God and to one another. One mom has described BLiSS as a space where real life is shared by real\, beautiful\, imperfect moms. Child care for infants through preschoolers is available with pre-registration. \nRegister here. (If you do not need child care\, please put N/A for the child’s information).
URL:https://saclr.org/event/bliss-womens-study-3/2018-01-04/
LOCATION:Andrew Room
END:VEVENT
BEGIN:VEVENT
DTSTART;TZID=America/Chicago:20180103T180000
DTEND;TZID=America/Chicago:20180103T203000
DTSTAMP:20260423T061427
CREATED:20150922T063533Z
LAST-MODIFIED:20150922T063533Z
UID:10000167-1515002400-1515011400@saclr.org
SUMMARY:GiG Kids
DESCRIPTION:Children whose parents attend Growing in Grace enjoy a meal together and learn the Gospel story through the Jesus Storybook Bible.
URL:https://saclr.org/event/gig-kids/2018-01-03/
CATEGORIES:Children's Ministry,Early Childhood
END:VEVENT
BEGIN:VEVENT
DTSTART;TZID=America/Chicago:20180103T180000
DTEND;TZID=America/Chicago:20180103T203000
DTSTAMP:20260423T061427
CREATED:20150922T063351Z
LAST-MODIFIED:20150922T063351Z
UID:10000381-1515002400-1515011400@saclr.org
SUMMARY:Growing in Grace (GiG)
DESCRIPTION:A complimentary dinner is followed by a recovery service and a small-group\, 12-step-style meeting.
URL:https://saclr.org/event/growing-in-grace-gig/2018-01-03/
CATEGORIES:Adult Ministry
END:VEVENT
BEGIN:VEVENT
DTSTART;TZID=America/Chicago:20180103T180000
DTEND;TZID=America/Chicago:20180103T200000
DTSTAMP:20260423T061427
CREATED:20150922T063132Z
LAST-MODIFIED:20241212T222527Z
UID:10000607-1515002400-1515009600@saclr.org
SUMMARY:DASH (Wednesday)
DESCRIPTION:Sixth through twelfth graders enjoy dinner at 6 p.m. Worship and teaching on Gospel basics begins at 7 p.m.
URL:https://saclr.org/event/dash-wednesday/2018-01-03/
CATEGORIES:Youth Ministry
END:VEVENT
BEGIN:VEVENT
DTSTART;TZID=America/Chicago:20180103T100000
DTEND;TZID=America/Chicago:20180103T120000
DTSTAMP:20260423T061427
CREATED:20171220T233842Z
LAST-MODIFIED:20171220T233842Z
UID:10001750-1514973600-1514980800@saclr.org
SUMMARY:Women's Bible study
DESCRIPTION:THE WORD FROM ISAIAH\nWednesdays • 10 a.m.–noon\nJanuary 3—February 21\nJoin us for an eight-week study in Isaiah taught by Nancy Morton. This study will encourage you\, comfort you\, and convict you. It is a call for renewal and revival.\nContact: Bonnie Holmes
URL:https://saclr.org/event/womens-bible-study/2018-01-03/
LOCATION:Andrew Room
CATEGORIES:Women's Ministry
END:VEVENT
BEGIN:VEVENT
DTSTART;TZID=America/Chicago:20171228T094500
DTEND;TZID=America/Chicago:20171228T231500
DTSTAMP:20260423T061427
CREATED:20170906T222916Z
LAST-MODIFIED:20170906T222916Z
UID:10001438-1514454300-1514502900@saclr.org
SUMMARY:BLiSS Women's Study
DESCRIPTION:BLiSS is a discussion-oriented study for moms from all seasons of life based on Gospel readings taken from the lectionary. Together we discover and discuss how God is working in our lives and how he is inviting us to respond in trust. During large group time we share their lives and hearts through story. Small group time led by mentor moms creates space for honest discussion of scripture and the Holy Spirit’s work in our lives as we are present to God and to one another. One mom has described BLiSS as a space where real life is shared by real\, beautiful\, imperfect moms. Child care for infants through preschoolers is available with pre-registration. \nRegister here. (If you do not need child care\, please put N/A for the child’s information).
URL:https://saclr.org/event/bliss-womens-study-3/2017-12-28/
LOCATION:Andrew Room
END:VEVENT
BEGIN:VEVENT
DTSTART;TZID=America/Chicago:20171227T180000
DTEND;TZID=America/Chicago:20171227T203000
DTSTAMP:20260423T061427
CREATED:20150922T063533Z
LAST-MODIFIED:20150922T063533Z
UID:10000166-1514397600-1514406600@saclr.org
SUMMARY:GiG Kids
DESCRIPTION:Children whose parents attend Growing in Grace enjoy a meal together and learn the Gospel story through the Jesus Storybook Bible.
URL:https://saclr.org/event/gig-kids/2017-12-27/
CATEGORIES:Children's Ministry,Early Childhood
END:VEVENT
BEGIN:VEVENT
DTSTART;TZID=America/Chicago:20171227T180000
DTEND;TZID=America/Chicago:20171227T203000
DTSTAMP:20260423T061427
CREATED:20150922T063351Z
LAST-MODIFIED:20150922T063351Z
UID:10000380-1514397600-1514406600@saclr.org
SUMMARY:Growing in Grace (GiG)
DESCRIPTION:A complimentary dinner is followed by a recovery service and a small-group\, 12-step-style meeting.
URL:https://saclr.org/event/growing-in-grace-gig/2017-12-27/
CATEGORIES:Adult Ministry
END:VEVENT
BEGIN:VEVENT
DTSTART;TZID=America/Chicago:20171227T180000
DTEND;TZID=America/Chicago:20171227T200000
DTSTAMP:20260423T061427
CREATED:20150922T063132Z
LAST-MODIFIED:20241212T222527Z
UID:10000606-1514397600-1514404800@saclr.org
SUMMARY:DASH (Wednesday)
DESCRIPTION:Sixth through twelfth graders enjoy dinner at 6 p.m. Worship and teaching on Gospel basics begins at 7 p.m.
URL:https://saclr.org/event/dash-wednesday/2017-12-27/
CATEGORIES:Youth Ministry
END:VEVENT
BEGIN:VEVENT
DTSTART;TZID=America/Chicago:20171224T220000
DTEND;TZID=America/Chicago:20171224T233000
DTSTAMP:20260423T061427
CREATED:20150922T071142Z
LAST-MODIFIED:20150922T071142Z
UID:10001250-1514152800-1514158200@saclr.org
SUMMARY:Traditional Christmas Eve Service
DESCRIPTION:Celebrate the arrival of our Savior with a traditional Christmas Eve service. We’ll sing Christmas carols\, celebrate Holy Communion and end with the candle-lit singing of Silent Night.
URL:https://saclr.org/event/traditional-christmas-eve-service/2017-12-24/
CATEGORIES:Worship
END:VEVENT
END:VCALENDAR