BEGIN:VCALENDAR
VERSION:2.0
PRODID:-//St. Andrew&#039;s Anglican Church - ECPv6.7.0//NONSGML v1.0//EN
CALSCALE:GREGORIAN
METHOD:PUBLISH
X-WR-CALNAME:St. Andrew&#039;s Anglican Church
X-ORIGINAL-URL:https://saclr.org
X-WR-CALDESC:Events for St. Andrew&#039;s Anglican Church
REFRESH-INTERVAL;VALUE=DURATION:PT1H
X-Robots-Tag:noindex
X-PUBLISHED-TTL:PT1H
BEGIN:VTIMEZONE
TZID:America/Chicago
BEGIN:DAYLIGHT
TZOFFSETFROM:-0600
TZOFFSETTO:-0500
TZNAME:CDT
DTSTART:20180311T080000
END:DAYLIGHT
BEGIN:STANDARD
TZOFFSETFROM:-0500
TZOFFSETTO:-0600
TZNAME:CST
DTSTART:20181104T070000
END:STANDARD
END:VTIMEZONE
BEGIN:VEVENT
DTSTART;TZID=America/Chicago:20180321T180000
DTEND;TZID=America/Chicago:20180321T200000
DTSTAMP:20260423T043059
CREATED:20150922T063132Z
LAST-MODIFIED:20241212T222527Z
UID:10000618-1521655200-1521662400@saclr.org
SUMMARY:DASH (Wednesday)
DESCRIPTION:Sixth through twelfth graders enjoy dinner at 6 p.m. Worship and teaching on Gospel basics begins at 7 p.m.
URL:https://saclr.org/event/dash-wednesday/2018-03-21/
CATEGORIES:Youth Ministry
END:VEVENT
BEGIN:VEVENT
DTSTART;TZID=America/Chicago:20180319T183000
DTEND;TZID=America/Chicago:20180319T203000
DTSTAMP:20260423T043059
CREATED:20170129T195728Z
LAST-MODIFIED:20170129T195728Z
UID:10000041-1521484200-1521491400@saclr.org
SUMMARY:GriefShare
DESCRIPTION:GriefShare is a grief recovery ministry for individuals who have experienced the death of a spouse\, child\, family member or friend. Each of the 13 GriefShare sessions consists of a video seminar\, group support\, and a workbook for personal study involving scripture. This nondenominational program features Christ-centered\, biblical teaching that focuses on grief topics associated with the death of a loved one. The DVD seminar features nationally respected grief experts and real-life stories of people\, followed by a small group discussion about what was seen on the DVD. Many grieving people find they are only beginning the work of healing when friends or family have returned to their daily life routines. No matter the cause of your loved one’s death\, this is an opportunity to be around people who understand what you are feeling. You will learn how to recognize the symptoms of being stuck in grief and that you do not need to live in bondage as a slave to certain emotions. You will learn valuable information about facing your new normal in life and renewing your hope for the future. The cost for seminar materials is $20. \nSession 1 • March 19 • Is This Normal? \nSession 2 • March 26 • Challenges of Grief \nSession 3 • April 2 • The Journey of Grief–Part 1 \nSession 4 • April 9 • The Journey of Grief–Part 2 \nSession 5 • April 16 • Grief and Your Relationships \nSession 6 • April 23 • Why? \nSession 7 • April 30 • Guilt and Anger \nSession 8 • May 7 • Complicating Factors \nSession 9 • May 14 • Stuck \nSession 10 • May 21 • Lessons of Grief–Part 1 & Coping with Grief during Holidays \nSession 11 • May 29 (Tuesday) • Lessons of Grief–Part 2 \nSession 12 • June 4 • Heaven \nSession 13 • June 11 • What Do I Live for Now?
URL:https://saclr.org/event/griefshare-4/2018-03-19/
LOCATION:Commons
END:VEVENT
BEGIN:VEVENT
DTSTART;VALUE=DATE:20180318
DTEND;VALUE=DATE:20180319
DTSTAMP:20260423T043059
CREATED:20150922T051243Z
LAST-MODIFIED:20150922T051243Z
UID:10001275-1521331200-1521417599@saclr.org
SUMMARY:Sunday Services/Classes—Baptism Sunday
DESCRIPTION:THE SERVICES\nThe 8:45 a.m. worship service is more traditional. The liturgy is followed in a printed program with a mixture of ancient and modern hymns. It is approximately 70 minutes in length. \nThe 11 a.m. worship service is more contemporary. The liturgy is followed on two projection screens with hymns set to modern accompaniment and the newest songs of praise. It is approximately 90 minutes in length. \nCHILDREN IN THE SERVICE\nA Mother’s Room\, with volume-controlled audio of the service\, is available for nursing moms and those with infants. \nChild care for infants through preschoolers is available throughout the service. Children may be picked up at The Peace to partake in Holy Communion with their families. \nKindergarteners through sixth graders follow the cross out of the sanctuary after the Gospel reading for KREW Cuts\, a creative time of worship designed specifically for kids\, before returning for Holy Communion. \nBETWEEN THE SERVICES\nClasses for all age groups are available between services (10:10-10:50 a.m.). \nBeginnings\nMusic class for toddlers and preschoolers is held in the preschool room. Child care for infants in available in the infant room. \nK.R.E.W\nChildren learn about our faith in Christ in an age-appropriate way through lessons built around the Kid’s Quest Catechism Club by Great Commission Publications. \nDASH\nSeventh through twelfth graders participate in teaching and discussion on a companion verse or parallel topic to the day’s sermon. \nAdults\nWe always have several classes for adults\, find out the current offerings here.
URL:https://saclr.org/event/sunday-services-2018-03-18/
CATEGORIES:Worship
END:VEVENT
BEGIN:VEVENT
DTSTART;TZID=America/Chicago:20180314T180000
DTEND;TZID=America/Chicago:20180314T203000
DTSTAMP:20260423T043059
CREATED:20150922T063533Z
LAST-MODIFIED:20150922T063533Z
UID:10000177-1521050400-1521059400@saclr.org
SUMMARY:GiG Kids
DESCRIPTION:Children whose parents attend Growing in Grace enjoy a meal together and learn the Gospel story through the Jesus Storybook Bible.
URL:https://saclr.org/event/gig-kids/2018-03-14/
CATEGORIES:Children's Ministry,Early Childhood
END:VEVENT
BEGIN:VEVENT
DTSTART;TZID=America/Chicago:20180314T180000
DTEND;TZID=America/Chicago:20180314T203000
DTSTAMP:20260423T043059
CREATED:20150922T063351Z
LAST-MODIFIED:20150922T063351Z
UID:10000391-1521050400-1521059400@saclr.org
SUMMARY:Growing in Grace (GiG)
DESCRIPTION:A complimentary dinner is followed by a recovery service and a small-group\, 12-step-style meeting.
URL:https://saclr.org/event/growing-in-grace-gig/2018-03-14/
CATEGORIES:Adult Ministry
END:VEVENT
BEGIN:VEVENT
DTSTART;TZID=America/Chicago:20180314T180000
DTEND;TZID=America/Chicago:20180314T200000
DTSTAMP:20260423T043059
CREATED:20150922T063132Z
LAST-MODIFIED:20241212T222527Z
UID:10000617-1521050400-1521057600@saclr.org
SUMMARY:DASH (Wednesday)
DESCRIPTION:Sixth through twelfth graders enjoy dinner at 6 p.m. Worship and teaching on Gospel basics begins at 7 p.m.
URL:https://saclr.org/event/dash-wednesday/2018-03-14/
CATEGORIES:Youth Ministry
END:VEVENT
BEGIN:VEVENT
DTSTART;TZID=America/Chicago:20180307T180000
DTEND;TZID=America/Chicago:20180307T203000
DTSTAMP:20260423T043059
CREATED:20150922T063533Z
LAST-MODIFIED:20150922T063533Z
UID:10000176-1520445600-1520454600@saclr.org
SUMMARY:GiG Kids
DESCRIPTION:Children whose parents attend Growing in Grace enjoy a meal together and learn the Gospel story through the Jesus Storybook Bible.
URL:https://saclr.org/event/gig-kids/2018-03-07/
CATEGORIES:Children's Ministry,Early Childhood
END:VEVENT
BEGIN:VEVENT
DTSTART;TZID=America/Chicago:20180307T180000
DTEND;TZID=America/Chicago:20180307T203000
DTSTAMP:20260423T043059
CREATED:20150922T063351Z
LAST-MODIFIED:20150922T063351Z
UID:10000390-1520445600-1520454600@saclr.org
SUMMARY:Growing in Grace (GiG)
DESCRIPTION:A complimentary dinner is followed by a recovery service and a small-group\, 12-step-style meeting.
URL:https://saclr.org/event/growing-in-grace-gig/2018-03-07/
CATEGORIES:Adult Ministry
END:VEVENT
BEGIN:VEVENT
DTSTART;TZID=America/Chicago:20180307T180000
DTEND;TZID=America/Chicago:20180307T200000
DTSTAMP:20260423T043059
CREATED:20150922T063132Z
LAST-MODIFIED:20241212T222527Z
UID:10000616-1520445600-1520452800@saclr.org
SUMMARY:DASH (Wednesday)
DESCRIPTION:Sixth through twelfth graders enjoy dinner at 6 p.m. Worship and teaching on Gospel basics begins at 7 p.m.
URL:https://saclr.org/event/dash-wednesday/2018-03-07/
CATEGORIES:Youth Ministry
END:VEVENT
BEGIN:VEVENT
DTSTART;TZID=America/Chicago:20180306T120500
DTEND;TZID=America/Chicago:20180306T125000
DTSTAMP:20260423T043059
CREATED:20160115T022914Z
LAST-MODIFIED:20160115T022914Z
UID:10000009-1520337900-1520340600@saclr.org
SUMMARY:Lenten Lunches
DESCRIPTION:Please join us as we kick off a new season of Lenten Lunches. Join us in the Commons at the church this week from 12-12:50 p.m. Pray that the Lord would put someone on your heart to invite to come and see.
URL:https://saclr.org/event/lenten-lunches-2018-03-06/
LOCATION:Commons
END:VEVENT
BEGIN:VEVENT
DTSTART;TZID=America/Chicago:20180228T180000
DTEND;TZID=America/Chicago:20180228T203000
DTSTAMP:20260423T043059
CREATED:20150922T063533Z
LAST-MODIFIED:20150922T063533Z
UID:10000175-1519840800-1519849800@saclr.org
SUMMARY:GiG Kids
DESCRIPTION:Children whose parents attend Growing in Grace enjoy a meal together and learn the Gospel story through the Jesus Storybook Bible.
URL:https://saclr.org/event/gig-kids/2018-02-28/
CATEGORIES:Children's Ministry,Early Childhood
END:VEVENT
BEGIN:VEVENT
DTSTART;TZID=America/Chicago:20180228T180000
DTEND;TZID=America/Chicago:20180228T203000
DTSTAMP:20260423T043059
CREATED:20150922T063351Z
LAST-MODIFIED:20150922T063351Z
UID:10000389-1519840800-1519849800@saclr.org
SUMMARY:Growing in Grace (GiG)
DESCRIPTION:A complimentary dinner is followed by a recovery service and a small-group\, 12-step-style meeting.
URL:https://saclr.org/event/growing-in-grace-gig/2018-02-28/
CATEGORIES:Adult Ministry
END:VEVENT
BEGIN:VEVENT
DTSTART;TZID=America/Chicago:20180228T180000
DTEND;TZID=America/Chicago:20180228T200000
DTSTAMP:20260423T043059
CREATED:20150922T063132Z
LAST-MODIFIED:20241212T222527Z
UID:10000615-1519840800-1519848000@saclr.org
SUMMARY:DASH (Wednesday)
DESCRIPTION:Sixth through twelfth graders enjoy dinner at 6 p.m. Worship and teaching on Gospel basics begins at 7 p.m.
URL:https://saclr.org/event/dash-wednesday/2018-02-28/
CATEGORIES:Youth Ministry
END:VEVENT
BEGIN:VEVENT
DTSTART;VALUE=DATE:20180223
DTEND;VALUE=DATE:20180224
DTSTAMP:20260423T043059
CREATED:20170215T230646Z
LAST-MODIFIED:20170215T230646Z
UID:10000227-1519344000-1519430399@saclr.org
SUMMARY:Guess Who's Coming To Dinner
DESCRIPTION:Whether you are new to the church or have attended for a while\, we offer an opportunity to get to know a few fellow St. Andrew’s Churchgoers in a more intimate environment! You’ll gather on Friday\, February 23\, or February 24\, at someone’s home in a group of about eight people to visit\, eat dinner\, laugh and enjoy community. Sign up below by Tuesday\, February 11\, to participate as a host or a guest. Hosts provide their homes and organize who brings what for dinner or may provide it. For more information\, contact Kathy Stephenson.
URL:https://saclr.org/event/guess-whos-coming-dinner/2018-02-23/
END:VEVENT
BEGIN:VEVENT
DTSTART;TZID=America/Chicago:20180221T180000
DTEND;TZID=America/Chicago:20180221T203000
DTSTAMP:20260423T043059
CREATED:20150922T063533Z
LAST-MODIFIED:20150922T063533Z
UID:10000174-1519236000-1519245000@saclr.org
SUMMARY:GiG Kids
DESCRIPTION:Children whose parents attend Growing in Grace enjoy a meal together and learn the Gospel story through the Jesus Storybook Bible.
URL:https://saclr.org/event/gig-kids/2018-02-21/
CATEGORIES:Children's Ministry,Early Childhood
END:VEVENT
BEGIN:VEVENT
DTSTART;TZID=America/Chicago:20180221T180000
DTEND;TZID=America/Chicago:20180221T203000
DTSTAMP:20260423T043059
CREATED:20150922T063351Z
LAST-MODIFIED:20150922T063351Z
UID:10000388-1519236000-1519245000@saclr.org
SUMMARY:Growing in Grace (GiG)
DESCRIPTION:A complimentary dinner is followed by a recovery service and a small-group\, 12-step-style meeting.
URL:https://saclr.org/event/growing-in-grace-gig/2018-02-21/
CATEGORIES:Adult Ministry
END:VEVENT
BEGIN:VEVENT
DTSTART;TZID=America/Chicago:20180221T180000
DTEND;TZID=America/Chicago:20180221T200000
DTSTAMP:20260423T043059
CREATED:20150922T063132Z
LAST-MODIFIED:20241212T222527Z
UID:10000614-1519236000-1519243200@saclr.org
SUMMARY:DASH (Wednesday)
DESCRIPTION:Sixth through twelfth graders enjoy dinner at 6 p.m. Worship and teaching on Gospel basics begins at 7 p.m.
URL:https://saclr.org/event/dash-wednesday/2018-02-21/
CATEGORIES:Youth Ministry
END:VEVENT
BEGIN:VEVENT
DTSTART;TZID=America/Chicago:20180220T120500
DTEND;TZID=America/Chicago:20180220T125000
DTSTAMP:20260423T043059
CREATED:20160115T022914Z
LAST-MODIFIED:20160115T022914Z
UID:10000008-1519128300-1519131000@saclr.org
SUMMARY:Lenten Lunches
DESCRIPTION:Please join us as we kick off a new season of Lenten Lunches. In an effort to be come more missionally minded\, we want to create a welcoming space to invite friends\, family and co-workers to share a meal together and hear a teaching from the gospel. This year we are going to meet in the private room at Cantina Laredo (207 N University Ave #130; 72205) from 12-12:50 p.m. each Tuesday during Lent (February 20-March 27). Pray that the Lord would put someone on your heart to invite to come and see.
URL:https://saclr.org/event/lenten-lunches/2018-02-20/
LOCATION:Cantina Laredo\, 207 N University Ave #130\, Little Rock\, AR\, 72205\, United States
GEO:34.753521;-92.3396733
X-APPLE-STRUCTURED-LOCATION;VALUE=URI;X-ADDRESS=Cantina Laredo 207 N University Ave #130 Little Rock AR 72205 United States;X-APPLE-RADIUS=500;X-TITLE=207 N University Ave #130:geo:-92.3396733,34.753521
END:VEVENT
BEGIN:VEVENT
DTSTART;TZID=America/Chicago:20180215T174500
DTEND;TZID=America/Chicago:20180215T184500
DTSTAMP:20260423T043059
CREATED:20180208T223313Z
LAST-MODIFIED:20180208T223313Z
UID:10001758-1518716700-1518720300@saclr.org
SUMMARY:Choir Practice
DESCRIPTION:Any singers interested in joining a fun\, one-time ensemble to sing a special song at the 8:45 a.m. service on February 25. We’ll practice from 5:45-6:45 p.m. on Thursdays\, February 15 and 22. For more information or to sign up\, contact Joseph.
URL:https://saclr.org/event/choir-practice/2018-02-15/
END:VEVENT
BEGIN:VEVENT
DTSTART;TZID=America/Chicago:20180214T180000
DTEND;TZID=America/Chicago:20180214T203000
DTSTAMP:20260423T043059
CREATED:20150922T063533Z
LAST-MODIFIED:20150922T063533Z
UID:10000173-1518631200-1518640200@saclr.org
SUMMARY:GiG Kids
DESCRIPTION:Children whose parents attend Growing in Grace enjoy a meal together and learn the Gospel story through the Jesus Storybook Bible.
URL:https://saclr.org/event/gig-kids/2018-02-14/
CATEGORIES:Children's Ministry,Early Childhood
END:VEVENT
BEGIN:VEVENT
DTSTART;TZID=America/Chicago:20180214T180000
DTEND;TZID=America/Chicago:20180214T203000
DTSTAMP:20260423T043059
CREATED:20150922T063351Z
LAST-MODIFIED:20150922T063351Z
UID:10000387-1518631200-1518640200@saclr.org
SUMMARY:Growing in Grace (GiG)
DESCRIPTION:A complimentary dinner is followed by a recovery service and a small-group\, 12-step-style meeting.
URL:https://saclr.org/event/growing-in-grace-gig/2018-02-14/
CATEGORIES:Adult Ministry
END:VEVENT
BEGIN:VEVENT
DTSTART;TZID=America/Chicago:20180214T180000
DTEND;TZID=America/Chicago:20180214T200000
DTSTAMP:20260423T043059
CREATED:20150922T063132Z
LAST-MODIFIED:20241212T222527Z
UID:10000613-1518631200-1518638400@saclr.org
SUMMARY:DASH (Wednesday)
DESCRIPTION:Sixth through twelfth graders enjoy dinner at 6 p.m. Worship and teaching on Gospel basics begins at 7 p.m.
URL:https://saclr.org/event/dash-wednesday/2018-02-14/
CATEGORIES:Youth Ministry
END:VEVENT
BEGIN:VEVENT
DTSTART;TZID=America/Chicago:20180211T190000
DTEND;TZID=America/Chicago:20180211T200000
DTSTAMP:20260423T043059
CREATED:20180111T235948Z
LAST-MODIFIED:20180111T235948Z
UID:10001746-1518375600-1518379200@saclr.org
SUMMARY:Time of Preparation for Lent
DESCRIPTION:Please join us from 7-8 p.m. each evening from Sunday\, February 11–Tuesday\, February 13 for a time of preparation for Lent. This will be a time for us to create space in our busy lives\, to slow down and turn to the Lord to see what he wants to show us. Robert has asked that we all clear out our evenings the beginning of that week to make time to gather in the sanctuary for worship music\, prayer and scripture reading. \nCHILD CARE VOUCHER\nIn an effort to incorporate our families with young children and in lieu of on-site child care\, we are offering a $30 voucher for each evening you attend the Time of Preparation services. It is our desire to serve your family and bless you. Please pick up the voucher form each evening and return the completed forms to Kathy Stephenson in the office by February 19. Checks will be issued one week after receipts are turned in. Auditing principles prevent us from reimbursing you for any family member who would be keeping your children.
URL:https://saclr.org/event/time-preparation-lent/2018-02-11/
END:VEVENT
BEGIN:VEVENT
DTSTART;TZID=America/Chicago:20180207T180000
DTEND;TZID=America/Chicago:20180207T203000
DTSTAMP:20260423T043059
CREATED:20150922T063533Z
LAST-MODIFIED:20150922T063533Z
UID:10000172-1518026400-1518035400@saclr.org
SUMMARY:GiG Kids
DESCRIPTION:Children whose parents attend Growing in Grace enjoy a meal together and learn the Gospel story through the Jesus Storybook Bible.
URL:https://saclr.org/event/gig-kids/2018-02-07/
CATEGORIES:Children's Ministry,Early Childhood
END:VEVENT
BEGIN:VEVENT
DTSTART;TZID=America/Chicago:20180207T180000
DTEND;TZID=America/Chicago:20180207T203000
DTSTAMP:20260423T043059
CREATED:20150922T063351Z
LAST-MODIFIED:20150922T063351Z
UID:10000386-1518026400-1518035400@saclr.org
SUMMARY:Growing in Grace (GiG)
DESCRIPTION:A complimentary dinner is followed by a recovery service and a small-group\, 12-step-style meeting.
URL:https://saclr.org/event/growing-in-grace-gig/2018-02-07/
CATEGORIES:Adult Ministry
END:VEVENT
BEGIN:VEVENT
DTSTART;TZID=America/Chicago:20180207T180000
DTEND;TZID=America/Chicago:20180207T200000
DTSTAMP:20260423T043059
CREATED:20150922T063132Z
LAST-MODIFIED:20241212T222527Z
UID:10000612-1518026400-1518033600@saclr.org
SUMMARY:DASH (Wednesday)
DESCRIPTION:Sixth through twelfth graders enjoy dinner at 6 p.m. Worship and teaching on Gospel basics begins at 7 p.m.
URL:https://saclr.org/event/dash-wednesday/2018-02-07/
CATEGORIES:Youth Ministry
END:VEVENT
BEGIN:VEVENT
DTSTART;TZID=America/Chicago:20180131T180000
DTEND;TZID=America/Chicago:20180131T203000
DTSTAMP:20260423T043059
CREATED:20150922T063533Z
LAST-MODIFIED:20150922T063533Z
UID:10000171-1517421600-1517430600@saclr.org
SUMMARY:GiG Kids
DESCRIPTION:Children whose parents attend Growing in Grace enjoy a meal together and learn the Gospel story through the Jesus Storybook Bible.
URL:https://saclr.org/event/gig-kids/2018-01-31/
CATEGORIES:Children's Ministry,Early Childhood
END:VEVENT
BEGIN:VEVENT
DTSTART;TZID=America/Chicago:20180131T180000
DTEND;TZID=America/Chicago:20180131T203000
DTSTAMP:20260423T043059
CREATED:20150922T063351Z
LAST-MODIFIED:20150922T063351Z
UID:10000385-1517421600-1517430600@saclr.org
SUMMARY:Growing in Grace (GiG)
DESCRIPTION:A complimentary dinner is followed by a recovery service and a small-group\, 12-step-style meeting.
URL:https://saclr.org/event/growing-in-grace-gig/2018-01-31/
CATEGORIES:Adult Ministry
END:VEVENT
BEGIN:VEVENT
DTSTART;TZID=America/Chicago:20180131T180000
DTEND;TZID=America/Chicago:20180131T200000
DTSTAMP:20260423T043059
CREATED:20150922T063132Z
LAST-MODIFIED:20241212T222527Z
UID:10000611-1517421600-1517428800@saclr.org
SUMMARY:DASH (Wednesday)
DESCRIPTION:Sixth through twelfth graders enjoy dinner at 6 p.m. Worship and teaching on Gospel basics begins at 7 p.m.
URL:https://saclr.org/event/dash-wednesday/2018-01-31/
CATEGORIES:Youth Ministry
END:VEVENT
BEGIN:VEVENT
DTSTART;TZID=America/Chicago:20180124T180000
DTEND;TZID=America/Chicago:20180124T203000
DTSTAMP:20260423T043059
CREATED:20150922T063533Z
LAST-MODIFIED:20150922T063533Z
UID:10000170-1516816800-1516825800@saclr.org
SUMMARY:GiG Kids
DESCRIPTION:Children whose parents attend Growing in Grace enjoy a meal together and learn the Gospel story through the Jesus Storybook Bible.
URL:https://saclr.org/event/gig-kids/2018-01-24/
CATEGORIES:Children's Ministry,Early Childhood
END:VEVENT
END:VCALENDAR