BEGIN:VCALENDAR
VERSION:2.0
PRODID:-//St. Andrew&#039;s Anglican Church - ECPv6.7.0//NONSGML v1.0//EN
CALSCALE:GREGORIAN
METHOD:PUBLISH
X-WR-CALNAME:St. Andrew&#039;s Anglican Church
X-ORIGINAL-URL:https://saclr.org
X-WR-CALDESC:Events for St. Andrew&#039;s Anglican Church
REFRESH-INTERVAL;VALUE=DURATION:PT1H
X-Robots-Tag:noindex
X-PUBLISHED-TTL:PT1H
BEGIN:VTIMEZONE
TZID:America/Chicago
BEGIN:DAYLIGHT
TZOFFSETFROM:-0600
TZOFFSETTO:-0500
TZNAME:CDT
DTSTART:20180311T080000
END:DAYLIGHT
BEGIN:STANDARD
TZOFFSETFROM:-0500
TZOFFSETTO:-0600
TZNAME:CST
DTSTART:20181104T070000
END:STANDARD
END:VTIMEZONE
BEGIN:VEVENT
DTSTART;TZID=America/Chicago:20180613T180000
DTEND;TZID=America/Chicago:20180613T203000
DTSTAMP:20260423T040245
CREATED:20150922T063533Z
LAST-MODIFIED:20150922T063533Z
UID:10000190-1528912800-1528921800@saclr.org
SUMMARY:GiG Kids
DESCRIPTION:Children whose parents attend Growing in Grace enjoy a meal together and learn the Gospel story through the Jesus Storybook Bible.
URL:https://saclr.org/event/gig-kids/2018-06-13/
CATEGORIES:Children's Ministry,Early Childhood
END:VEVENT
BEGIN:VEVENT
DTSTART;TZID=America/Chicago:20180613T180000
DTEND;TZID=America/Chicago:20180613T203000
DTSTAMP:20260423T040245
CREATED:20150922T063351Z
LAST-MODIFIED:20150922T063351Z
UID:10000404-1528912800-1528921800@saclr.org
SUMMARY:Growing in Grace (GiG)
DESCRIPTION:A complimentary dinner is followed by a recovery service and a small-group\, 12-step-style meeting.
URL:https://saclr.org/event/growing-in-grace-gig/2018-06-13/
CATEGORIES:Adult Ministry
END:VEVENT
BEGIN:VEVENT
DTSTART;TZID=America/Chicago:20180613T180000
DTEND;TZID=America/Chicago:20180613T200000
DTSTAMP:20260423T040245
CREATED:20150922T063132Z
LAST-MODIFIED:20241212T222527Z
UID:10000630-1528912800-1528920000@saclr.org
SUMMARY:DASH (Wednesday)
DESCRIPTION:Sixth through twelfth graders enjoy dinner at 6 p.m. Worship and teaching on Gospel basics begins at 7 p.m.
URL:https://saclr.org/event/dash-wednesday/2018-06-13/
CATEGORIES:Youth Ministry
END:VEVENT
BEGIN:VEVENT
DTSTART;TZID=America/Chicago:20180606T180000
DTEND;TZID=America/Chicago:20180606T203000
DTSTAMP:20260423T040245
CREATED:20150922T063533Z
LAST-MODIFIED:20150922T063533Z
UID:10000189-1528308000-1528317000@saclr.org
SUMMARY:GiG Kids
DESCRIPTION:Children whose parents attend Growing in Grace enjoy a meal together and learn the Gospel story through the Jesus Storybook Bible.
URL:https://saclr.org/event/gig-kids/2018-06-06/
CATEGORIES:Children's Ministry,Early Childhood
END:VEVENT
BEGIN:VEVENT
DTSTART;TZID=America/Chicago:20180606T180000
DTEND;TZID=America/Chicago:20180606T203000
DTSTAMP:20260423T040245
CREATED:20150922T063351Z
LAST-MODIFIED:20150922T063351Z
UID:10000403-1528308000-1528317000@saclr.org
SUMMARY:Growing in Grace (GiG)
DESCRIPTION:A complimentary dinner is followed by a recovery service and a small-group\, 12-step-style meeting.
URL:https://saclr.org/event/growing-in-grace-gig/2018-06-06/
CATEGORIES:Adult Ministry
END:VEVENT
BEGIN:VEVENT
DTSTART;TZID=America/Chicago:20180606T180000
DTEND;TZID=America/Chicago:20180606T200000
DTSTAMP:20260423T040245
CREATED:20150922T063132Z
LAST-MODIFIED:20241212T222527Z
UID:10000629-1528308000-1528315200@saclr.org
SUMMARY:DASH (Wednesday)
DESCRIPTION:Sixth through twelfth graders enjoy dinner at 6 p.m. Worship and teaching on Gospel basics begins at 7 p.m.
URL:https://saclr.org/event/dash-wednesday/2018-06-06/
CATEGORIES:Youth Ministry
END:VEVENT
BEGIN:VEVENT
DTSTART;TZID=America/Chicago:20180530T180000
DTEND;TZID=America/Chicago:20180530T203000
DTSTAMP:20260423T040245
CREATED:20150922T063533Z
LAST-MODIFIED:20150922T063533Z
UID:10000188-1527703200-1527712200@saclr.org
SUMMARY:GiG Kids
DESCRIPTION:Children whose parents attend Growing in Grace enjoy a meal together and learn the Gospel story through the Jesus Storybook Bible.
URL:https://saclr.org/event/gig-kids/2018-05-30/
CATEGORIES:Children's Ministry,Early Childhood
END:VEVENT
BEGIN:VEVENT
DTSTART;TZID=America/Chicago:20180530T180000
DTEND;TZID=America/Chicago:20180530T203000
DTSTAMP:20260423T040245
CREATED:20150922T063351Z
LAST-MODIFIED:20150922T063351Z
UID:10000402-1527703200-1527712200@saclr.org
SUMMARY:Growing in Grace (GiG)
DESCRIPTION:A complimentary dinner is followed by a recovery service and a small-group\, 12-step-style meeting.
URL:https://saclr.org/event/growing-in-grace-gig/2018-05-30/
CATEGORIES:Adult Ministry
END:VEVENT
BEGIN:VEVENT
DTSTART;TZID=America/Chicago:20180530T180000
DTEND;TZID=America/Chicago:20180530T200000
DTSTAMP:20260423T040245
CREATED:20150922T063132Z
LAST-MODIFIED:20241212T222527Z
UID:10000628-1527703200-1527710400@saclr.org
SUMMARY:DASH (Wednesday)
DESCRIPTION:Sixth through twelfth graders enjoy dinner at 6 p.m. Worship and teaching on Gospel basics begins at 7 p.m.
URL:https://saclr.org/event/dash-wednesday/2018-05-30/
CATEGORIES:Youth Ministry
END:VEVENT
BEGIN:VEVENT
DTSTART;TZID=America/Chicago:20180529T183000
DTEND;TZID=America/Chicago:20180529T203000
DTSTAMP:20260423T040245
CREATED:20170129T195728Z
LAST-MODIFIED:20170129T195728Z
UID:10000046-1527618600-1527625800@saclr.org
SUMMARY:GriefShare
DESCRIPTION:GriefShare is a grief recovery ministry for individuals who have experienced the death of a spouse\, child\, family member or friend. Each of the 13 GriefShare sessions consists of a video seminar\, group support\, and a workbook for personal study involving scripture. This nondenominational program features Christ-centered\, biblical teaching that focuses on grief topics associated with the death of a loved one. The DVD seminar features nationally respected grief experts and real-life stories of people\, followed by a small group discussion about what was seen on the DVD. Many grieving people find they are only beginning the work of healing when friends or family have returned to their daily life routines. No matter the cause of your loved one’s death\, this is an opportunity to be around people who understand what you are feeling. You will learn how to recognize the symptoms of being stuck in grief and that you do not need to live in bondage as a slave to certain emotions. You will learn valuable information about facing your new normal in life and renewing your hope for the future. The cost for seminar materials is $20. \nSession 1 • March 19 • Is This Normal? \nSession 2 • March 26 • Challenges of Grief \nSession 3 • April 2 • The Journey of Grief–Part 1 \nSession 4 • April 9 • The Journey of Grief–Part 2 \nSession 5 • April 16 • Grief and Your Relationships \nSession 6 • April 23 • Why? \nSession 7 • April 30 • Guilt and Anger \nSession 8 • May 7 • Complicating Factors \nSession 9 • May 14 • Stuck \nSession 10 • May 21 • Lessons of Grief–Part 1 & Coping with Grief during Holidays \nSession 11 • May 29 (Tuesday) • Lessons of Grief–Part 2 \nSession 12 • June 4 • Heaven \nSession 13 • June 11 • What Do I Live for Now?
URL:https://saclr.org/event/griefshare-4-2017-05-29/
LOCATION:Commons
END:VEVENT
BEGIN:VEVENT
DTSTART;TZID=America/Chicago:20180528T183000
DTEND;TZID=America/Chicago:20180528T203000
DTSTAMP:20260423T040245
CREATED:20170129T195728Z
LAST-MODIFIED:20170129T195728Z
UID:10000042-1527532200-1527539400@saclr.org
SUMMARY:GriefShare
DESCRIPTION:GriefShare is a grief recovery ministry for individuals who have experienced the death of a spouse\, child\, family member or friend. Each of the 13 GriefShare sessions consists of a video seminar\, group support\, and a workbook for personal study involving scripture. This nondenominational program features Christ-centered\, biblical teaching that focuses on grief topics associated with the death of a loved one. The DVD seminar features nationally respected grief experts and real-life stories of people\, followed by a small group discussion about what was seen on the DVD. Many grieving people find they are only beginning the work of healing when friends or family have returned to their daily life routines. No matter the cause of your loved one’s death\, this is an opportunity to be around people who understand what you are feeling. You will learn how to recognize the symptoms of being stuck in grief and that you do not need to live in bondage as a slave to certain emotions. You will learn valuable information about facing your new normal in life and renewing your hope for the future. The cost for seminar materials is $20. \nSession 1 • March 19 • Is This Normal? \nSession 2 • March 26 • Challenges of Grief \nSession 3 • April 2 • The Journey of Grief–Part 1 \nSession 4 • April 9 • The Journey of Grief–Part 2 \nSession 5 • April 16 • Grief and Your Relationships \nSession 6 • April 23 • Why? \nSession 7 • April 30 • Guilt and Anger \nSession 8 • May 7 • Complicating Factors \nSession 9 • May 14 • Stuck \nSession 10 • May 21 • Lessons of Grief–Part 1 & Coping with Grief during Holidays \nSession 11 • May 29 (Tuesday) • Lessons of Grief–Part 2 \nSession 12 • June 4 • Heaven \nSession 13 • June 11 • What Do I Live for Now?
URL:https://saclr.org/event/griefshare-4/2018-05-28/
LOCATION:Commons
END:VEVENT
BEGIN:VEVENT
DTSTART;VALUE=DATE:20180528
DTEND;VALUE=DATE:20180529
DTSTAMP:20260423T040245
CREATED:20160115T025957Z
LAST-MODIFIED:20160115T025957Z
UID:10001399-1527465600-1527551999@saclr.org
SUMMARY:Memorial Day
DESCRIPTION:Church office closed
URL:https://saclr.org/event/memorial-day/
END:VEVENT
BEGIN:VEVENT
DTSTART;VALUE=DATE:20180527
DTEND;VALUE=DATE:20180528
DTSTAMP:20260423T040245
CREATED:20150922T051243Z
LAST-MODIFIED:20150922T051243Z
UID:10001037-1527379200-1527465599@saclr.org
SUMMARY:Sunday Services/Classes
DESCRIPTION:THE SERVICES\nThe 8:45 a.m. worship service is more traditional. The liturgy is followed in a printed program with a mixture of ancient and modern hymns. It is approximately 70 minutes in length. \nThe 11 a.m. worship service is more contemporary. The liturgy is followed on two projection screens with hymns set to modern accompaniment and the newest songs of praise. It is approximately 90 minutes in length. \nCHILDREN IN THE SERVICE\nA Mother’s Room\, with volume-controlled audio of the service\, is available for nursing moms and those with infants. \nChild care for infants through preschoolers is available throughout the service. Children may be picked up at The Peace to partake in Holy Communion with their families. \nKindergarteners through sixth graders follow the cross out of the sanctuary after the Gospel reading for KREW Cuts\, a creative time of worship designed specifically for kids\, before returning for Holy Communion. \nNO SUNDAY SCHOOL OR KINGDOM LIFE CLASSES TODAY
URL:https://saclr.org/event/sunday-services-2018-05-27/
CATEGORIES:Worship
END:VEVENT
BEGIN:VEVENT
DTSTART;TZID=America/Chicago:20180523T180000
DTEND;TZID=America/Chicago:20180523T203000
DTSTAMP:20260423T040245
CREATED:20150922T063533Z
LAST-MODIFIED:20150922T063533Z
UID:10000187-1527098400-1527107400@saclr.org
SUMMARY:GiG Kids
DESCRIPTION:Children whose parents attend Growing in Grace enjoy a meal together and learn the Gospel story through the Jesus Storybook Bible.
URL:https://saclr.org/event/gig-kids/2018-05-23/
CATEGORIES:Children's Ministry,Early Childhood
END:VEVENT
BEGIN:VEVENT
DTSTART;TZID=America/Chicago:20180523T180000
DTEND;TZID=America/Chicago:20180523T203000
DTSTAMP:20260423T040245
CREATED:20150922T063351Z
LAST-MODIFIED:20150922T063351Z
UID:10000401-1527098400-1527107400@saclr.org
SUMMARY:Growing in Grace (GiG)
DESCRIPTION:A complimentary dinner is followed by a recovery service and a small-group\, 12-step-style meeting.
URL:https://saclr.org/event/growing-in-grace-gig/2018-05-23/
CATEGORIES:Adult Ministry
END:VEVENT
BEGIN:VEVENT
DTSTART;TZID=America/Chicago:20180523T180000
DTEND;TZID=America/Chicago:20180523T200000
DTSTAMP:20260423T040245
CREATED:20150922T063132Z
LAST-MODIFIED:20241212T222527Z
UID:10000627-1527098400-1527105600@saclr.org
SUMMARY:DASH (Wednesday)
DESCRIPTION:Sixth through twelfth graders enjoy dinner at 6 p.m. Worship and teaching on Gospel basics begins at 7 p.m.
URL:https://saclr.org/event/dash-wednesday/2018-05-23/
CATEGORIES:Youth Ministry
END:VEVENT
BEGIN:VEVENT
DTSTART;TZID=America/Chicago:20180516T180000
DTEND;TZID=America/Chicago:20180516T203000
DTSTAMP:20260423T040245
CREATED:20150922T063533Z
LAST-MODIFIED:20150922T063533Z
UID:10000186-1526493600-1526502600@saclr.org
SUMMARY:GiG Kids
DESCRIPTION:Children whose parents attend Growing in Grace enjoy a meal together and learn the Gospel story through the Jesus Storybook Bible.
URL:https://saclr.org/event/gig-kids/2018-05-16/
CATEGORIES:Children's Ministry,Early Childhood
END:VEVENT
BEGIN:VEVENT
DTSTART;TZID=America/Chicago:20180516T180000
DTEND;TZID=America/Chicago:20180516T203000
DTSTAMP:20260423T040245
CREATED:20150922T063351Z
LAST-MODIFIED:20150922T063351Z
UID:10000400-1526493600-1526502600@saclr.org
SUMMARY:Growing in Grace (GiG)
DESCRIPTION:A complimentary dinner is followed by a recovery service and a small-group\, 12-step-style meeting.
URL:https://saclr.org/event/growing-in-grace-gig/2018-05-16/
CATEGORIES:Adult Ministry
END:VEVENT
BEGIN:VEVENT
DTSTART;TZID=America/Chicago:20180516T180000
DTEND;TZID=America/Chicago:20180516T200000
DTSTAMP:20260423T040245
CREATED:20150922T063132Z
LAST-MODIFIED:20241212T222527Z
UID:10000626-1526493600-1526500800@saclr.org
SUMMARY:DASH (Wednesday)
DESCRIPTION:Sixth through twelfth graders enjoy dinner at 6 p.m. Worship and teaching on Gospel basics begins at 7 p.m.
URL:https://saclr.org/event/dash-wednesday/2018-05-16/
CATEGORIES:Youth Ministry
END:VEVENT
BEGIN:VEVENT
DTSTART;TZID=America/Chicago:20180509T180000
DTEND;TZID=America/Chicago:20180509T203000
DTSTAMP:20260423T040245
CREATED:20150922T063533Z
LAST-MODIFIED:20150922T063533Z
UID:10000185-1525888800-1525897800@saclr.org
SUMMARY:GiG Kids
DESCRIPTION:Children whose parents attend Growing in Grace enjoy a meal together and learn the Gospel story through the Jesus Storybook Bible.
URL:https://saclr.org/event/gig-kids/2018-05-09/
CATEGORIES:Children's Ministry,Early Childhood
END:VEVENT
BEGIN:VEVENT
DTSTART;TZID=America/Chicago:20180509T180000
DTEND;TZID=America/Chicago:20180509T203000
DTSTAMP:20260423T040245
CREATED:20150922T063351Z
LAST-MODIFIED:20150922T063351Z
UID:10000399-1525888800-1525897800@saclr.org
SUMMARY:Growing in Grace (GiG)
DESCRIPTION:A complimentary dinner is followed by a recovery service and a small-group\, 12-step-style meeting.
URL:https://saclr.org/event/growing-in-grace-gig/2018-05-09/
CATEGORIES:Adult Ministry
END:VEVENT
BEGIN:VEVENT
DTSTART;TZID=America/Chicago:20180509T180000
DTEND;TZID=America/Chicago:20180509T200000
DTSTAMP:20260423T040245
CREATED:20150922T063132Z
LAST-MODIFIED:20241212T222527Z
UID:10000625-1525888800-1525896000@saclr.org
SUMMARY:DASH (Wednesday)
DESCRIPTION:Sixth through twelfth graders enjoy dinner at 6 p.m. Worship and teaching on Gospel basics begins at 7 p.m.
URL:https://saclr.org/event/dash-wednesday/2018-05-09/
CATEGORIES:Youth Ministry
END:VEVENT
BEGIN:VEVENT
DTSTART;TZID=America/Chicago:20180502T180000
DTEND;TZID=America/Chicago:20180502T203000
DTSTAMP:20260423T040245
CREATED:20150922T063533Z
LAST-MODIFIED:20150922T063533Z
UID:10000184-1525284000-1525293000@saclr.org
SUMMARY:GiG Kids
DESCRIPTION:Children whose parents attend Growing in Grace enjoy a meal together and learn the Gospel story through the Jesus Storybook Bible.
URL:https://saclr.org/event/gig-kids/2018-05-02/
CATEGORIES:Children's Ministry,Early Childhood
END:VEVENT
BEGIN:VEVENT
DTSTART;TZID=America/Chicago:20180502T180000
DTEND;TZID=America/Chicago:20180502T203000
DTSTAMP:20260423T040245
CREATED:20150922T063351Z
LAST-MODIFIED:20150922T063351Z
UID:10000398-1525284000-1525293000@saclr.org
SUMMARY:Growing in Grace (GiG)
DESCRIPTION:A complimentary dinner is followed by a recovery service and a small-group\, 12-step-style meeting.
URL:https://saclr.org/event/growing-in-grace-gig/2018-05-02/
CATEGORIES:Adult Ministry
END:VEVENT
BEGIN:VEVENT
DTSTART;TZID=America/Chicago:20180502T180000
DTEND;TZID=America/Chicago:20180502T200000
DTSTAMP:20260423T040245
CREATED:20150922T063132Z
LAST-MODIFIED:20241212T222527Z
UID:10000624-1525284000-1525291200@saclr.org
SUMMARY:DASH (Wednesday)
DESCRIPTION:Sixth through twelfth graders enjoy dinner at 6 p.m. Worship and teaching on Gospel basics begins at 7 p.m.
URL:https://saclr.org/event/dash-wednesday/2018-05-02/
CATEGORIES:Youth Ministry
END:VEVENT
BEGIN:VEVENT
DTSTART;TZID=America/Chicago:20180425T180000
DTEND;TZID=America/Chicago:20180425T203000
DTSTAMP:20260423T040245
CREATED:20150922T063533Z
LAST-MODIFIED:20150922T063533Z
UID:10000183-1524679200-1524688200@saclr.org
SUMMARY:GiG Kids
DESCRIPTION:Children whose parents attend Growing in Grace enjoy a meal together and learn the Gospel story through the Jesus Storybook Bible.
URL:https://saclr.org/event/gig-kids/2018-04-25/
CATEGORIES:Children's Ministry,Early Childhood
END:VEVENT
BEGIN:VEVENT
DTSTART;TZID=America/Chicago:20180425T180000
DTEND;TZID=America/Chicago:20180425T203000
DTSTAMP:20260423T040245
CREATED:20150922T063351Z
LAST-MODIFIED:20150922T063351Z
UID:10000397-1524679200-1524688200@saclr.org
SUMMARY:Growing in Grace (GiG)
DESCRIPTION:A complimentary dinner is followed by a recovery service and a small-group\, 12-step-style meeting.
URL:https://saclr.org/event/growing-in-grace-gig/2018-04-25/
CATEGORIES:Adult Ministry
END:VEVENT
BEGIN:VEVENT
DTSTART;TZID=America/Chicago:20180425T180000
DTEND;TZID=America/Chicago:20180425T200000
DTSTAMP:20260423T040245
CREATED:20150922T063132Z
LAST-MODIFIED:20241212T222527Z
UID:10000623-1524679200-1524686400@saclr.org
SUMMARY:DASH (Wednesday)
DESCRIPTION:Sixth through twelfth graders enjoy dinner at 6 p.m. Worship and teaching on Gospel basics begins at 7 p.m.
URL:https://saclr.org/event/dash-wednesday/2018-04-25/
CATEGORIES:Youth Ministry
END:VEVENT
BEGIN:VEVENT
DTSTART;TZID=America/Chicago:20180418T180000
DTEND;TZID=America/Chicago:20180418T203000
DTSTAMP:20260423T040245
CREATED:20150922T063533Z
LAST-MODIFIED:20150922T063533Z
UID:10000182-1524074400-1524083400@saclr.org
SUMMARY:GiG Kids
DESCRIPTION:Children whose parents attend Growing in Grace enjoy a meal together and learn the Gospel story through the Jesus Storybook Bible.
URL:https://saclr.org/event/gig-kids/2018-04-18/
CATEGORIES:Children's Ministry,Early Childhood
END:VEVENT
BEGIN:VEVENT
DTSTART;TZID=America/Chicago:20180418T180000
DTEND;TZID=America/Chicago:20180418T203000
DTSTAMP:20260423T040245
CREATED:20150922T063351Z
LAST-MODIFIED:20150922T063351Z
UID:10000396-1524074400-1524083400@saclr.org
SUMMARY:Growing in Grace (GiG)
DESCRIPTION:A complimentary dinner is followed by a recovery service and a small-group\, 12-step-style meeting.
URL:https://saclr.org/event/growing-in-grace-gig/2018-04-18/
CATEGORIES:Adult Ministry
END:VEVENT
END:VCALENDAR