BEGIN:VCALENDAR
VERSION:2.0
PRODID:-//St. Andrew&#039;s Anglican Church - ECPv6.7.0//NONSGML v1.0//EN
CALSCALE:GREGORIAN
METHOD:PUBLISH
X-WR-CALNAME:St. Andrew&#039;s Anglican Church
X-ORIGINAL-URL:https://saclr.org
X-WR-CALDESC:Events for St. Andrew&#039;s Anglican Church
REFRESH-INTERVAL;VALUE=DURATION:PT1H
X-Robots-Tag:noindex
X-PUBLISHED-TTL:PT1H
BEGIN:VTIMEZONE
TZID:America/Chicago
BEGIN:DAYLIGHT
TZOFFSETFROM:-0600
TZOFFSETTO:-0500
TZNAME:CDT
DTSTART:20180311T080000
END:DAYLIGHT
BEGIN:STANDARD
TZOFFSETFROM:-0500
TZOFFSETTO:-0600
TZNAME:CST
DTSTART:20181104T070000
END:STANDARD
END:VTIMEZONE
BEGIN:VEVENT
DTSTART;TZID=America/Chicago:20181024T180000
DTEND;TZID=America/Chicago:20181024T203000
DTSTAMP:20260423T040356
CREATED:20150922T063533Z
LAST-MODIFIED:20150922T063533Z
UID:10000209-1540404000-1540413000@saclr.org
SUMMARY:GiG Kids
DESCRIPTION:Children whose parents attend Growing in Grace enjoy a meal together and learn the Gospel story through the Jesus Storybook Bible.
URL:https://saclr.org/event/gig-kids/2018-10-24/
CATEGORIES:Children's Ministry,Early Childhood
END:VEVENT
BEGIN:VEVENT
DTSTART;TZID=America/Chicago:20181024T180000
DTEND;TZID=America/Chicago:20181024T203000
DTSTAMP:20260423T040356
CREATED:20150922T063351Z
LAST-MODIFIED:20150922T063351Z
UID:10000423-1540404000-1540413000@saclr.org
SUMMARY:Growing in Grace (GiG)
DESCRIPTION:A complimentary dinner is followed by a recovery service and a small-group\, 12-step-style meeting.
URL:https://saclr.org/event/growing-in-grace-gig/2018-10-24/
CATEGORIES:Adult Ministry
END:VEVENT
BEGIN:VEVENT
DTSTART;TZID=America/Chicago:20181024T180000
DTEND;TZID=America/Chicago:20181024T200000
DTSTAMP:20260423T040356
CREATED:20150922T063132Z
LAST-MODIFIED:20241212T222527Z
UID:10000649-1540404000-1540411200@saclr.org
SUMMARY:DASH (Wednesday)
DESCRIPTION:Sixth through twelfth graders enjoy dinner at 6 p.m. Worship and teaching on Gospel basics begins at 7 p.m.
URL:https://saclr.org/event/dash-wednesday/2018-10-24/
CATEGORIES:Youth Ministry
END:VEVENT
BEGIN:VEVENT
DTSTART;TZID=America/Chicago:20181017T180000
DTEND;TZID=America/Chicago:20181017T203000
DTSTAMP:20260423T040356
CREATED:20150922T063533Z
LAST-MODIFIED:20150922T063533Z
UID:10000208-1539799200-1539808200@saclr.org
SUMMARY:GiG Kids
DESCRIPTION:Children whose parents attend Growing in Grace enjoy a meal together and learn the Gospel story through the Jesus Storybook Bible.
URL:https://saclr.org/event/gig-kids/2018-10-17/
CATEGORIES:Children's Ministry,Early Childhood
END:VEVENT
BEGIN:VEVENT
DTSTART;TZID=America/Chicago:20181017T180000
DTEND;TZID=America/Chicago:20181017T203000
DTSTAMP:20260423T040356
CREATED:20150922T063351Z
LAST-MODIFIED:20150922T063351Z
UID:10000422-1539799200-1539808200@saclr.org
SUMMARY:Growing in Grace (GiG)
DESCRIPTION:A complimentary dinner is followed by a recovery service and a small-group\, 12-step-style meeting.
URL:https://saclr.org/event/growing-in-grace-gig/2018-10-17/
CATEGORIES:Adult Ministry
END:VEVENT
BEGIN:VEVENT
DTSTART;TZID=America/Chicago:20181017T180000
DTEND;TZID=America/Chicago:20181017T200000
DTSTAMP:20260423T040356
CREATED:20150922T063132Z
LAST-MODIFIED:20241212T222527Z
UID:10000648-1539799200-1539806400@saclr.org
SUMMARY:DASH (Wednesday)
DESCRIPTION:Sixth through twelfth graders enjoy dinner at 6 p.m. Worship and teaching on Gospel basics begins at 7 p.m.
URL:https://saclr.org/event/dash-wednesday/2018-10-17/
CATEGORIES:Youth Ministry
END:VEVENT
BEGIN:VEVENT
DTSTART;TZID=America/Chicago:20181010T180000
DTEND;TZID=America/Chicago:20181010T203000
DTSTAMP:20260423T040356
CREATED:20150922T063533Z
LAST-MODIFIED:20150922T063533Z
UID:10000207-1539194400-1539203400@saclr.org
SUMMARY:GiG Kids
DESCRIPTION:Children whose parents attend Growing in Grace enjoy a meal together and learn the Gospel story through the Jesus Storybook Bible.
URL:https://saclr.org/event/gig-kids/2018-10-10/
CATEGORIES:Children's Ministry,Early Childhood
END:VEVENT
BEGIN:VEVENT
DTSTART;TZID=America/Chicago:20181010T180000
DTEND;TZID=America/Chicago:20181010T203000
DTSTAMP:20260423T040356
CREATED:20150922T063351Z
LAST-MODIFIED:20150922T063351Z
UID:10000421-1539194400-1539203400@saclr.org
SUMMARY:Growing in Grace (GiG)
DESCRIPTION:A complimentary dinner is followed by a recovery service and a small-group\, 12-step-style meeting.
URL:https://saclr.org/event/growing-in-grace-gig/2018-10-10/
CATEGORIES:Adult Ministry
END:VEVENT
BEGIN:VEVENT
DTSTART;TZID=America/Chicago:20181010T180000
DTEND;TZID=America/Chicago:20181010T200000
DTSTAMP:20260423T040356
CREATED:20150922T063132Z
LAST-MODIFIED:20241212T222527Z
UID:10000647-1539194400-1539201600@saclr.org
SUMMARY:DASH (Wednesday)
DESCRIPTION:Sixth through twelfth graders enjoy dinner at 6 p.m. Worship and teaching on Gospel basics begins at 7 p.m.
URL:https://saclr.org/event/dash-wednesday/2018-10-10/
CATEGORIES:Youth Ministry
END:VEVENT
BEGIN:VEVENT
DTSTART;TZID=America/Chicago:20181003T180000
DTEND;TZID=America/Chicago:20181003T203000
DTSTAMP:20260423T040356
CREATED:20150922T063533Z
LAST-MODIFIED:20150922T063533Z
UID:10000206-1538589600-1538598600@saclr.org
SUMMARY:GiG Kids
DESCRIPTION:Children whose parents attend Growing in Grace enjoy a meal together and learn the Gospel story through the Jesus Storybook Bible.
URL:https://saclr.org/event/gig-kids/2018-10-03/
CATEGORIES:Children's Ministry,Early Childhood
END:VEVENT
BEGIN:VEVENT
DTSTART;TZID=America/Chicago:20181003T180000
DTEND;TZID=America/Chicago:20181003T203000
DTSTAMP:20260423T040356
CREATED:20150922T063351Z
LAST-MODIFIED:20150922T063351Z
UID:10000420-1538589600-1538598600@saclr.org
SUMMARY:Growing in Grace (GiG)
DESCRIPTION:A complimentary dinner is followed by a recovery service and a small-group\, 12-step-style meeting.
URL:https://saclr.org/event/growing-in-grace-gig/2018-10-03/
CATEGORIES:Adult Ministry
END:VEVENT
BEGIN:VEVENT
DTSTART;TZID=America/Chicago:20181003T180000
DTEND;TZID=America/Chicago:20181003T200000
DTSTAMP:20260423T040356
CREATED:20150922T063132Z
LAST-MODIFIED:20241212T222527Z
UID:10000646-1538589600-1538596800@saclr.org
SUMMARY:DASH (Wednesday)
DESCRIPTION:Sixth through twelfth graders enjoy dinner at 6 p.m. Worship and teaching on Gospel basics begins at 7 p.m.
URL:https://saclr.org/event/dash-wednesday/2018-10-03/
CATEGORIES:Youth Ministry
END:VEVENT
BEGIN:VEVENT
DTSTART;TZID=America/Chicago:20180926T180000
DTEND;TZID=America/Chicago:20180926T203000
DTSTAMP:20260423T040356
CREATED:20150922T063533Z
LAST-MODIFIED:20150922T063533Z
UID:10000205-1537984800-1537993800@saclr.org
SUMMARY:GiG Kids
DESCRIPTION:Children whose parents attend Growing in Grace enjoy a meal together and learn the Gospel story through the Jesus Storybook Bible.
URL:https://saclr.org/event/gig-kids/2018-09-26/
CATEGORIES:Children's Ministry,Early Childhood
END:VEVENT
BEGIN:VEVENT
DTSTART;TZID=America/Chicago:20180926T180000
DTEND;TZID=America/Chicago:20180926T203000
DTSTAMP:20260423T040356
CREATED:20150922T063351Z
LAST-MODIFIED:20150922T063351Z
UID:10000419-1537984800-1537993800@saclr.org
SUMMARY:Growing in Grace (GiG)
DESCRIPTION:A complimentary dinner is followed by a recovery service and a small-group\, 12-step-style meeting.
URL:https://saclr.org/event/growing-in-grace-gig/2018-09-26/
CATEGORIES:Adult Ministry
END:VEVENT
BEGIN:VEVENT
DTSTART;TZID=America/Chicago:20180926T180000
DTEND;TZID=America/Chicago:20180926T200000
DTSTAMP:20260423T040356
CREATED:20150922T063132Z
LAST-MODIFIED:20241212T222527Z
UID:10000645-1537984800-1537992000@saclr.org
SUMMARY:DASH (Wednesday)
DESCRIPTION:Sixth through twelfth graders enjoy dinner at 6 p.m. Worship and teaching on Gospel basics begins at 7 p.m.
URL:https://saclr.org/event/dash-wednesday/2018-09-26/
CATEGORIES:Youth Ministry
END:VEVENT
BEGIN:VEVENT
DTSTART;TZID=America/Chicago:20180924T180000
DTEND;TZID=America/Chicago:20180924T200000
DTSTAMP:20260423T040356
CREATED:20170712T191332Z
LAST-MODIFIED:20170712T191332Z
UID:10001430-1537812000-1537819200@saclr.org
SUMMARY:Alpha
DESCRIPTION:Alpha provides a safe\, welcoming place for followers of Christ to invite friends and family to explore the Christian faith and experience community. The course meets from 6-8 p.m. on Monday nights from September 24-November 12. Each evening will include a meal\, a brief lesson and lots of opportunity to discuss.
URL:https://saclr.org/event/alpha/2018-09-24/
END:VEVENT
BEGIN:VEVENT
DTSTART;TZID=America/Chicago:20180919T180000
DTEND;TZID=America/Chicago:20180919T203000
DTSTAMP:20260423T040356
CREATED:20150922T063533Z
LAST-MODIFIED:20150922T063533Z
UID:10000204-1537380000-1537389000@saclr.org
SUMMARY:GiG Kids
DESCRIPTION:Children whose parents attend Growing in Grace enjoy a meal together and learn the Gospel story through the Jesus Storybook Bible.
URL:https://saclr.org/event/gig-kids/2018-09-19/
CATEGORIES:Children's Ministry,Early Childhood
END:VEVENT
BEGIN:VEVENT
DTSTART;TZID=America/Chicago:20180919T180000
DTEND;TZID=America/Chicago:20180919T203000
DTSTAMP:20260423T040356
CREATED:20150922T063351Z
LAST-MODIFIED:20150922T063351Z
UID:10000418-1537380000-1537389000@saclr.org
SUMMARY:Growing in Grace (GiG)
DESCRIPTION:A complimentary dinner is followed by a recovery service and a small-group\, 12-step-style meeting.
URL:https://saclr.org/event/growing-in-grace-gig/2018-09-19/
CATEGORIES:Adult Ministry
END:VEVENT
BEGIN:VEVENT
DTSTART;TZID=America/Chicago:20180919T180000
DTEND;TZID=America/Chicago:20180919T200000
DTSTAMP:20260423T040356
CREATED:20150922T063132Z
LAST-MODIFIED:20241212T222527Z
UID:10000644-1537380000-1537387200@saclr.org
SUMMARY:DASH (Wednesday)
DESCRIPTION:Sixth through twelfth graders enjoy dinner at 6 p.m. Worship and teaching on Gospel basics begins at 7 p.m.
URL:https://saclr.org/event/dash-wednesday/2018-09-19/
CATEGORIES:Youth Ministry
END:VEVENT
BEGIN:VEVENT
DTSTART;TZID=America/Chicago:20180913T180000
DTEND;TZID=America/Chicago:20180913T200000
DTSTAMP:20260423T040356
CREATED:20180611T193248Z
LAST-MODIFIED:20180611T193248Z
UID:10001756-1536861600-1536868800@saclr.org
SUMMARY:Picnic at the Pavilion
DESCRIPTION:
URL:https://saclr.org/event/picnic-at-the-pavilion/2018-09-13/
END:VEVENT
BEGIN:VEVENT
DTSTART;TZID=America/Chicago:20180912T180000
DTEND;TZID=America/Chicago:20180912T203000
DTSTAMP:20260423T040356
CREATED:20150922T063533Z
LAST-MODIFIED:20150922T063533Z
UID:10000203-1536775200-1536784200@saclr.org
SUMMARY:GiG Kids
DESCRIPTION:Children whose parents attend Growing in Grace enjoy a meal together and learn the Gospel story through the Jesus Storybook Bible.
URL:https://saclr.org/event/gig-kids/2018-09-12/
CATEGORIES:Children's Ministry,Early Childhood
END:VEVENT
BEGIN:VEVENT
DTSTART;TZID=America/Chicago:20180912T180000
DTEND;TZID=America/Chicago:20180912T203000
DTSTAMP:20260423T040356
CREATED:20150922T063351Z
LAST-MODIFIED:20150922T063351Z
UID:10000417-1536775200-1536784200@saclr.org
SUMMARY:Growing in Grace (GiG)
DESCRIPTION:A complimentary dinner is followed by a recovery service and a small-group\, 12-step-style meeting.
URL:https://saclr.org/event/growing-in-grace-gig/2018-09-12/
CATEGORIES:Adult Ministry
END:VEVENT
BEGIN:VEVENT
DTSTART;TZID=America/Chicago:20180912T180000
DTEND;TZID=America/Chicago:20180912T200000
DTSTAMP:20260423T040356
CREATED:20150922T063132Z
LAST-MODIFIED:20241212T222527Z
UID:10000643-1536775200-1536782400@saclr.org
SUMMARY:DASH (Wednesday)
DESCRIPTION:Sixth through twelfth graders enjoy dinner at 6 p.m. Worship and teaching on Gospel basics begins at 7 p.m.
URL:https://saclr.org/event/dash-wednesday/2018-09-12/
CATEGORIES:Youth Ministry
END:VEVENT
BEGIN:VEVENT
DTSTART;TZID=America/Chicago:20180905T180000
DTEND;TZID=America/Chicago:20180905T203000
DTSTAMP:20260423T040356
CREATED:20150922T063533Z
LAST-MODIFIED:20150922T063533Z
UID:10000202-1536170400-1536179400@saclr.org
SUMMARY:GiG Kids
DESCRIPTION:Children whose parents attend Growing in Grace enjoy a meal together and learn the Gospel story through the Jesus Storybook Bible.
URL:https://saclr.org/event/gig-kids/2018-09-05/
CATEGORIES:Children's Ministry,Early Childhood
END:VEVENT
BEGIN:VEVENT
DTSTART;TZID=America/Chicago:20180905T180000
DTEND;TZID=America/Chicago:20180905T203000
DTSTAMP:20260423T040356
CREATED:20150922T063351Z
LAST-MODIFIED:20150922T063351Z
UID:10000416-1536170400-1536179400@saclr.org
SUMMARY:Growing in Grace (GiG)
DESCRIPTION:A complimentary dinner is followed by a recovery service and a small-group\, 12-step-style meeting.
URL:https://saclr.org/event/growing-in-grace-gig/2018-09-05/
CATEGORIES:Adult Ministry
END:VEVENT
BEGIN:VEVENT
DTSTART;TZID=America/Chicago:20180905T180000
DTEND;TZID=America/Chicago:20180905T200000
DTSTAMP:20260423T040356
CREATED:20150922T063132Z
LAST-MODIFIED:20241212T222527Z
UID:10000642-1536170400-1536177600@saclr.org
SUMMARY:DASH (Wednesday)
DESCRIPTION:Sixth through twelfth graders enjoy dinner at 6 p.m. Worship and teaching on Gospel basics begins at 7 p.m.
URL:https://saclr.org/event/dash-wednesday/2018-09-05/
CATEGORIES:Youth Ministry
END:VEVENT
BEGIN:VEVENT
DTSTART;TZID=America/Chicago:20180829T180000
DTEND;TZID=America/Chicago:20180829T203000
DTSTAMP:20260423T040356
CREATED:20150922T063533Z
LAST-MODIFIED:20150922T063533Z
UID:10000201-1535565600-1535574600@saclr.org
SUMMARY:GiG Kids
DESCRIPTION:Children whose parents attend Growing in Grace enjoy a meal together and learn the Gospel story through the Jesus Storybook Bible.
URL:https://saclr.org/event/gig-kids/2018-08-29/
CATEGORIES:Children's Ministry,Early Childhood
END:VEVENT
BEGIN:VEVENT
DTSTART;TZID=America/Chicago:20180829T180000
DTEND;TZID=America/Chicago:20180829T203000
DTSTAMP:20260423T040356
CREATED:20150922T063351Z
LAST-MODIFIED:20150922T063351Z
UID:10000415-1535565600-1535574600@saclr.org
SUMMARY:Growing in Grace (GiG)
DESCRIPTION:A complimentary dinner is followed by a recovery service and a small-group\, 12-step-style meeting.
URL:https://saclr.org/event/growing-in-grace-gig/2018-08-29/
CATEGORIES:Adult Ministry
END:VEVENT
BEGIN:VEVENT
DTSTART;TZID=America/Chicago:20180829T180000
DTEND;TZID=America/Chicago:20180829T200000
DTSTAMP:20260423T040356
CREATED:20150922T063132Z
LAST-MODIFIED:20241212T222527Z
UID:10000641-1535565600-1535572800@saclr.org
SUMMARY:DASH (Wednesday)
DESCRIPTION:Sixth through twelfth graders enjoy dinner at 6 p.m. Worship and teaching on Gospel basics begins at 7 p.m.
URL:https://saclr.org/event/dash-wednesday/2018-08-29/
CATEGORIES:Youth Ministry
END:VEVENT
BEGIN:VEVENT
DTSTART;TZID=America/Chicago:20180822T180000
DTEND;TZID=America/Chicago:20180822T203000
DTSTAMP:20260423T040356
CREATED:20150922T063533Z
LAST-MODIFIED:20150922T063533Z
UID:10000200-1534960800-1534969800@saclr.org
SUMMARY:GiG Kids
DESCRIPTION:Children whose parents attend Growing in Grace enjoy a meal together and learn the Gospel story through the Jesus Storybook Bible.
URL:https://saclr.org/event/gig-kids/2018-08-22/
CATEGORIES:Children's Ministry,Early Childhood
END:VEVENT
END:VCALENDAR