BEGIN:VCALENDAR
VERSION:2.0
PRODID:-//St. Andrew&#039;s Anglican Church - ECPv6.7.0//NONSGML v1.0//EN
CALSCALE:GREGORIAN
METHOD:PUBLISH
X-WR-CALNAME:St. Andrew&#039;s Anglican Church
X-ORIGINAL-URL:https://saclr.org
X-WR-CALDESC:Events for St. Andrew&#039;s Anglican Church
REFRESH-INTERVAL;VALUE=DURATION:PT1H
X-Robots-Tag:noindex
X-PUBLISHED-TTL:PT1H
BEGIN:VTIMEZONE
TZID:America/Chicago
BEGIN:DAYLIGHT
TZOFFSETFROM:-0600
TZOFFSETTO:-0500
TZNAME:CDT
DTSTART:20180311T080000
END:DAYLIGHT
BEGIN:STANDARD
TZOFFSETFROM:-0500
TZOFFSETTO:-0600
TZNAME:CST
DTSTART:20181104T070000
END:STANDARD
END:VTIMEZONE
BEGIN:VEVENT
DTSTART;TZID=America/Chicago:20180912T180000
DTEND;TZID=America/Chicago:20180912T203000
DTSTAMP:20260422T171945
CREATED:20150922T063533Z
LAST-MODIFIED:20150922T063533Z
UID:10000203-1536775200-1536784200@saclr.org
SUMMARY:GiG Kids
DESCRIPTION:Children whose parents attend Growing in Grace enjoy a meal together and learn the Gospel story through the Jesus Storybook Bible.
URL:https://saclr.org/event/gig-kids/2018-09-12/
CATEGORIES:Children's Ministry,Early Childhood
END:VEVENT
BEGIN:VEVENT
DTSTART;TZID=America/Chicago:20180912T180000
DTEND;TZID=America/Chicago:20180912T203000
DTSTAMP:20260422T171945
CREATED:20150922T063351Z
LAST-MODIFIED:20150922T063351Z
UID:10000417-1536775200-1536784200@saclr.org
SUMMARY:Growing in Grace (GiG)
DESCRIPTION:A complimentary dinner is followed by a recovery service and a small-group\, 12-step-style meeting.
URL:https://saclr.org/event/growing-in-grace-gig/2018-09-12/
CATEGORIES:Adult Ministry
END:VEVENT
BEGIN:VEVENT
DTSTART;TZID=America/Chicago:20180912T180000
DTEND;TZID=America/Chicago:20180912T200000
DTSTAMP:20260422T171945
CREATED:20150922T063132Z
LAST-MODIFIED:20241212T222527Z
UID:10000643-1536775200-1536782400@saclr.org
SUMMARY:DASH (Wednesday)
DESCRIPTION:Sixth through twelfth graders enjoy dinner at 6 p.m. Worship and teaching on Gospel basics begins at 7 p.m.
URL:https://saclr.org/event/dash-wednesday/2018-09-12/
CATEGORIES:Youth Ministry
END:VEVENT
BEGIN:VEVENT
DTSTART;TZID=America/Chicago:20180905T180000
DTEND;TZID=America/Chicago:20180905T203000
DTSTAMP:20260422T171945
CREATED:20150922T063533Z
LAST-MODIFIED:20150922T063533Z
UID:10000202-1536170400-1536179400@saclr.org
SUMMARY:GiG Kids
DESCRIPTION:Children whose parents attend Growing in Grace enjoy a meal together and learn the Gospel story through the Jesus Storybook Bible.
URL:https://saclr.org/event/gig-kids/2018-09-05/
CATEGORIES:Children's Ministry,Early Childhood
END:VEVENT
BEGIN:VEVENT
DTSTART;TZID=America/Chicago:20180905T180000
DTEND;TZID=America/Chicago:20180905T203000
DTSTAMP:20260422T171945
CREATED:20150922T063351Z
LAST-MODIFIED:20150922T063351Z
UID:10000416-1536170400-1536179400@saclr.org
SUMMARY:Growing in Grace (GiG)
DESCRIPTION:A complimentary dinner is followed by a recovery service and a small-group\, 12-step-style meeting.
URL:https://saclr.org/event/growing-in-grace-gig/2018-09-05/
CATEGORIES:Adult Ministry
END:VEVENT
BEGIN:VEVENT
DTSTART;TZID=America/Chicago:20180905T180000
DTEND;TZID=America/Chicago:20180905T200000
DTSTAMP:20260422T171945
CREATED:20150922T063132Z
LAST-MODIFIED:20241212T222527Z
UID:10000642-1536170400-1536177600@saclr.org
SUMMARY:DASH (Wednesday)
DESCRIPTION:Sixth through twelfth graders enjoy dinner at 6 p.m. Worship and teaching on Gospel basics begins at 7 p.m.
URL:https://saclr.org/event/dash-wednesday/2018-09-05/
CATEGORIES:Youth Ministry
END:VEVENT
BEGIN:VEVENT
DTSTART;TZID=America/Chicago:20180829T180000
DTEND;TZID=America/Chicago:20180829T203000
DTSTAMP:20260422T171945
CREATED:20150922T063533Z
LAST-MODIFIED:20150922T063533Z
UID:10000201-1535565600-1535574600@saclr.org
SUMMARY:GiG Kids
DESCRIPTION:Children whose parents attend Growing in Grace enjoy a meal together and learn the Gospel story through the Jesus Storybook Bible.
URL:https://saclr.org/event/gig-kids/2018-08-29/
CATEGORIES:Children's Ministry,Early Childhood
END:VEVENT
BEGIN:VEVENT
DTSTART;TZID=America/Chicago:20180829T180000
DTEND;TZID=America/Chicago:20180829T203000
DTSTAMP:20260422T171945
CREATED:20150922T063351Z
LAST-MODIFIED:20150922T063351Z
UID:10000415-1535565600-1535574600@saclr.org
SUMMARY:Growing in Grace (GiG)
DESCRIPTION:A complimentary dinner is followed by a recovery service and a small-group\, 12-step-style meeting.
URL:https://saclr.org/event/growing-in-grace-gig/2018-08-29/
CATEGORIES:Adult Ministry
END:VEVENT
BEGIN:VEVENT
DTSTART;TZID=America/Chicago:20180829T180000
DTEND;TZID=America/Chicago:20180829T200000
DTSTAMP:20260422T171945
CREATED:20150922T063132Z
LAST-MODIFIED:20241212T222527Z
UID:10000641-1535565600-1535572800@saclr.org
SUMMARY:DASH (Wednesday)
DESCRIPTION:Sixth through twelfth graders enjoy dinner at 6 p.m. Worship and teaching on Gospel basics begins at 7 p.m.
URL:https://saclr.org/event/dash-wednesday/2018-08-29/
CATEGORIES:Youth Ministry
END:VEVENT
BEGIN:VEVENT
DTSTART;TZID=America/Chicago:20180822T180000
DTEND;TZID=America/Chicago:20180822T203000
DTSTAMP:20260422T171945
CREATED:20150922T063533Z
LAST-MODIFIED:20150922T063533Z
UID:10000200-1534960800-1534969800@saclr.org
SUMMARY:GiG Kids
DESCRIPTION:Children whose parents attend Growing in Grace enjoy a meal together and learn the Gospel story through the Jesus Storybook Bible.
URL:https://saclr.org/event/gig-kids/2018-08-22/
CATEGORIES:Children's Ministry,Early Childhood
END:VEVENT
BEGIN:VEVENT
DTSTART;TZID=America/Chicago:20180822T180000
DTEND;TZID=America/Chicago:20180822T203000
DTSTAMP:20260422T171945
CREATED:20150922T063351Z
LAST-MODIFIED:20150922T063351Z
UID:10000414-1534960800-1534969800@saclr.org
SUMMARY:Growing in Grace (GiG)
DESCRIPTION:A complimentary dinner is followed by a recovery service and a small-group\, 12-step-style meeting.
URL:https://saclr.org/event/growing-in-grace-gig/2018-08-22/
CATEGORIES:Adult Ministry
END:VEVENT
BEGIN:VEVENT
DTSTART;TZID=America/Chicago:20180822T180000
DTEND;TZID=America/Chicago:20180822T200000
DTSTAMP:20260422T171945
CREATED:20150922T063132Z
LAST-MODIFIED:20241212T222527Z
UID:10000640-1534960800-1534968000@saclr.org
SUMMARY:DASH (Wednesday)
DESCRIPTION:Sixth through twelfth graders enjoy dinner at 6 p.m. Worship and teaching on Gospel basics begins at 7 p.m.
URL:https://saclr.org/event/dash-wednesday/2018-08-22/
CATEGORIES:Youth Ministry
END:VEVENT
BEGIN:VEVENT
DTSTART;TZID=America/Chicago:20180819T190000
DTEND;TZID=America/Chicago:20180819T203000
DTSTAMP:20260422T171945
CREATED:20180611T194153Z
LAST-MODIFIED:20180611T194153Z
UID:10001753-1534705200-1534710600@saclr.org
SUMMARY:Newcomers' Dessert
DESCRIPTION:
URL:https://saclr.org/event/newcomers-dessert-3/
END:VEVENT
BEGIN:VEVENT
DTSTART;TZID=America/Chicago:20180815T180000
DTEND;TZID=America/Chicago:20180815T203000
DTSTAMP:20260422T171945
CREATED:20150922T063533Z
LAST-MODIFIED:20150922T063533Z
UID:10000199-1534356000-1534365000@saclr.org
SUMMARY:GiG Kids
DESCRIPTION:Children whose parents attend Growing in Grace enjoy a meal together and learn the Gospel story through the Jesus Storybook Bible.
URL:https://saclr.org/event/gig-kids/2018-08-15/
CATEGORIES:Children's Ministry,Early Childhood
END:VEVENT
BEGIN:VEVENT
DTSTART;TZID=America/Chicago:20180815T180000
DTEND;TZID=America/Chicago:20180815T203000
DTSTAMP:20260422T171945
CREATED:20150922T063351Z
LAST-MODIFIED:20150922T063351Z
UID:10000413-1534356000-1534365000@saclr.org
SUMMARY:Growing in Grace (GiG)
DESCRIPTION:A complimentary dinner is followed by a recovery service and a small-group\, 12-step-style meeting.
URL:https://saclr.org/event/growing-in-grace-gig/2018-08-15/
CATEGORIES:Adult Ministry
END:VEVENT
BEGIN:VEVENT
DTSTART;TZID=America/Chicago:20180815T180000
DTEND;TZID=America/Chicago:20180815T200000
DTSTAMP:20260422T171945
CREATED:20150922T063132Z
LAST-MODIFIED:20241212T222527Z
UID:10000639-1534356000-1534363200@saclr.org
SUMMARY:DASH (Wednesday)
DESCRIPTION:Sixth through twelfth graders enjoy dinner at 6 p.m. Worship and teaching on Gospel basics begins at 7 p.m.
URL:https://saclr.org/event/dash-wednesday/2018-08-15/
CATEGORIES:Youth Ministry
END:VEVENT
BEGIN:VEVENT
DTSTART;TZID=America/Chicago:20180813T180000
DTEND;TZID=America/Chicago:20180813T200000
DTSTAMP:20260422T171945
CREATED:20180611T193248Z
LAST-MODIFIED:20180611T193248Z
UID:10001755-1534183200-1534190400@saclr.org
SUMMARY:Picnic at the Pavilion
DESCRIPTION:
URL:https://saclr.org/event/picnic-at-the-pavilion/2018-08-13/
END:VEVENT
BEGIN:VEVENT
DTSTART;TZID=America/Chicago:20180808T180000
DTEND;TZID=America/Chicago:20180808T203000
DTSTAMP:20260422T171945
CREATED:20150922T063533Z
LAST-MODIFIED:20150922T063533Z
UID:10000198-1533751200-1533760200@saclr.org
SUMMARY:GiG Kids
DESCRIPTION:Children whose parents attend Growing in Grace enjoy a meal together and learn the Gospel story through the Jesus Storybook Bible.
URL:https://saclr.org/event/gig-kids/2018-08-08/
CATEGORIES:Children's Ministry,Early Childhood
END:VEVENT
BEGIN:VEVENT
DTSTART;TZID=America/Chicago:20180808T180000
DTEND;TZID=America/Chicago:20180808T203000
DTSTAMP:20260422T171945
CREATED:20150922T063351Z
LAST-MODIFIED:20150922T063351Z
UID:10000412-1533751200-1533760200@saclr.org
SUMMARY:Growing in Grace (GiG)
DESCRIPTION:A complimentary dinner is followed by a recovery service and a small-group\, 12-step-style meeting.
URL:https://saclr.org/event/growing-in-grace-gig/2018-08-08/
CATEGORIES:Adult Ministry
END:VEVENT
BEGIN:VEVENT
DTSTART;TZID=America/Chicago:20180808T180000
DTEND;TZID=America/Chicago:20180808T200000
DTSTAMP:20260422T171945
CREATED:20150922T063132Z
LAST-MODIFIED:20241212T222527Z
UID:10000638-1533751200-1533758400@saclr.org
SUMMARY:DASH (Wednesday)
DESCRIPTION:Sixth through twelfth graders enjoy dinner at 6 p.m. Worship and teaching on Gospel basics begins at 7 p.m.
URL:https://saclr.org/event/dash-wednesday/2018-08-08/
CATEGORIES:Youth Ministry
END:VEVENT
BEGIN:VEVENT
DTSTART;VALUE=DATE:20180805
DTEND;VALUE=DATE:20180806
DTSTAMP:20260422T171945
CREATED:20180611T194034Z
LAST-MODIFIED:20180611T194034Z
UID:10001427-1533427200-1533513599@saclr.org
SUMMARY:Move-Up Sunday
DESCRIPTION:All children move up to their new fall classes.
URL:https://saclr.org/event/move-up-sunday/
END:VEVENT
BEGIN:VEVENT
DTSTART;TZID=America/Chicago:20180803T180000
DTEND;TZID=America/Chicago:20180803T200000
DTSTAMP:20260422T171945
CREATED:20180611T193248Z
LAST-MODIFIED:20180611T193248Z
UID:10001429-1533319200-1533326400@saclr.org
SUMMARY:Picnic at the Pavilion
DESCRIPTION:
URL:https://saclr.org/event/picnic-at-the-pavilion-2018-08-10/
END:VEVENT
BEGIN:VEVENT
DTSTART;TZID=America/Chicago:20180801T180000
DTEND;TZID=America/Chicago:20180801T203000
DTSTAMP:20260422T171945
CREATED:20150922T063533Z
LAST-MODIFIED:20150922T063533Z
UID:10000197-1533146400-1533155400@saclr.org
SUMMARY:GiG Kids
DESCRIPTION:Children whose parents attend Growing in Grace enjoy a meal together and learn the Gospel story through the Jesus Storybook Bible.
URL:https://saclr.org/event/gig-kids/2018-08-01/
CATEGORIES:Children's Ministry,Early Childhood
END:VEVENT
BEGIN:VEVENT
DTSTART;TZID=America/Chicago:20180801T180000
DTEND;TZID=America/Chicago:20180801T203000
DTSTAMP:20260422T171945
CREATED:20150922T063351Z
LAST-MODIFIED:20150922T063351Z
UID:10000411-1533146400-1533155400@saclr.org
SUMMARY:Growing in Grace (GiG)
DESCRIPTION:A complimentary dinner is followed by a recovery service and a small-group\, 12-step-style meeting.
URL:https://saclr.org/event/growing-in-grace-gig/2018-08-01/
CATEGORIES:Adult Ministry
END:VEVENT
BEGIN:VEVENT
DTSTART;TZID=America/Chicago:20180801T180000
DTEND;TZID=America/Chicago:20180801T200000
DTSTAMP:20260422T171945
CREATED:20150922T063132Z
LAST-MODIFIED:20241212T222527Z
UID:10000637-1533146400-1533153600@saclr.org
SUMMARY:DASH (Wednesday)
DESCRIPTION:Sixth through twelfth graders enjoy dinner at 6 p.m. Worship and teaching on Gospel basics begins at 7 p.m.
URL:https://saclr.org/event/dash-wednesday/2018-08-01/
CATEGORIES:Youth Ministry
END:VEVENT
BEGIN:VEVENT
DTSTART;TZID=America/Chicago:20180725T180000
DTEND;TZID=America/Chicago:20180725T203000
DTSTAMP:20260422T171945
CREATED:20150922T063533Z
LAST-MODIFIED:20150922T063533Z
UID:10000196-1532541600-1532550600@saclr.org
SUMMARY:GiG Kids
DESCRIPTION:Children whose parents attend Growing in Grace enjoy a meal together and learn the Gospel story through the Jesus Storybook Bible.
URL:https://saclr.org/event/gig-kids/2018-07-25/
CATEGORIES:Children's Ministry,Early Childhood
END:VEVENT
BEGIN:VEVENT
DTSTART;TZID=America/Chicago:20180725T180000
DTEND;TZID=America/Chicago:20180725T203000
DTSTAMP:20260422T171945
CREATED:20150922T063351Z
LAST-MODIFIED:20150922T063351Z
UID:10000410-1532541600-1532550600@saclr.org
SUMMARY:Growing in Grace (GiG)
DESCRIPTION:A complimentary dinner is followed by a recovery service and a small-group\, 12-step-style meeting.
URL:https://saclr.org/event/growing-in-grace-gig/2018-07-25/
CATEGORIES:Adult Ministry
END:VEVENT
BEGIN:VEVENT
DTSTART;TZID=America/Chicago:20180725T180000
DTEND;TZID=America/Chicago:20180725T200000
DTSTAMP:20260422T171945
CREATED:20150922T063132Z
LAST-MODIFIED:20241212T222527Z
UID:10000636-1532541600-1532548800@saclr.org
SUMMARY:DASH (Wednesday)
DESCRIPTION:Sixth through twelfth graders enjoy dinner at 6 p.m. Worship and teaching on Gospel basics begins at 7 p.m.
URL:https://saclr.org/event/dash-wednesday/2018-07-25/
CATEGORIES:Youth Ministry
END:VEVENT
BEGIN:VEVENT
DTSTART;TZID=America/Chicago:20180718T180000
DTEND;TZID=America/Chicago:20180718T203000
DTSTAMP:20260422T171945
CREATED:20150922T063533Z
LAST-MODIFIED:20150922T063533Z
UID:10000195-1531936800-1531945800@saclr.org
SUMMARY:GiG Kids
DESCRIPTION:Children whose parents attend Growing in Grace enjoy a meal together and learn the Gospel story through the Jesus Storybook Bible.
URL:https://saclr.org/event/gig-kids/2018-07-18/
CATEGORIES:Children's Ministry,Early Childhood
END:VEVENT
BEGIN:VEVENT
DTSTART;TZID=America/Chicago:20180718T180000
DTEND;TZID=America/Chicago:20180718T203000
DTSTAMP:20260422T171945
CREATED:20150922T063351Z
LAST-MODIFIED:20150922T063351Z
UID:10000409-1531936800-1531945800@saclr.org
SUMMARY:Growing in Grace (GiG)
DESCRIPTION:A complimentary dinner is followed by a recovery service and a small-group\, 12-step-style meeting.
URL:https://saclr.org/event/growing-in-grace-gig/2018-07-18/
CATEGORIES:Adult Ministry
END:VEVENT
END:VCALENDAR