BEGIN:VCALENDAR
VERSION:2.0
PRODID:-//St. Andrew&#039;s Anglican Church - ECPv6.7.0//NONSGML v1.0//EN
CALSCALE:GREGORIAN
METHOD:PUBLISH
X-WR-CALNAME:St. Andrew&#039;s Anglican Church
X-ORIGINAL-URL:https://saclr.org
X-WR-CALDESC:Events for St. Andrew&#039;s Anglican Church
REFRESH-INTERVAL;VALUE=DURATION:PT1H
X-Robots-Tag:noindex
X-PUBLISHED-TTL:PT1H
BEGIN:VTIMEZONE
TZID:America/Chicago
BEGIN:DAYLIGHT
TZOFFSETFROM:-0600
TZOFFSETTO:-0500
TZNAME:CDT
DTSTART:20190310T080000
END:DAYLIGHT
BEGIN:STANDARD
TZOFFSETFROM:-0500
TZOFFSETTO:-0600
TZNAME:CST
DTSTART:20191103T070000
END:STANDARD
END:VTIMEZONE
BEGIN:VEVENT
DTSTART;TZID=America/Chicago:20190501T180000
DTEND;TZID=America/Chicago:20190501T200000
DTSTAMP:20260422T213054
CREATED:20150922T063132Z
LAST-MODIFIED:20241212T222527Z
UID:10000676-1556733600-1556740800@saclr.org
SUMMARY:DASH (Wednesday)
DESCRIPTION:Sixth through twelfth graders enjoy dinner at 6 p.m. Worship and teaching on Gospel basics begins at 7 p.m.
URL:https://saclr.org/event/dash-wednesday/2019-05-01/
CATEGORIES:Youth Ministry
END:VEVENT
BEGIN:VEVENT
DTSTART;TZID=America/Chicago:20190428T190000
DTEND;TZID=America/Chicago:20190428T203000
DTSTAMP:20260422T213054
CREATED:20190118T011213Z
LAST-MODIFIED:20190118T011213Z
UID:10000475-1556478000-1556483400@saclr.org
SUMMARY:Women in the Word
DESCRIPTION:St. Andrew’s\, we invite you to join us in a new season of Bible study. Come and have a cup of tea and delve deeper into God’s Word as we focus on Colossians 3: Women Living Holy in 2019.  Prayerfully consider being a part\, as we “set our hearts and minds on things above.“
URL:https://saclr.org/event/women-in-the-word/2019-04-28/
END:VEVENT
BEGIN:VEVENT
DTSTART;TZID=America/Chicago:20190424T180000
DTEND;TZID=America/Chicago:20190424T200000
DTSTAMP:20260422T213054
CREATED:20150922T063132Z
LAST-MODIFIED:20241212T222527Z
UID:10000675-1556128800-1556136000@saclr.org
SUMMARY:DASH (Wednesday)
DESCRIPTION:Sixth through twelfth graders enjoy dinner at 6 p.m. Worship and teaching on Gospel basics begins at 7 p.m.
URL:https://saclr.org/event/dash-wednesday/2019-04-24/
CATEGORIES:Youth Ministry
END:VEVENT
BEGIN:VEVENT
DTSTART;TZID=America/Chicago:20190417T180000
DTEND;TZID=America/Chicago:20190417T200000
DTSTAMP:20260422T213054
CREATED:20150922T063132Z
LAST-MODIFIED:20241212T222527Z
UID:10000674-1555524000-1555531200@saclr.org
SUMMARY:DASH (Wednesday)
DESCRIPTION:Sixth through twelfth graders enjoy dinner at 6 p.m. Worship and teaching on Gospel basics begins at 7 p.m.
URL:https://saclr.org/event/dash-wednesday/2019-04-17/
CATEGORIES:Youth Ministry
END:VEVENT
BEGIN:VEVENT
DTSTART;TZID=America/Chicago:20190410T180000
DTEND;TZID=America/Chicago:20190410T200000
DTSTAMP:20260422T213054
CREATED:20150922T063132Z
LAST-MODIFIED:20241212T222527Z
UID:10000673-1554919200-1554926400@saclr.org
SUMMARY:DASH (Wednesday)
DESCRIPTION:Sixth through twelfth graders enjoy dinner at 6 p.m. Worship and teaching on Gospel basics begins at 7 p.m.
URL:https://saclr.org/event/dash-wednesday/2019-04-10/
CATEGORIES:Youth Ministry
END:VEVENT
BEGIN:VEVENT
DTSTART;TZID=America/Chicago:20190403T180000
DTEND;TZID=America/Chicago:20190403T200000
DTSTAMP:20260422T213054
CREATED:20150922T063132Z
LAST-MODIFIED:20241212T222527Z
UID:10000672-1554314400-1554321600@saclr.org
SUMMARY:DASH (Wednesday)
DESCRIPTION:Sixth through twelfth graders enjoy dinner at 6 p.m. Worship and teaching on Gospel basics begins at 7 p.m.
URL:https://saclr.org/event/dash-wednesday/2019-04-03/
CATEGORIES:Youth Ministry
END:VEVENT
BEGIN:VEVENT
DTSTART;TZID=America/Chicago:20190328T190000
DTEND;TZID=America/Chicago:20190328T203000
DTSTAMP:20260422T213054
CREATED:20190118T011213Z
LAST-MODIFIED:20190118T011213Z
UID:10000474-1553799600-1553805000@saclr.org
SUMMARY:Women in the Word
DESCRIPTION:St. Andrew’s\, we invite you to join us in a new season of Bible study. Come and have a cup of tea and delve deeper into God’s Word as we focus on Colossians 3: Women Living Holy in 2019.  Prayerfully consider being a part\, as we “set our hearts and minds on things above.“
URL:https://saclr.org/event/women-in-the-word/2019-03-28/
END:VEVENT
BEGIN:VEVENT
DTSTART;TZID=America/Chicago:20190327T180000
DTEND;TZID=America/Chicago:20190327T200000
DTSTAMP:20260422T213054
CREATED:20150922T063132Z
LAST-MODIFIED:20241212T222527Z
UID:10000671-1553709600-1553716800@saclr.org
SUMMARY:DASH (Wednesday)
DESCRIPTION:Sixth through twelfth graders enjoy dinner at 6 p.m. Worship and teaching on Gospel basics begins at 7 p.m.
URL:https://saclr.org/event/dash-wednesday/2019-03-27/
CATEGORIES:Youth Ministry
END:VEVENT
BEGIN:VEVENT
DTSTART;TZID=America/Chicago:20190320T180000
DTEND;TZID=America/Chicago:20190320T200000
DTSTAMP:20260422T213054
CREATED:20150922T063132Z
LAST-MODIFIED:20241212T222527Z
UID:10000670-1553104800-1553112000@saclr.org
SUMMARY:DASH (Wednesday)
DESCRIPTION:Sixth through twelfth graders enjoy dinner at 6 p.m. Worship and teaching on Gospel basics begins at 7 p.m.
URL:https://saclr.org/event/dash-wednesday/2019-03-20/
CATEGORIES:Youth Ministry
END:VEVENT
BEGIN:VEVENT
DTSTART;TZID=America/Chicago:20190313T180000
DTEND;TZID=America/Chicago:20190313T200000
DTSTAMP:20260422T213054
CREATED:20150922T063132Z
LAST-MODIFIED:20241212T222527Z
UID:10000669-1552500000-1552507200@saclr.org
SUMMARY:DASH (Wednesday)
DESCRIPTION:Sixth through twelfth graders enjoy dinner at 6 p.m. Worship and teaching on Gospel basics begins at 7 p.m.
URL:https://saclr.org/event/dash-wednesday/2019-03-13/
CATEGORIES:Youth Ministry
END:VEVENT
BEGIN:VEVENT
DTSTART;TZID=America/Chicago:20190308T173000
DTEND;TZID=America/Chicago:20190308T180000
DTSTAMP:20260422T213054
CREATED:20170123T232027Z
LAST-MODIFIED:20170123T232027Z
UID:10000022-1552066200-1552068000@saclr.org
SUMMARY:Anglican Evening Prayer
DESCRIPTION:You are invited to an evening prayer service from the Book of Common Prayer each Friday from 5:30-6 p.m. in the Prayer Room. Join us for a great opportunity to refocus at the end of the week\, and to prepare our hearts for the weekend. All are welcome. Contact Ephraim McNair for more information.
URL:https://saclr.org/event/evening-prayer-2/2019-03-08/
END:VEVENT
BEGIN:VEVENT
DTSTART;TZID=America/Chicago:20190306T180000
DTEND;TZID=America/Chicago:20190306T200000
DTSTAMP:20260422T213054
CREATED:20150922T063132Z
LAST-MODIFIED:20241212T222527Z
UID:10000668-1551895200-1551902400@saclr.org
SUMMARY:DASH (Wednesday)
DESCRIPTION:Sixth through twelfth graders enjoy dinner at 6 p.m. Worship and teaching on Gospel basics begins at 7 p.m.
URL:https://saclr.org/event/dash-wednesday/2019-03-06/
CATEGORIES:Youth Ministry
END:VEVENT
BEGIN:VEVENT
DTSTART;TZID=America/Chicago:20190228T190000
DTEND;TZID=America/Chicago:20190228T203000
DTSTAMP:20260422T213054
CREATED:20190118T011213Z
LAST-MODIFIED:20190118T011213Z
UID:10000473-1551380400-1551385800@saclr.org
SUMMARY:Women in the Word
DESCRIPTION:St. Andrew’s\, we invite you to join us in a new season of Bible study. Come and have a cup of tea and delve deeper into God’s Word as we focus on Colossians 3: Women Living Holy in 2019.  Prayerfully consider being a part\, as we “set our hearts and minds on things above.“
URL:https://saclr.org/event/women-in-the-word/2019-02-28/
END:VEVENT
BEGIN:VEVENT
DTSTART;TZID=America/Chicago:20190227T180000
DTEND;TZID=America/Chicago:20190227T200000
DTSTAMP:20260422T213054
CREATED:20150922T063132Z
LAST-MODIFIED:20241212T222527Z
UID:10000667-1551290400-1551297600@saclr.org
SUMMARY:DASH (Wednesday)
DESCRIPTION:Sixth through twelfth graders enjoy dinner at 6 p.m. Worship and teaching on Gospel basics begins at 7 p.m.
URL:https://saclr.org/event/dash-wednesday/2019-02-27/
CATEGORIES:Youth Ministry
END:VEVENT
BEGIN:VEVENT
DTSTART;TZID=America/Chicago:20190220T180000
DTEND;TZID=America/Chicago:20190220T200000
DTSTAMP:20260422T213054
CREATED:20150922T063132Z
LAST-MODIFIED:20241212T222527Z
UID:10000666-1550685600-1550692800@saclr.org
SUMMARY:DASH (Wednesday)
DESCRIPTION:Sixth through twelfth graders enjoy dinner at 6 p.m. Worship and teaching on Gospel basics begins at 7 p.m.
URL:https://saclr.org/event/dash-wednesday/2019-02-20/
CATEGORIES:Youth Ministry
END:VEVENT
BEGIN:VEVENT
DTSTART;TZID=America/Chicago:20190215T173000
DTEND;TZID=America/Chicago:20190215T203000
DTSTAMP:20260422T213054
CREATED:20190118T010548Z
LAST-MODIFIED:20190118T010548Z
UID:10000258-1550251800-1550262600@saclr.org
SUMMARY:Children's Ministry date night
DESCRIPTION:Let us make your Valentine’s Day plans a little easier! On February 15\, from 5:30-8:30 p.m.\, drop off your children (K-6th grade) at the St. Andrew’s youth room. We’ll be serving snacks and pizza (GF available upon request)\, playing games\, and loving time spent with your kids while YOU get three sweet hours of freedom to enjoy your Valentine! Registration is limited to 50 students\, so sign up now.
URL:https://saclr.org/event/childrens-ministry-date-night/
END:VEVENT
BEGIN:VEVENT
DTSTART;TZID=America/Chicago:20190213T180000
DTEND;TZID=America/Chicago:20190213T200000
DTSTAMP:20260422T213054
CREATED:20150922T063132Z
LAST-MODIFIED:20241212T222527Z
UID:10000665-1550080800-1550088000@saclr.org
SUMMARY:DASH (Wednesday)
DESCRIPTION:Sixth through twelfth graders enjoy dinner at 6 p.m. Worship and teaching on Gospel basics begins at 7 p.m.
URL:https://saclr.org/event/dash-wednesday/2019-02-13/
CATEGORIES:Youth Ministry
END:VEVENT
BEGIN:VEVENT
DTSTART;TZID=America/Chicago:20190213T093000
DTEND;TZID=America/Chicago:20190213T120000
DTSTAMP:20260422T213054
CREATED:20190118T010645Z
LAST-MODIFIED:20190118T010645Z
UID:10000259-1550050200-1550059200@saclr.org
SUMMARY:Early Childhood Day at the Wonder Place
DESCRIPTION:You’re invited to join us for a fun Valentine’s Day play date at the Wonder Place on Wednesday\, February 13\, from 9:30 a.m.–noon. All families are invited. Bring a lunch for your family (fast food is not allowed in the facility) and join us for lunch in the party room. Cost is a discounted $4 per person. Please email Sarah Martin to make a reservation.
URL:https://saclr.org/event/early-childhood-day-wonder-place-2/
END:VEVENT
BEGIN:VEVENT
DTSTART;TZID=America/Chicago:20190207T190000
DTEND;TZID=America/Chicago:20190207T203000
DTSTAMP:20260422T213054
CREATED:20190118T010753Z
LAST-MODIFIED:20190118T010753Z
UID:10000260-1549566000-1549571400@saclr.org
SUMMARY:Come & See
DESCRIPTION:The women of St. Andrew’s are invited to join us on Thursday\, February 7 from 7-8:30 p.m. at Heather Larsen’s home for a causal time of sharing stories about how we are seeing the Lord at work. This will be an “open-floor” evening and we would love to hear from you about the ways you are seeing God’s kingdom breaking in!
URL:https://saclr.org/event/come-see/
END:VEVENT
BEGIN:VEVENT
DTSTART;TZID=America/Chicago:20190206T180000
DTEND;TZID=America/Chicago:20190206T200000
DTSTAMP:20260422T213054
CREATED:20150922T063132Z
LAST-MODIFIED:20241212T222527Z
UID:10000664-1549476000-1549483200@saclr.org
SUMMARY:DASH (Wednesday)
DESCRIPTION:Sixth through twelfth graders enjoy dinner at 6 p.m. Worship and teaching on Gospel basics begins at 7 p.m.
URL:https://saclr.org/event/dash-wednesday/2019-02-06/
CATEGORIES:Youth Ministry
END:VEVENT
BEGIN:VEVENT
DTSTART;TZID=America/Chicago:20190205T100000
DTEND;TZID=America/Chicago:20190205T120000
DTSTAMP:20260422T213054
CREATED:20190104T012850Z
LAST-MODIFIED:20190104T012850Z
UID:10001747-1549360800-1549368000@saclr.org
SUMMARY:Seeing Jesus in the Old Testament
DESCRIPTION:Job\, Psalms\, Proverbs\, Ecclesiastes and Song of Solomon allow us to see The Wisdom of God—Jesus himself— in a fresh way through this study. “He is able to ‘make you wise for salvation’ through this life and one day into his presence as one who is truly wise.” \nContact: Doody Keet
URL:https://saclr.org/event/seeing-jesus-old-testament/2019-02-05/
END:VEVENT
BEGIN:VEVENT
DTSTART;TZID=America/Chicago:20190130T180000
DTEND;TZID=America/Chicago:20190130T200000
DTSTAMP:20260422T213054
CREATED:20150922T063132Z
LAST-MODIFIED:20241212T222527Z
UID:10000663-1548871200-1548878400@saclr.org
SUMMARY:DASH (Wednesday)
DESCRIPTION:Sixth through twelfth graders enjoy dinner at 6 p.m. Worship and teaching on Gospel basics begins at 7 p.m.
URL:https://saclr.org/event/dash-wednesday/2019-01-30/
CATEGORIES:Youth Ministry
END:VEVENT
BEGIN:VEVENT
DTSTART;TZID=America/Chicago:20190128T190000
DTEND;TZID=America/Chicago:20190128T203000
DTSTAMP:20260422T213054
CREATED:20190118T011213Z
LAST-MODIFIED:20190118T011213Z
UID:10000472-1548702000-1548707400@saclr.org
SUMMARY:Women in the Word
DESCRIPTION:St. Andrew’s\, we invite you to join us in a new season of Bible study. Come and have a cup of tea and delve deeper into God’s Word as we focus on Colossians 3: Women Living Holy in 2019.  Prayerfully consider being a part\, as we “set our hearts and minds on things above.“
URL:https://saclr.org/event/women-in-the-word/2019-01-28/
END:VEVENT
BEGIN:VEVENT
DTSTART;TZID=America/Chicago:20190123T180000
DTEND;TZID=America/Chicago:20190123T200000
DTSTAMP:20260422T213054
CREATED:20150922T063132Z
LAST-MODIFIED:20241212T222527Z
UID:10000662-1548266400-1548273600@saclr.org
SUMMARY:DASH (Wednesday)
DESCRIPTION:Sixth through twelfth graders enjoy dinner at 6 p.m. Worship and teaching on Gospel basics begins at 7 p.m.
URL:https://saclr.org/event/dash-wednesday/2019-01-23/
CATEGORIES:Youth Ministry
END:VEVENT
BEGIN:VEVENT
DTSTART;TZID=America/Chicago:20190120T190000
DTEND;TZID=America/Chicago:20190120T203000
DTSTAMP:20260422T213054
CREATED:20190118T010854Z
LAST-MODIFIED:20190118T010854Z
UID:10000261-1548010800-1548016200@saclr.org
SUMMARY:Newcomers' Dessert
DESCRIPTION:Are you new to St. Andrew’s? If so\, we’d like to invite you to Pastor Robert and Kimberly’s (181 Pebble Beach Dr.; 72212) home for a casual time of dessert and fellowship.
URL:https://saclr.org/event/newcomers-dessert-4/
END:VEVENT
BEGIN:VEVENT
DTSTART;TZID=America/Chicago:20190120T160000
DTEND;TZID=America/Chicago:20190120T171500
DTSTAMP:20260422T213054
CREATED:20190118T010939Z
LAST-MODIFIED:20190118T010939Z
UID:10000440-1548000000-1548004500@saclr.org
SUMMARY:Cornerstone
DESCRIPTION:Find out more information about our church plant here.
URL:https://saclr.org/event/cornerstone/2019-01-20/
END:VEVENT
BEGIN:VEVENT
DTSTART;TZID=America/Chicago:20190116T180000
DTEND;TZID=America/Chicago:20190116T200000
DTSTAMP:20260422T213054
CREATED:20150922T063132Z
LAST-MODIFIED:20241212T222527Z
UID:10000661-1547661600-1547668800@saclr.org
SUMMARY:DASH (Wednesday)
DESCRIPTION:Sixth through twelfth graders enjoy dinner at 6 p.m. Worship and teaching on Gospel basics begins at 7 p.m.
URL:https://saclr.org/event/dash-wednesday/2019-01-16/
CATEGORIES:Youth Ministry
END:VEVENT
BEGIN:VEVENT
DTSTART;TZID=America/Chicago:20190109T180000
DTEND;TZID=America/Chicago:20190109T200000
DTSTAMP:20260422T213054
CREATED:20150922T063132Z
LAST-MODIFIED:20241212T222527Z
UID:10000660-1547056800-1547064000@saclr.org
SUMMARY:DASH (Wednesday)
DESCRIPTION:Sixth through twelfth graders enjoy dinner at 6 p.m. Worship and teaching on Gospel basics begins at 7 p.m.
URL:https://saclr.org/event/dash-wednesday/2019-01-09/
CATEGORIES:Youth Ministry
END:VEVENT
BEGIN:VEVENT
DTSTART;TZID=America/Chicago:20190109T100000
DTEND;TZID=America/Chicago:20190109T113000
DTSTAMP:20260422T213054
CREATED:20190118T011501Z
LAST-MODIFIED:20190118T011501Z
UID:10000476-1547028000-1547033400@saclr.org
SUMMARY:Wisdom women's Bible study
DESCRIPTION:If you could ask for only one thing in 2019\, what would it be? Solomon asked God for wisdom. God gave him wisdom and his wisdom is available to us. Join this winter as we listen to God speak through two books in the wisdom literature—Job and Proverbs.
URL:https://saclr.org/event/wisdom-womens-bible-study/2019-01-09/
END:VEVENT
BEGIN:VEVENT
DTSTART;TZID=America/Chicago:20190109T100000
DTEND;TZID=America/Chicago:20190109T113000
DTSTAMP:20260422T213054
CREATED:20190104T012953Z
LAST-MODIFIED:20190104T012953Z
UID:10001749-1547028000-1547033400@saclr.org
SUMMARY:Wisdom
DESCRIPTION:Taught by Nancy Morton\nIf you could ask for only one thing in 2019\, what would it be? Solomon asked God for wisdom. God gave him wisdom and his wisdom is available to us. Join this winter as we listen to God speak through two books in the wisdom literature—Job and Proverbs.\nContact: Bonnie Holmes
URL:https://saclr.org/event/wisdom/2019-01-09/
END:VEVENT
END:VCALENDAR