BEGIN:VCALENDAR
VERSION:2.0
PRODID:-//St. Andrew&#039;s Anglican Church - ECPv6.7.0//NONSGML v1.0//EN
CALSCALE:GREGORIAN
METHOD:PUBLISH
X-WR-CALNAME:St. Andrew&#039;s Anglican Church
X-ORIGINAL-URL:https://saclr.org
X-WR-CALDESC:Events for St. Andrew&#039;s Anglican Church
REFRESH-INTERVAL;VALUE=DURATION:PT1H
X-Robots-Tag:noindex
X-PUBLISHED-TTL:PT1H
BEGIN:VTIMEZONE
TZID:America/Chicago
BEGIN:DAYLIGHT
TZOFFSETFROM:-0600
TZOFFSETTO:-0500
TZNAME:CDT
DTSTART:20190310T080000
END:DAYLIGHT
BEGIN:STANDARD
TZOFFSETFROM:-0500
TZOFFSETTO:-0600
TZNAME:CST
DTSTART:20191103T070000
END:STANDARD
END:VTIMEZONE
BEGIN:VEVENT
DTSTART;TZID=America/Chicago:20191016T180000
DTEND;TZID=America/Chicago:20191016T200000
DTSTAMP:20260422T165804
CREATED:20150922T063132Z
LAST-MODIFIED:20241212T222527Z
UID:10000700-1571248800-1571256000@saclr.org
SUMMARY:DASH (Wednesday)
DESCRIPTION:Sixth through twelfth graders enjoy dinner at 6 p.m. Worship and teaching on Gospel basics begins at 7 p.m.
URL:https://saclr.org/event/dash-wednesday/2019-10-16/
CATEGORIES:Youth Ministry
END:VEVENT
BEGIN:VEVENT
DTSTART;TZID=America/Chicago:20191015T121500
DTEND;TZID=America/Chicago:20191015T131500
DTSTAMP:20260422T165804
CREATED:20190104T012627Z
LAST-MODIFIED:20250828T140023Z
UID:10001450-1571141700-1571145300@saclr.org
SUMMARY:Men's Bible Fellowship
DESCRIPTION:More information available here
URL:https://saclr.org/event/mens-bible-fellowship-2/2019-10-15/
END:VEVENT
BEGIN:VEVENT
DTSTART;TZID=America/Chicago:20191010T190000
DTEND;TZID=America/Chicago:20191010T203000
DTSTAMP:20260422T165804
CREATED:20190926T235241Z
LAST-MODIFIED:20190926T235241Z
UID:10001778-1570734000-1570739400@saclr.org
SUMMARY:Come & See
DESCRIPTION:The women of St. Andrew’s are invited to join us at Kimberly Cook’s home for a causal time of sharing stories about how we are seeing the Lord at work. This will be an “open-floor” evening and we would love to hear from you about the ways you are seeing God’s kingdom breaking in!
URL:https://saclr.org/event/come-see-3/
END:VEVENT
BEGIN:VEVENT
DTSTART;TZID=America/Chicago:20191009T180000
DTEND;TZID=America/Chicago:20191009T200000
DTSTAMP:20260422T165804
CREATED:20150922T063132Z
LAST-MODIFIED:20241212T222527Z
UID:10000699-1570644000-1570651200@saclr.org
SUMMARY:DASH (Wednesday)
DESCRIPTION:Sixth through twelfth graders enjoy dinner at 6 p.m. Worship and teaching on Gospel basics begins at 7 p.m.
URL:https://saclr.org/event/dash-wednesday/2019-10-09/
CATEGORIES:Youth Ministry
END:VEVENT
BEGIN:VEVENT
DTSTART;TZID=America/Chicago:20191008T121500
DTEND;TZID=America/Chicago:20191008T131500
DTSTAMP:20260422T165804
CREATED:20190104T012627Z
LAST-MODIFIED:20250828T140023Z
UID:10001449-1570536900-1570540500@saclr.org
SUMMARY:Men's Bible Fellowship
DESCRIPTION:More information available here
URL:https://saclr.org/event/mens-bible-fellowship-2/2019-10-08/
END:VEVENT
BEGIN:VEVENT
DTSTART;TZID=America/Chicago:20191006T173000
DTEND;TZID=America/Chicago:20191006T190000
DTSTAMP:20260422T165804
CREATED:20190927T000318Z
LAST-MODIFIED:20190927T000318Z
UID:10001812-1570383000-1570388400@saclr.org
SUMMARY:Youth Confirmation Class
DESCRIPTION:From 5:30-7 p.m. on Sundays\, October 6–November 10\, we will have a youth confirmation class in the Youth Room. The class will end with a day retreat on November 16 to wrap up what we’ve covered. The class and retreat will be a mix of teaching and small group discussion. The suggested age range is 13-18 years of age. Commitment to the class is not a commitment to being confirmed at St. Andrew’s. However\, Bishop Philip Jones will be here on the November 24 to celebrate confirmation for all that wish to participate. For more information or questions\, please contact AJ Green.\nRegister for the class here.
URL:https://saclr.org/event/youth-confirmation/2019-10-06/
END:VEVENT
BEGIN:VEVENT
DTSTART;TZID=America/Chicago:20191002T180000
DTEND;TZID=America/Chicago:20191002T200000
DTSTAMP:20260422T165804
CREATED:20150922T063132Z
LAST-MODIFIED:20241212T222527Z
UID:10000698-1570039200-1570046400@saclr.org
SUMMARY:DASH (Wednesday)
DESCRIPTION:Sixth through twelfth graders enjoy dinner at 6 p.m. Worship and teaching on Gospel basics begins at 7 p.m.
URL:https://saclr.org/event/dash-wednesday/2019-10-02/
CATEGORIES:Youth Ministry
END:VEVENT
BEGIN:VEVENT
DTSTART;TZID=America/Chicago:20191002T094500
DTEND;TZID=America/Chicago:20191002T120000
DTSTAMP:20260422T165804
CREATED:20190927T000107Z
LAST-MODIFIED:20190927T000107Z
UID:10001797-1570009500-1570017600@saclr.org
SUMMARY:Beginnings Trip to the Pumpkin Patch
DESCRIPTION:All families are invited to join us at the Bo Brook Farms pumpkin patch in Roland at 9:45 a.m.\, on Wednesday\, October 2. The cost is $4/person\, which includes a hayride\, a corn pit\, a hay maze\, a farm zoo and a small pumpkin for each child (please make checks payable to St. Andrew’s Church). There will be picnic tables available for us to use\, so please feel free to bring a picnic lunch. Please contact Sarah Martin by Monday\, September 30 to reserve your spots with our group. We hope you can join us!
URL:https://saclr.org/event/beginnings-trip-pumpkin-patch/
END:VEVENT
BEGIN:VEVENT
DTSTART;TZID=America/Chicago:20191001T121500
DTEND;TZID=America/Chicago:20191001T131500
DTSTAMP:20260422T165804
CREATED:20190104T012627Z
LAST-MODIFIED:20250828T140023Z
UID:10001448-1569932100-1569935700@saclr.org
SUMMARY:Men's Bible Fellowship
DESCRIPTION:More information available here
URL:https://saclr.org/event/mens-bible-fellowship-2/2019-10-01/
END:VEVENT
BEGIN:VEVENT
DTSTART;TZID=America/Chicago:20190927T173000
DTEND;TZID=America/Chicago:20190927T180000
DTSTAMP:20260422T165804
CREATED:20170123T232027Z
LAST-MODIFIED:20170123T232027Z
UID:10000023-1569605400-1569607200@saclr.org
SUMMARY:Anglican Evening Prayer
DESCRIPTION:You are invited to an evening prayer service from the Book of Common Prayer each Friday from 5:30-6 p.m. in the Prayer Room. Join us for a great opportunity to refocus at the end of the week\, and to prepare our hearts for the weekend. All are welcome. Contact Ephraim McNair for more information.
URL:https://saclr.org/event/evening-prayer-2/2019-09-27/
END:VEVENT
BEGIN:VEVENT
DTSTART;TZID=America/Chicago:20190925T180000
DTEND;TZID=America/Chicago:20190925T200000
DTSTAMP:20260422T165805
CREATED:20150922T063132Z
LAST-MODIFIED:20241212T222527Z
UID:10000697-1569434400-1569441600@saclr.org
SUMMARY:DASH (Wednesday)
DESCRIPTION:Sixth through twelfth graders enjoy dinner at 6 p.m. Worship and teaching on Gospel basics begins at 7 p.m.
URL:https://saclr.org/event/dash-wednesday/2019-09-25/
CATEGORIES:Youth Ministry
END:VEVENT
BEGIN:VEVENT
DTSTART;TZID=America/Chicago:20190924T121500
DTEND;TZID=America/Chicago:20190924T131500
DTSTAMP:20260422T165805
CREATED:20190104T012627Z
LAST-MODIFIED:20250828T140023Z
UID:10001447-1569327300-1569330900@saclr.org
SUMMARY:Men's Bible Fellowship
DESCRIPTION:More information available here
URL:https://saclr.org/event/mens-bible-fellowship-2/2019-09-24/
END:VEVENT
BEGIN:VEVENT
DTSTART;TZID=America/Chicago:20190918T180000
DTEND;TZID=America/Chicago:20190918T200000
DTSTAMP:20260422T165805
CREATED:20150922T063132Z
LAST-MODIFIED:20241212T222527Z
UID:10000696-1568829600-1568836800@saclr.org
SUMMARY:DASH (Wednesday)
DESCRIPTION:Sixth through twelfth graders enjoy dinner at 6 p.m. Worship and teaching on Gospel basics begins at 7 p.m.
URL:https://saclr.org/event/dash-wednesday/2019-09-18/
CATEGORIES:Youth Ministry
END:VEVENT
BEGIN:VEVENT
DTSTART;TZID=America/Chicago:20190917T100000
DTEND;TZID=America/Chicago:20190917T113000
DTSTAMP:20260422T165805
CREATED:20190926T234550Z
LAST-MODIFIED:20190926T234550Z
UID:10001752-1568714400-1568719800@saclr.org
SUMMARY:Women's Bible Study
DESCRIPTION:Come fellowship with us as we have teaching and discussion on The Word of the Lord\, uncovering the Foretold Messiah\, Jesus\, in the Prophets. \nContact: Doody Keet; Carol McMath
URL:https://saclr.org/event/womens-bible-study-2/2019-09-17/
END:VEVENT
BEGIN:VEVENT
DTSTART;TZID=America/Chicago:20190911T180000
DTEND;TZID=America/Chicago:20190911T200000
DTSTAMP:20260422T165805
CREATED:20150922T063132Z
LAST-MODIFIED:20241212T222527Z
UID:10000695-1568224800-1568232000@saclr.org
SUMMARY:DASH (Wednesday)
DESCRIPTION:Sixth through twelfth graders enjoy dinner at 6 p.m. Worship and teaching on Gospel basics begins at 7 p.m.
URL:https://saclr.org/event/dash-wednesday/2019-09-11/
CATEGORIES:Youth Ministry
END:VEVENT
BEGIN:VEVENT
DTSTART;TZID=America/Chicago:20190905T094500
DTEND;TZID=America/Chicago:20190905T111500
DTSTAMP:20260422T165805
CREATED:20190926T235010Z
LAST-MODIFIED:20190926T235010Z
UID:10001759-1567676700-1567682100@saclr.org
SUMMARY:Dwell
DESCRIPTION:Dwell is a welcoming\, safe community for women from all seasons of life. \nJoin us as we create space and experience together what it looks like to actively dwell in God’s presence and his Word as he dwells in us. Our hope is that as we experience more deeply the extravagant dimensions of Christ’s transforming love\, our hearts and souls will be truly changed more into His likeness\, and that we would be able to be his loving presence to the world. We desire to experience deeply and fully “… the breadth\, and the length\, and the height\, and the depth of Christ’s love.” Ephesians 3:18 ESV \nScripture readings in the first semester will be from the book of Mark\, as we journey alongside with Jesus in his ministry. Second semester readings will be taken from the book of Acts\, as we are sent out with love and on fire to be his presence to the world.\nContact: Lindsay Stanford
URL:https://saclr.org/event/dwell/2019-09-05/
END:VEVENT
BEGIN:VEVENT
DTSTART;TZID=America/Chicago:20190904T180000
DTEND;TZID=America/Chicago:20190904T200000
DTSTAMP:20260422T165805
CREATED:20150922T063132Z
LAST-MODIFIED:20241212T222527Z
UID:10000694-1567620000-1567627200@saclr.org
SUMMARY:DASH (Wednesday)
DESCRIPTION:Sixth through twelfth graders enjoy dinner at 6 p.m. Worship and teaching on Gospel basics begins at 7 p.m.
URL:https://saclr.org/event/dash-wednesday/2019-09-04/
CATEGORIES:Youth Ministry
END:VEVENT
BEGIN:VEVENT
DTSTART;TZID=America/Chicago:20190828T180000
DTEND;TZID=America/Chicago:20190828T200000
DTSTAMP:20260422T165805
CREATED:20150922T063132Z
LAST-MODIFIED:20241212T222527Z
UID:10000693-1567015200-1567022400@saclr.org
SUMMARY:DASH (Wednesday)
DESCRIPTION:Sixth through twelfth graders enjoy dinner at 6 p.m. Worship and teaching on Gospel basics begins at 7 p.m.
URL:https://saclr.org/event/dash-wednesday/2019-08-28/
CATEGORIES:Youth Ministry
END:VEVENT
BEGIN:VEVENT
DTSTART;TZID=America/Chicago:20190821T180000
DTEND;TZID=America/Chicago:20190821T200000
DTSTAMP:20260422T165805
CREATED:20150922T063132Z
LAST-MODIFIED:20241212T222527Z
UID:10000692-1566410400-1566417600@saclr.org
SUMMARY:DASH (Wednesday)
DESCRIPTION:Sixth through twelfth graders enjoy dinner at 6 p.m. Worship and teaching on Gospel basics begins at 7 p.m.
URL:https://saclr.org/event/dash-wednesday/2019-08-21/
CATEGORIES:Youth Ministry
END:VEVENT
BEGIN:VEVENT
DTSTART;TZID=America/Chicago:20190814T180000
DTEND;TZID=America/Chicago:20190814T200000
DTSTAMP:20260422T165805
CREATED:20150922T063132Z
LAST-MODIFIED:20241212T222527Z
UID:10000691-1565805600-1565812800@saclr.org
SUMMARY:DASH (Wednesday)
DESCRIPTION:Sixth through twelfth graders enjoy dinner at 6 p.m. Worship and teaching on Gospel basics begins at 7 p.m.
URL:https://saclr.org/event/dash-wednesday/2019-08-14/
CATEGORIES:Youth Ministry
END:VEVENT
BEGIN:VEVENT
DTSTART;TZID=America/Chicago:20190807T180000
DTEND;TZID=America/Chicago:20190807T200000
DTSTAMP:20260422T165805
CREATED:20150922T063132Z
LAST-MODIFIED:20241212T222527Z
UID:10000690-1565200800-1565208000@saclr.org
SUMMARY:DASH (Wednesday)
DESCRIPTION:Sixth through twelfth graders enjoy dinner at 6 p.m. Worship and teaching on Gospel basics begins at 7 p.m.
URL:https://saclr.org/event/dash-wednesday/2019-08-07/
CATEGORIES:Youth Ministry
END:VEVENT
BEGIN:VEVENT
DTSTART;TZID=America/Chicago:20190731T180000
DTEND;TZID=America/Chicago:20190731T200000
DTSTAMP:20260422T165805
CREATED:20150922T063132Z
LAST-MODIFIED:20241212T222527Z
UID:10000689-1564596000-1564603200@saclr.org
SUMMARY:DASH (Wednesday)
DESCRIPTION:Sixth through twelfth graders enjoy dinner at 6 p.m. Worship and teaching on Gospel basics begins at 7 p.m.
URL:https://saclr.org/event/dash-wednesday/2019-07-31/
CATEGORIES:Youth Ministry
END:VEVENT
BEGIN:VEVENT
DTSTART;TZID=America/Chicago:20190724T180000
DTEND;TZID=America/Chicago:20190724T200000
DTSTAMP:20260422T165805
CREATED:20150922T063132Z
LAST-MODIFIED:20241212T222527Z
UID:10000688-1563991200-1563998400@saclr.org
SUMMARY:DASH (Wednesday)
DESCRIPTION:Sixth through twelfth graders enjoy dinner at 6 p.m. Worship and teaching on Gospel basics begins at 7 p.m.
URL:https://saclr.org/event/dash-wednesday/2019-07-24/
CATEGORIES:Youth Ministry
END:VEVENT
BEGIN:VEVENT
DTSTART;TZID=America/Chicago:20190717T180000
DTEND;TZID=America/Chicago:20190717T200000
DTSTAMP:20260422T165805
CREATED:20150922T063132Z
LAST-MODIFIED:20241212T222527Z
UID:10000687-1563386400-1563393600@saclr.org
SUMMARY:DASH (Wednesday)
DESCRIPTION:Sixth through twelfth graders enjoy dinner at 6 p.m. Worship and teaching on Gospel basics begins at 7 p.m.
URL:https://saclr.org/event/dash-wednesday/2019-07-17/
CATEGORIES:Youth Ministry
END:VEVENT
BEGIN:VEVENT
DTSTART;TZID=America/Chicago:20190710T180000
DTEND;TZID=America/Chicago:20190710T200000
DTSTAMP:20260422T165805
CREATED:20150922T063132Z
LAST-MODIFIED:20241212T222527Z
UID:10000686-1562781600-1562788800@saclr.org
SUMMARY:DASH (Wednesday)
DESCRIPTION:Sixth through twelfth graders enjoy dinner at 6 p.m. Worship and teaching on Gospel basics begins at 7 p.m.
URL:https://saclr.org/event/dash-wednesday/2019-07-10/
CATEGORIES:Youth Ministry
END:VEVENT
BEGIN:VEVENT
DTSTART;TZID=America/Chicago:20190703T180000
DTEND;TZID=America/Chicago:20190703T200000
DTSTAMP:20260422T165805
CREATED:20150922T063132Z
LAST-MODIFIED:20241212T222527Z
UID:10000685-1562176800-1562184000@saclr.org
SUMMARY:DASH (Wednesday)
DESCRIPTION:Sixth through twelfth graders enjoy dinner at 6 p.m. Worship and teaching on Gospel basics begins at 7 p.m.
URL:https://saclr.org/event/dash-wednesday/2019-07-03/
CATEGORIES:Youth Ministry
END:VEVENT
BEGIN:VEVENT
DTSTART;TZID=America/Chicago:20190626T180000
DTEND;TZID=America/Chicago:20190626T200000
DTSTAMP:20260422T165805
CREATED:20150922T063132Z
LAST-MODIFIED:20241212T222527Z
UID:10000684-1561572000-1561579200@saclr.org
SUMMARY:DASH (Wednesday)
DESCRIPTION:Sixth through twelfth graders enjoy dinner at 6 p.m. Worship and teaching on Gospel basics begins at 7 p.m.
URL:https://saclr.org/event/dash-wednesday/2019-06-26/
CATEGORIES:Youth Ministry
END:VEVENT
BEGIN:VEVENT
DTSTART;TZID=America/Chicago:20190625T120000
DTEND;TZID=America/Chicago:20190625T125000
DTSTAMP:20260422T165805
CREATED:20190508T233336Z
LAST-MODIFIED:20190508T233336Z
UID:10000992-1561464000-1561467000@saclr.org
SUMMARY:Mid-day Gathering
DESCRIPTION:From the time Jesus invited his first disciples to come away from the crowds and their busy lives to rest with him\, coming away has been and important practice for disciples of Jesus seeking deeper communition with him. \nEach Tuesday at noon\, for 50 minutes\, using scripture passages taken from the Daily Office\, we will engage in the Christian practices of silence\, meditation on scripture\, and spiritual conversations with others\, and discover how powerful these practices can be in helping us resist the forces that would pull us out of communion with God and each other. This is for anyone who is longing to know Jesus more and experience different ways of growing in relationship and intimacy with him.
URL:https://saclr.org/event/mid-day-gathering/2019-06-25/
END:VEVENT
BEGIN:VEVENT
DTSTART;TZID=America/Chicago:20190624T090000
DTEND;TZID=America/Chicago:20190624T120000
DTSTAMP:20260422T165805
CREATED:20190411T211945Z
LAST-MODIFIED:20190411T211945Z
UID:10000487-1561366800-1561377600@saclr.org
SUMMARY:Vacation Bible School
DESCRIPTION:
URL:https://saclr.org/event/vacation-bible-school-3/2019-06-24/
END:VEVENT
BEGIN:VEVENT
DTSTART;TZID=America/Chicago:20190619T180000
DTEND;TZID=America/Chicago:20190619T200000
DTSTAMP:20260422T165805
CREATED:20150922T063132Z
LAST-MODIFIED:20241212T222527Z
UID:10000683-1560967200-1560974400@saclr.org
SUMMARY:DASH (Wednesday)
DESCRIPTION:Sixth through twelfth graders enjoy dinner at 6 p.m. Worship and teaching on Gospel basics begins at 7 p.m.
URL:https://saclr.org/event/dash-wednesday/2019-06-19/
CATEGORIES:Youth Ministry
END:VEVENT
END:VCALENDAR