BEGIN:VCALENDAR
VERSION:2.0
PRODID:-//St. Andrew&#039;s Anglican Church - ECPv6.7.0//NONSGML v1.0//EN
CALSCALE:GREGORIAN
METHOD:PUBLISH
X-WR-CALNAME:St. Andrew&#039;s Anglican Church
X-ORIGINAL-URL:https://saclr.org
X-WR-CALDESC:Events for St. Andrew&#039;s Anglican Church
REFRESH-INTERVAL;VALUE=DURATION:PT1H
X-Robots-Tag:noindex
X-PUBLISHED-TTL:PT1H
BEGIN:VTIMEZONE
TZID:America/Chicago
BEGIN:DAYLIGHT
TZOFFSETFROM:-0600
TZOFFSETTO:-0500
TZNAME:CDT
DTSTART:20190310T080000
END:DAYLIGHT
BEGIN:STANDARD
TZOFFSETFROM:-0500
TZOFFSETTO:-0600
TZNAME:CST
DTSTART:20191103T070000
END:STANDARD
END:VTIMEZONE
BEGIN:VEVENT
DTSTART;TZID=America/Chicago:20191224T140000
DTEND;TZID=America/Chicago:20191224T151500
DTSTAMP:20260422T172051
CREATED:20191209T235338Z
LAST-MODIFIED:20191209T235338Z
UID:10001845-1577196000-1577200500@saclr.org
SUMMARY:Cornerstone Christmas Eve service
DESCRIPTION:
URL:https://saclr.org/event/cornerstone-christmas-eve-service/
END:VEVENT
BEGIN:VEVENT
DTSTART;TZID=America/Chicago:20191224T121500
DTEND;TZID=America/Chicago:20191224T131500
DTSTAMP:20260422T172051
CREATED:20190104T012627Z
LAST-MODIFIED:20250828T140023Z
UID:10001460-1577189700-1577193300@saclr.org
SUMMARY:Men's Bible Fellowship
DESCRIPTION:More information available here
URL:https://saclr.org/event/mens-bible-fellowship-2/2019-12-24/
END:VEVENT
BEGIN:VEVENT
DTSTART;TZID=America/Chicago:20191224T120000
DTEND;TZID=America/Chicago:20191224T125000
DTSTAMP:20260422T172051
CREATED:20190508T233336Z
LAST-MODIFIED:20190508T233336Z
UID:10000994-1577188800-1577191800@saclr.org
SUMMARY:Mid-day Gathering
DESCRIPTION:From the time Jesus invited his first disciples to come away from the crowds and their busy lives to rest with him\, coming away has been and important practice for disciples of Jesus seeking deeper communition with him. \nEach Tuesday at noon\, for 50 minutes\, using scripture passages taken from the Daily Office\, we will engage in the Christian practices of silence\, meditation on scripture\, and spiritual conversations with others\, and discover how powerful these practices can be in helping us resist the forces that would pull us out of communion with God and each other. This is for anyone who is longing to know Jesus more and experience different ways of growing in relationship and intimacy with him.
URL:https://saclr.org/event/mid-day-gathering/2019-12-24/
END:VEVENT
BEGIN:VEVENT
DTSTART;TZID=America/Chicago:20191220T173000
DTEND;TZID=America/Chicago:20191220T180000
DTSTAMP:20260422T172051
CREATED:20170123T232027Z
LAST-MODIFIED:20170123T232027Z
UID:10000025-1576863000-1576864800@saclr.org
SUMMARY:Anglican Evening Prayer
DESCRIPTION:You are invited to an evening prayer service from the Book of Common Prayer each Friday from 5:30-6 p.m. in the Prayer Room. Join us for a great opportunity to refocus at the end of the week\, and to prepare our hearts for the weekend. All are welcome. Contact Ephraim McNair for more information.
URL:https://saclr.org/event/evening-prayer-2/2019-12-20/
END:VEVENT
BEGIN:VEVENT
DTSTART;TZID=America/Chicago:20191219T094500
DTEND;TZID=America/Chicago:20191219T111500
DTSTAMP:20260422T172051
CREATED:20190926T235010Z
LAST-MODIFIED:20190926T235010Z
UID:10001763-1576748700-1576754100@saclr.org
SUMMARY:Dwell
DESCRIPTION:Dwell is a welcoming\, safe community for women from all seasons of life. \nJoin us as we create space and experience together what it looks like to actively dwell in God’s presence and his Word as he dwells in us. Our hope is that as we experience more deeply the extravagant dimensions of Christ’s transforming love\, our hearts and souls will be truly changed more into His likeness\, and that we would be able to be his loving presence to the world. We desire to experience deeply and fully “… the breadth\, and the length\, and the height\, and the depth of Christ’s love.” Ephesians 3:18 ESV \nScripture readings in the first semester will be from the book of Mark\, as we journey alongside with Jesus in his ministry. Second semester readings will be taken from the book of Acts\, as we are sent out with love and on fire to be his presence to the world.\nContact: Lindsay Stanford
URL:https://saclr.org/event/dwell/2019-12-19/
END:VEVENT
BEGIN:VEVENT
DTSTART;TZID=America/Chicago:20191218T180000
DTEND;TZID=America/Chicago:20191218T200000
DTSTAMP:20260422T172051
CREATED:20150922T063132Z
LAST-MODIFIED:20241212T222527Z
UID:10000709-1576692000-1576699200@saclr.org
SUMMARY:DASH (Wednesday)
DESCRIPTION:Sixth through twelfth graders enjoy dinner at 6 p.m. Worship and teaching on Gospel basics begins at 7 p.m.
URL:https://saclr.org/event/dash-wednesday/2019-12-18/
CATEGORIES:Youth Ministry
END:VEVENT
BEGIN:VEVENT
DTSTART;TZID=America/Chicago:20191217T121500
DTEND;TZID=America/Chicago:20191217T131500
DTSTAMP:20260422T172051
CREATED:20190104T012627Z
LAST-MODIFIED:20250828T140023Z
UID:10001459-1576584900-1576588500@saclr.org
SUMMARY:Men's Bible Fellowship
DESCRIPTION:More information available here
URL:https://saclr.org/event/mens-bible-fellowship-2/2019-12-17/
END:VEVENT
BEGIN:VEVENT
DTSTART;TZID=America/Chicago:20191212T094500
DTEND;TZID=America/Chicago:20191212T111500
DTSTAMP:20260422T172051
CREATED:20190926T235010Z
LAST-MODIFIED:20190926T235010Z
UID:10001762-1576143900-1576149300@saclr.org
SUMMARY:Dwell
DESCRIPTION:Dwell is a welcoming\, safe community for women from all seasons of life. \nJoin us as we create space and experience together what it looks like to actively dwell in God’s presence and his Word as he dwells in us. Our hope is that as we experience more deeply the extravagant dimensions of Christ’s transforming love\, our hearts and souls will be truly changed more into His likeness\, and that we would be able to be his loving presence to the world. We desire to experience deeply and fully “… the breadth\, and the length\, and the height\, and the depth of Christ’s love.” Ephesians 3:18 ESV \nScripture readings in the first semester will be from the book of Mark\, as we journey alongside with Jesus in his ministry. Second semester readings will be taken from the book of Acts\, as we are sent out with love and on fire to be his presence to the world.\nContact: Lindsay Stanford
URL:https://saclr.org/event/dwell/2019-12-12/
END:VEVENT
BEGIN:VEVENT
DTSTART;TZID=America/Chicago:20191211T180000
DTEND;TZID=America/Chicago:20191211T200000
DTSTAMP:20260422T172051
CREATED:20150922T063132Z
LAST-MODIFIED:20241212T222527Z
UID:10000708-1576087200-1576094400@saclr.org
SUMMARY:DASH (Wednesday)
DESCRIPTION:Sixth through twelfth graders enjoy dinner at 6 p.m. Worship and teaching on Gospel basics begins at 7 p.m.
URL:https://saclr.org/event/dash-wednesday/2019-12-11/
CATEGORIES:Youth Ministry
END:VEVENT
BEGIN:VEVENT
DTSTART;TZID=America/Chicago:20191210T121500
DTEND;TZID=America/Chicago:20191210T131500
DTSTAMP:20260422T172051
CREATED:20190104T012627Z
LAST-MODIFIED:20250828T140023Z
UID:10001458-1575980100-1575983700@saclr.org
SUMMARY:Men's Bible Fellowship
DESCRIPTION:More information available here
URL:https://saclr.org/event/mens-bible-fellowship-2/2019-12-10/
END:VEVENT
BEGIN:VEVENT
DTSTART;TZID=America/Chicago:20191205T094500
DTEND;TZID=America/Chicago:20191205T111500
DTSTAMP:20260422T172051
CREATED:20190926T235010Z
LAST-MODIFIED:20190926T235010Z
UID:10001761-1575539100-1575544500@saclr.org
SUMMARY:Dwell
DESCRIPTION:Dwell is a welcoming\, safe community for women from all seasons of life. \nJoin us as we create space and experience together what it looks like to actively dwell in God’s presence and his Word as he dwells in us. Our hope is that as we experience more deeply the extravagant dimensions of Christ’s transforming love\, our hearts and souls will be truly changed more into His likeness\, and that we would be able to be his loving presence to the world. We desire to experience deeply and fully “… the breadth\, and the length\, and the height\, and the depth of Christ’s love.” Ephesians 3:18 ESV \nScripture readings in the first semester will be from the book of Mark\, as we journey alongside with Jesus in his ministry. Second semester readings will be taken from the book of Acts\, as we are sent out with love and on fire to be his presence to the world.\nContact: Lindsay Stanford
URL:https://saclr.org/event/dwell/2019-12-05/
END:VEVENT
BEGIN:VEVENT
DTSTART;TZID=America/Chicago:20191204T180000
DTEND;TZID=America/Chicago:20191204T200000
DTSTAMP:20260422T172051
CREATED:20150922T063132Z
LAST-MODIFIED:20241212T222527Z
UID:10000707-1575482400-1575489600@saclr.org
SUMMARY:DASH (Wednesday)
DESCRIPTION:Sixth through twelfth graders enjoy dinner at 6 p.m. Worship and teaching on Gospel basics begins at 7 p.m.
URL:https://saclr.org/event/dash-wednesday/2019-12-04/
CATEGORIES:Youth Ministry
END:VEVENT
BEGIN:VEVENT
DTSTART;TZID=America/Chicago:20191203T121500
DTEND;TZID=America/Chicago:20191203T131500
DTSTAMP:20260422T172051
CREATED:20190104T012627Z
LAST-MODIFIED:20250828T140023Z
UID:10001457-1575375300-1575378900@saclr.org
SUMMARY:Men's Bible Fellowship
DESCRIPTION:More information available here
URL:https://saclr.org/event/mens-bible-fellowship-2/2019-12-03/
END:VEVENT
BEGIN:VEVENT
DTSTART;TZID=America/Chicago:20191129T173000
DTEND;TZID=America/Chicago:20191129T180000
DTSTAMP:20260422T172051
CREATED:20170123T232027Z
LAST-MODIFIED:20170123T232027Z
UID:10000024-1575048600-1575050400@saclr.org
SUMMARY:Anglican Evening Prayer
DESCRIPTION:You are invited to an evening prayer service from the Book of Common Prayer each Friday from 5:30-6 p.m. in the Prayer Room. Join us for a great opportunity to refocus at the end of the week\, and to prepare our hearts for the weekend. All are welcome. Contact Ephraim McNair for more information.
URL:https://saclr.org/event/evening-prayer-2/2019-11-29/
END:VEVENT
BEGIN:VEVENT
DTSTART;TZID=America/Chicago:20191128T094500
DTEND;TZID=America/Chicago:20191128T111500
DTSTAMP:20260422T172051
CREATED:20190926T235010Z
LAST-MODIFIED:20190926T235010Z
UID:10001760-1574934300-1574939700@saclr.org
SUMMARY:Dwell
DESCRIPTION:Dwell is a welcoming\, safe community for women from all seasons of life. \nJoin us as we create space and experience together what it looks like to actively dwell in God’s presence and his Word as he dwells in us. Our hope is that as we experience more deeply the extravagant dimensions of Christ’s transforming love\, our hearts and souls will be truly changed more into His likeness\, and that we would be able to be his loving presence to the world. We desire to experience deeply and fully “… the breadth\, and the length\, and the height\, and the depth of Christ’s love.” Ephesians 3:18 ESV \nScripture readings in the first semester will be from the book of Mark\, as we journey alongside with Jesus in his ministry. Second semester readings will be taken from the book of Acts\, as we are sent out with love and on fire to be his presence to the world.\nContact: Lindsay Stanford
URL:https://saclr.org/event/dwell/2019-11-28/
END:VEVENT
BEGIN:VEVENT
DTSTART;TZID=America/Chicago:20191127T180000
DTEND;TZID=America/Chicago:20191127T200000
DTSTAMP:20260422T172051
CREATED:20150922T063132Z
LAST-MODIFIED:20241212T222527Z
UID:10000706-1574877600-1574884800@saclr.org
SUMMARY:DASH (Wednesday)
DESCRIPTION:Sixth through twelfth graders enjoy dinner at 6 p.m. Worship and teaching on Gospel basics begins at 7 p.m.
URL:https://saclr.org/event/dash-wednesday/2019-11-27/
CATEGORIES:Youth Ministry
END:VEVENT
BEGIN:VEVENT
DTSTART;TZID=America/Chicago:20191126T121500
DTEND;TZID=America/Chicago:20191126T131500
DTSTAMP:20260422T172051
CREATED:20190104T012627Z
LAST-MODIFIED:20250828T140023Z
UID:10001456-1574770500-1574774100@saclr.org
SUMMARY:Men's Bible Fellowship
DESCRIPTION:More information available here
URL:https://saclr.org/event/mens-bible-fellowship-2/2019-11-26/
END:VEVENT
BEGIN:VEVENT
DTSTART;TZID=America/Chicago:20191126T120000
DTEND;TZID=America/Chicago:20191126T125000
DTSTAMP:20260422T172051
CREATED:20190508T233336Z
LAST-MODIFIED:20190508T233336Z
UID:10000993-1574769600-1574772600@saclr.org
SUMMARY:Mid-day Gathering
DESCRIPTION:From the time Jesus invited his first disciples to come away from the crowds and their busy lives to rest with him\, coming away has been and important practice for disciples of Jesus seeking deeper communition with him. \nEach Tuesday at noon\, for 50 minutes\, using scripture passages taken from the Daily Office\, we will engage in the Christian practices of silence\, meditation on scripture\, and spiritual conversations with others\, and discover how powerful these practices can be in helping us resist the forces that would pull us out of communion with God and each other. This is for anyone who is longing to know Jesus more and experience different ways of growing in relationship and intimacy with him.
URL:https://saclr.org/event/mid-day-gathering/2019-11-26/
END:VEVENT
BEGIN:VEVENT
DTSTART;TZID=America/Chicago:20191120T180000
DTEND;TZID=America/Chicago:20191120T200000
DTSTAMP:20260422T172051
CREATED:20150922T063132Z
LAST-MODIFIED:20241212T222527Z
UID:10000705-1574272800-1574280000@saclr.org
SUMMARY:DASH (Wednesday)
DESCRIPTION:Sixth through twelfth graders enjoy dinner at 6 p.m. Worship and teaching on Gospel basics begins at 7 p.m.
URL:https://saclr.org/event/dash-wednesday/2019-11-20/
CATEGORIES:Youth Ministry
END:VEVENT
BEGIN:VEVENT
DTSTART;TZID=America/Chicago:20191119T121500
DTEND;TZID=America/Chicago:20191119T131500
DTSTAMP:20260422T172051
CREATED:20190104T012627Z
LAST-MODIFIED:20250828T140023Z
UID:10001455-1574165700-1574169300@saclr.org
SUMMARY:Men's Bible Fellowship
DESCRIPTION:More information available here
URL:https://saclr.org/event/mens-bible-fellowship-2/2019-11-19/
END:VEVENT
BEGIN:VEVENT
DTSTART;TZID=America/Chicago:20191116T120000
DTEND;TZID=America/Chicago:20191116T140000
DTSTAMP:20260422T172051
CREATED:20191017T235018Z
LAST-MODIFIED:20191017T235018Z
UID:10001840-1573905600-1573912800@saclr.org
SUMMARY:Fall Picnic & Family Fun Day
DESCRIPTION:It’s fall y’all! Pack a picnic lunch for your family and join us down at the Pavilion on Saturday\, November 16\, from noon–2 p.m. for a picnic\, complete with the Loblolly ice cream truck\, popcorn and fun\, family games. RSVP here by November 11.
URL:https://saclr.org/event/fall-picnic-family-fun-day/
END:VEVENT
BEGIN:VEVENT
DTSTART;VALUE=DATE:20191116
DTEND;VALUE=DATE:20191117
DTSTAMP:20260422T172051
CREATED:20190927T000347Z
LAST-MODIFIED:20190927T000347Z
UID:10001826-1573862400-1573948799@saclr.org
SUMMARY:Youth Confirmation Retreat
DESCRIPTION:From 5:30-7 p.m. on Sundays\, October 6–November 10\, we will have a youth confirmation class in the Youth Room. The class will end with a day retreat on November 16 to wrap up what we’ve covered. The class and retreat will be a mix of teaching and small group discussion. The suggested age range is 13-18 years of age. Commitment to the class is not a commitment to being confirmed at St. Andrew’s. However\, Bishop Philip Jones will be here on the November 24 to celebrate confirmation for all that wish to participate. For more information or questions\, please contact AJ Green.\nRegister for the class here.
URL:https://saclr.org/event/youth-confirmation-retreat/
END:VEVENT
BEGIN:VEVENT
DTSTART;TZID=America/Chicago:20191113T180000
DTEND;TZID=America/Chicago:20191113T200000
DTSTAMP:20260422T172051
CREATED:20150922T063132Z
LAST-MODIFIED:20241212T222527Z
UID:10000704-1573668000-1573675200@saclr.org
SUMMARY:DASH (Wednesday)
DESCRIPTION:Sixth through twelfth graders enjoy dinner at 6 p.m. Worship and teaching on Gospel basics begins at 7 p.m.
URL:https://saclr.org/event/dash-wednesday/2019-11-13/
CATEGORIES:Youth Ministry
END:VEVENT
BEGIN:VEVENT
DTSTART;TZID=America/Chicago:20191112T190000
DTEND;TZID=America/Chicago:20191112T203000
DTSTAMP:20260422T172051
CREATED:20190926T235344Z
LAST-MODIFIED:20190926T235344Z
UID:10001795-1573585200-1573590600@saclr.org
SUMMARY:Come & See
DESCRIPTION:The women of St. Andrew’s are invited to join us for a causal time of sharing stories about how we are seeing the Lord at work. This will be an “open-floor” evening and we would love to hear from you about the ways you are seeing God’s kingdom breaking in!
URL:https://saclr.org/event/come-see-4/
END:VEVENT
BEGIN:VEVENT
DTSTART;TZID=America/Chicago:20191112T121500
DTEND;TZID=America/Chicago:20191112T131500
DTSTAMP:20260422T172051
CREATED:20190104T012627Z
LAST-MODIFIED:20250828T140023Z
UID:10001454-1573560900-1573564500@saclr.org
SUMMARY:Men's Bible Fellowship
DESCRIPTION:More information available here
URL:https://saclr.org/event/mens-bible-fellowship-2/2019-11-12/
END:VEVENT
BEGIN:VEVENT
DTSTART;TZID=America/Chicago:20191106T180000
DTEND;TZID=America/Chicago:20191106T200000
DTSTAMP:20260422T172051
CREATED:20150922T063132Z
LAST-MODIFIED:20241212T222527Z
UID:10000703-1573063200-1573070400@saclr.org
SUMMARY:DASH (Wednesday)
DESCRIPTION:Sixth through twelfth graders enjoy dinner at 6 p.m. Worship and teaching on Gospel basics begins at 7 p.m.
URL:https://saclr.org/event/dash-wednesday/2019-11-06/
CATEGORIES:Youth Ministry
END:VEVENT
BEGIN:VEVENT
DTSTART;TZID=America/Chicago:20191105T121500
DTEND;TZID=America/Chicago:20191105T131500
DTSTAMP:20260422T172051
CREATED:20190104T012627Z
LAST-MODIFIED:20250828T140023Z
UID:10001453-1572956100-1572959700@saclr.org
SUMMARY:Men's Bible Fellowship
DESCRIPTION:More information available here
URL:https://saclr.org/event/mens-bible-fellowship-2/2019-11-05/
END:VEVENT
BEGIN:VEVENT
DTSTART;TZID=America/Chicago:20191104T183000
DTEND;TZID=America/Chicago:20191104T203000
DTSTAMP:20260422T172051
CREATED:20190927T003206Z
LAST-MODIFIED:20190927T003206Z
UID:10001844-1572892200-1572899400@saclr.org
SUMMARY:Surviving the Holidays
DESCRIPTION:It is our desire to come alongside those within and outside of our congregation who are grieving the loss of a loved one during the holidays. On Monday\, November 4\, from 6:30-8:30 p.m.\, we are offering a two-hour seminar called Surviving the Holidays. This will be facilitated by a team led by Gail Douglas. They are wise and compassionate people who care deeply for those grieving losses. More information is available in the Narthex or by calling the church office during the week. Please register for the seminar here.
URL:https://saclr.org/event/surviving-the-holidays-2/
END:VEVENT
BEGIN:VEVENT
DTSTART;VALUE=DATE:20191103
DTEND;VALUE=DATE:20191104
DTSTAMP:20260422T172051
CREATED:20150922T051243Z
LAST-MODIFIED:20240516T171334Z
UID:10001035-1572739200-1572825599@saclr.org
SUMMARY:Baptism Sunday
DESCRIPTION:Find out more information here.
URL:https://saclr.org/event/baptism-sunday/
CATEGORIES:Worship
END:VEVENT
BEGIN:VEVENT
DTSTART;TZID=America/Chicago:20191030T180000
DTEND;TZID=America/Chicago:20191030T200000
DTSTAMP:20260422T172051
CREATED:20150922T063132Z
LAST-MODIFIED:20241212T222527Z
UID:10000702-1572458400-1572465600@saclr.org
SUMMARY:DASH (Wednesday)
DESCRIPTION:Sixth through twelfth graders enjoy dinner at 6 p.m. Worship and teaching on Gospel basics begins at 7 p.m.
URL:https://saclr.org/event/dash-wednesday/2019-10-30/
CATEGORIES:Youth Ministry
END:VEVENT
END:VCALENDAR