BEGIN:VCALENDAR
VERSION:2.0
PRODID:-//St. Andrew&#039;s Anglican Church - ECPv6.7.0//NONSGML v1.0//EN
CALSCALE:GREGORIAN
METHOD:PUBLISH
X-WR-CALNAME:St. Andrew&#039;s Anglican Church
X-ORIGINAL-URL:https://saclr.org
X-WR-CALDESC:Events for St. Andrew&#039;s Anglican Church
REFRESH-INTERVAL;VALUE=DURATION:PT1H
X-Robots-Tag:noindex
X-PUBLISHED-TTL:PT1H
BEGIN:VTIMEZONE
TZID:America/Chicago
BEGIN:DAYLIGHT
TZOFFSETFROM:-0600
TZOFFSETTO:-0500
TZNAME:CDT
DTSTART:20200308T080000
END:DAYLIGHT
BEGIN:STANDARD
TZOFFSETFROM:-0500
TZOFFSETTO:-0600
TZNAME:CST
DTSTART:20201101T070000
END:STANDARD
BEGIN:DAYLIGHT
TZOFFSETFROM:-0600
TZOFFSETTO:-0500
TZNAME:CDT
DTSTART:20210314T080000
END:DAYLIGHT
BEGIN:STANDARD
TZOFFSETFROM:-0500
TZOFFSETTO:-0600
TZNAME:CST
DTSTART:20211107T070000
END:STANDARD
END:VTIMEZONE
BEGIN:VEVENT
DTSTART;TZID=America/Chicago:20210413T121500
DTEND;TZID=America/Chicago:20210413T131500
DTSTAMP:20260420T220510
CREATED:20190104T012627Z
LAST-MODIFIED:20250828T140023Z
UID:10001528-1618316100-1618319700@saclr.org
SUMMARY:Men's Bible Fellowship
DESCRIPTION:More information available here
URL:https://saclr.org/event/mens-bible-fellowship-2/2021-04-13/
END:VEVENT
BEGIN:VEVENT
DTSTART;TZID=America/Chicago:20210407T180000
DTEND;TZID=America/Chicago:20210407T200000
DTSTAMP:20260420T220510
CREATED:20150922T063132Z
LAST-MODIFIED:20241212T222527Z
UID:10000775-1617818400-1617825600@saclr.org
SUMMARY:DASH (Wednesday)
DESCRIPTION:Sixth through twelfth graders enjoy dinner at 6 p.m. Worship and teaching on Gospel basics begins at 7 p.m.
URL:https://saclr.org/event/dash-wednesday/2021-04-07/
CATEGORIES:Youth Ministry
END:VEVENT
BEGIN:VEVENT
DTSTART;TZID=America/Chicago:20210406T121500
DTEND;TZID=America/Chicago:20210406T131500
DTSTAMP:20260420T220510
CREATED:20190104T012627Z
LAST-MODIFIED:20250828T140023Z
UID:10001527-1617711300-1617714900@saclr.org
SUMMARY:Men's Bible Fellowship
DESCRIPTION:More information available here
URL:https://saclr.org/event/mens-bible-fellowship-2/2021-04-06/
END:VEVENT
BEGIN:VEVENT
DTSTART;TZID=America/Chicago:20210331T180000
DTEND;TZID=America/Chicago:20210331T200000
DTSTAMP:20260420T220510
CREATED:20150922T063132Z
LAST-MODIFIED:20241212T222527Z
UID:10000774-1617213600-1617220800@saclr.org
SUMMARY:DASH (Wednesday)
DESCRIPTION:Sixth through twelfth graders enjoy dinner at 6 p.m. Worship and teaching on Gospel basics begins at 7 p.m.
URL:https://saclr.org/event/dash-wednesday/2021-03-31/
CATEGORIES:Youth Ministry
END:VEVENT
BEGIN:VEVENT
DTSTART;TZID=America/Chicago:20210330T121500
DTEND;TZID=America/Chicago:20210330T131500
DTSTAMP:20260420T220510
CREATED:20190104T012627Z
LAST-MODIFIED:20250828T140023Z
UID:10001526-1617106500-1617110100@saclr.org
SUMMARY:Men's Bible Fellowship
DESCRIPTION:More information available here
URL:https://saclr.org/event/mens-bible-fellowship-2/2021-03-30/
END:VEVENT
BEGIN:VEVENT
DTSTART;TZID=America/Chicago:20210324T180000
DTEND;TZID=America/Chicago:20210324T200000
DTSTAMP:20260420T220510
CREATED:20150922T063132Z
LAST-MODIFIED:20241212T222527Z
UID:10000773-1616608800-1616616000@saclr.org
SUMMARY:DASH (Wednesday)
DESCRIPTION:Sixth through twelfth graders enjoy dinner at 6 p.m. Worship and teaching on Gospel basics begins at 7 p.m.
URL:https://saclr.org/event/dash-wednesday/2021-03-24/
CATEGORIES:Youth Ministry
END:VEVENT
BEGIN:VEVENT
DTSTART;TZID=America/Chicago:20210323T121500
DTEND;TZID=America/Chicago:20210323T131500
DTSTAMP:20260420T220510
CREATED:20190104T012627Z
LAST-MODIFIED:20250828T140023Z
UID:10001525-1616501700-1616505300@saclr.org
SUMMARY:Men's Bible Fellowship
DESCRIPTION:More information available here
URL:https://saclr.org/event/mens-bible-fellowship-2/2021-03-23/
END:VEVENT
BEGIN:VEVENT
DTSTART;TZID=America/Chicago:20210317T180000
DTEND;TZID=America/Chicago:20210317T200000
DTSTAMP:20260420T220510
CREATED:20150922T063132Z
LAST-MODIFIED:20241212T222527Z
UID:10000772-1616004000-1616011200@saclr.org
SUMMARY:DASH (Wednesday)
DESCRIPTION:Sixth through twelfth graders enjoy dinner at 6 p.m. Worship and teaching on Gospel basics begins at 7 p.m.
URL:https://saclr.org/event/dash-wednesday/2021-03-17/
CATEGORIES:Youth Ministry
END:VEVENT
BEGIN:VEVENT
DTSTART;TZID=America/Chicago:20210316T121500
DTEND;TZID=America/Chicago:20210316T131500
DTSTAMP:20260420T220510
CREATED:20190104T012627Z
LAST-MODIFIED:20250828T140023Z
UID:10001524-1615896900-1615900500@saclr.org
SUMMARY:Men's Bible Fellowship
DESCRIPTION:More information available here
URL:https://saclr.org/event/mens-bible-fellowship-2/2021-03-16/
END:VEVENT
BEGIN:VEVENT
DTSTART;TZID=America/Chicago:20210310T180000
DTEND;TZID=America/Chicago:20210310T200000
DTSTAMP:20260420T220510
CREATED:20150922T063132Z
LAST-MODIFIED:20241212T222527Z
UID:10000771-1615399200-1615406400@saclr.org
SUMMARY:DASH (Wednesday)
DESCRIPTION:Sixth through twelfth graders enjoy dinner at 6 p.m. Worship and teaching on Gospel basics begins at 7 p.m.
URL:https://saclr.org/event/dash-wednesday/2021-03-10/
CATEGORIES:Youth Ministry
END:VEVENT
BEGIN:VEVENT
DTSTART;TZID=America/Chicago:20210309T121500
DTEND;TZID=America/Chicago:20210309T131500
DTSTAMP:20260420T220510
CREATED:20190104T012627Z
LAST-MODIFIED:20250828T140023Z
UID:10001523-1615292100-1615295700@saclr.org
SUMMARY:Men's Bible Fellowship
DESCRIPTION:More information available here
URL:https://saclr.org/event/mens-bible-fellowship-2/2021-03-09/
END:VEVENT
BEGIN:VEVENT
DTSTART;TZID=America/Chicago:20210303T180000
DTEND;TZID=America/Chicago:20210303T200000
DTSTAMP:20260420T220510
CREATED:20150922T063132Z
LAST-MODIFIED:20241212T222527Z
UID:10000770-1614794400-1614801600@saclr.org
SUMMARY:DASH (Wednesday)
DESCRIPTION:Sixth through twelfth graders enjoy dinner at 6 p.m. Worship and teaching on Gospel basics begins at 7 p.m.
URL:https://saclr.org/event/dash-wednesday/2021-03-03/
CATEGORIES:Youth Ministry
END:VEVENT
BEGIN:VEVENT
DTSTART;TZID=America/Chicago:20210302T121500
DTEND;TZID=America/Chicago:20210302T131500
DTSTAMP:20260420T220510
CREATED:20190104T012627Z
LAST-MODIFIED:20250828T140023Z
UID:10001522-1614687300-1614690900@saclr.org
SUMMARY:Men's Bible Fellowship
DESCRIPTION:More information available here
URL:https://saclr.org/event/mens-bible-fellowship-2/2021-03-02/
END:VEVENT
BEGIN:VEVENT
DTSTART;TZID=America/Chicago:20210224T180000
DTEND;TZID=America/Chicago:20210224T200000
DTSTAMP:20260420T220510
CREATED:20150922T063132Z
LAST-MODIFIED:20241212T222527Z
UID:10000769-1614189600-1614196800@saclr.org
SUMMARY:DASH (Wednesday)
DESCRIPTION:Sixth through twelfth graders enjoy dinner at 6 p.m. Worship and teaching on Gospel basics begins at 7 p.m.
URL:https://saclr.org/event/dash-wednesday/2021-02-24/
CATEGORIES:Youth Ministry
END:VEVENT
BEGIN:VEVENT
DTSTART;TZID=America/Chicago:20210223T121500
DTEND;TZID=America/Chicago:20210223T131500
DTSTAMP:20260420T220510
CREATED:20190104T012627Z
LAST-MODIFIED:20250828T140023Z
UID:10001521-1614082500-1614086100@saclr.org
SUMMARY:Men's Bible Fellowship
DESCRIPTION:More information available here
URL:https://saclr.org/event/mens-bible-fellowship-2/2021-02-23/
END:VEVENT
BEGIN:VEVENT
DTSTART;TZID=America/Chicago:20210217T180000
DTEND;TZID=America/Chicago:20210217T200000
DTSTAMP:20260420T220510
CREATED:20150922T063132Z
LAST-MODIFIED:20241212T222527Z
UID:10000768-1613584800-1613592000@saclr.org
SUMMARY:DASH (Wednesday)
DESCRIPTION:Sixth through twelfth graders enjoy dinner at 6 p.m. Worship and teaching on Gospel basics begins at 7 p.m.
URL:https://saclr.org/event/dash-wednesday/2021-02-17/
CATEGORIES:Youth Ministry
END:VEVENT
BEGIN:VEVENT
DTSTART;TZID=America/Chicago:20210216T121500
DTEND;TZID=America/Chicago:20210216T131500
DTSTAMP:20260420T220510
CREATED:20190104T012627Z
LAST-MODIFIED:20250828T140023Z
UID:10001520-1613477700-1613481300@saclr.org
SUMMARY:Men's Bible Fellowship
DESCRIPTION:More information available here
URL:https://saclr.org/event/mens-bible-fellowship-2/2021-02-16/
END:VEVENT
BEGIN:VEVENT
DTSTART;TZID=America/Chicago:20210210T180000
DTEND;TZID=America/Chicago:20210210T200000
DTSTAMP:20260420T220510
CREATED:20150922T063132Z
LAST-MODIFIED:20241212T222527Z
UID:10000767-1612980000-1612987200@saclr.org
SUMMARY:DASH (Wednesday)
DESCRIPTION:Sixth through twelfth graders enjoy dinner at 6 p.m. Worship and teaching on Gospel basics begins at 7 p.m.
URL:https://saclr.org/event/dash-wednesday/2021-02-10/
CATEGORIES:Youth Ministry
END:VEVENT
BEGIN:VEVENT
DTSTART;TZID=America/Chicago:20210209T121500
DTEND;TZID=America/Chicago:20210209T131500
DTSTAMP:20260420T220510
CREATED:20190104T012627Z
LAST-MODIFIED:20250828T140023Z
UID:10001519-1612872900-1612876500@saclr.org
SUMMARY:Men's Bible Fellowship
DESCRIPTION:More information available here
URL:https://saclr.org/event/mens-bible-fellowship-2/2021-02-09/
END:VEVENT
BEGIN:VEVENT
DTSTART;TZID=America/Chicago:20210203T180000
DTEND;TZID=America/Chicago:20210203T200000
DTSTAMP:20260420T220510
CREATED:20150922T063132Z
LAST-MODIFIED:20241212T222527Z
UID:10000766-1612375200-1612382400@saclr.org
SUMMARY:DASH (Wednesday)
DESCRIPTION:Sixth through twelfth graders enjoy dinner at 6 p.m. Worship and teaching on Gospel basics begins at 7 p.m.
URL:https://saclr.org/event/dash-wednesday/2021-02-03/
CATEGORIES:Youth Ministry
END:VEVENT
BEGIN:VEVENT
DTSTART;TZID=America/Chicago:20210202T121500
DTEND;TZID=America/Chicago:20210202T131500
DTSTAMP:20260420T220510
CREATED:20190104T012627Z
LAST-MODIFIED:20250828T140023Z
UID:10001518-1612268100-1612271700@saclr.org
SUMMARY:Men's Bible Fellowship
DESCRIPTION:More information available here
URL:https://saclr.org/event/mens-bible-fellowship-2/2021-02-02/
END:VEVENT
BEGIN:VEVENT
DTSTART;TZID=America/Chicago:20210127T180000
DTEND;TZID=America/Chicago:20210127T200000
DTSTAMP:20260420T220510
CREATED:20150922T063132Z
LAST-MODIFIED:20241212T222527Z
UID:10000765-1611770400-1611777600@saclr.org
SUMMARY:DASH (Wednesday)
DESCRIPTION:Sixth through twelfth graders enjoy dinner at 6 p.m. Worship and teaching on Gospel basics begins at 7 p.m.
URL:https://saclr.org/event/dash-wednesday/2021-01-27/
CATEGORIES:Youth Ministry
END:VEVENT
BEGIN:VEVENT
DTSTART;TZID=America/Chicago:20210126T121500
DTEND;TZID=America/Chicago:20210126T131500
DTSTAMP:20260420T220510
CREATED:20190104T012627Z
LAST-MODIFIED:20250828T140023Z
UID:10001517-1611663300-1611666900@saclr.org
SUMMARY:Men's Bible Fellowship
DESCRIPTION:More information available here
URL:https://saclr.org/event/mens-bible-fellowship-2/2021-01-26/
END:VEVENT
BEGIN:VEVENT
DTSTART;TZID=America/Chicago:20210120T180000
DTEND;TZID=America/Chicago:20210120T200000
DTSTAMP:20260420T220510
CREATED:20150922T063132Z
LAST-MODIFIED:20241212T222527Z
UID:10000764-1611165600-1611172800@saclr.org
SUMMARY:DASH (Wednesday)
DESCRIPTION:Sixth through twelfth graders enjoy dinner at 6 p.m. Worship and teaching on Gospel basics begins at 7 p.m.
URL:https://saclr.org/event/dash-wednesday/2021-01-20/
CATEGORIES:Youth Ministry
END:VEVENT
BEGIN:VEVENT
DTSTART;TZID=America/Chicago:20210119T121500
DTEND;TZID=America/Chicago:20210119T131500
DTSTAMP:20260420T220510
CREATED:20190104T012627Z
LAST-MODIFIED:20250828T140023Z
UID:10001516-1611058500-1611062100@saclr.org
SUMMARY:Men's Bible Fellowship
DESCRIPTION:More information available here
URL:https://saclr.org/event/mens-bible-fellowship-2/2021-01-19/
END:VEVENT
BEGIN:VEVENT
DTSTART;TZID=America/Chicago:20210113T180000
DTEND;TZID=America/Chicago:20210113T200000
DTSTAMP:20260420T220510
CREATED:20150922T063132Z
LAST-MODIFIED:20241212T222527Z
UID:10000763-1610560800-1610568000@saclr.org
SUMMARY:DASH (Wednesday)
DESCRIPTION:Sixth through twelfth graders enjoy dinner at 6 p.m. Worship and teaching on Gospel basics begins at 7 p.m.
URL:https://saclr.org/event/dash-wednesday/2021-01-13/
CATEGORIES:Youth Ministry
END:VEVENT
BEGIN:VEVENT
DTSTART;TZID=America/Chicago:20210112T121500
DTEND;TZID=America/Chicago:20210112T131500
DTSTAMP:20260420T220510
CREATED:20190104T012627Z
LAST-MODIFIED:20250828T140023Z
UID:10001515-1610453700-1610457300@saclr.org
SUMMARY:Men's Bible Fellowship
DESCRIPTION:More information available here
URL:https://saclr.org/event/mens-bible-fellowship-2/2021-01-12/
END:VEVENT
BEGIN:VEVENT
DTSTART;TZID=America/Chicago:20210106T180000
DTEND;TZID=America/Chicago:20210106T200000
DTSTAMP:20260420T220510
CREATED:20150922T063132Z
LAST-MODIFIED:20241212T222527Z
UID:10000762-1609956000-1609963200@saclr.org
SUMMARY:DASH (Wednesday)
DESCRIPTION:Sixth through twelfth graders enjoy dinner at 6 p.m. Worship and teaching on Gospel basics begins at 7 p.m.
URL:https://saclr.org/event/dash-wednesday/2021-01-06/
CATEGORIES:Youth Ministry
END:VEVENT
BEGIN:VEVENT
DTSTART;TZID=America/Chicago:20210105T121500
DTEND;TZID=America/Chicago:20210105T131500
DTSTAMP:20260420T220510
CREATED:20190104T012627Z
LAST-MODIFIED:20250828T140023Z
UID:10001514-1609848900-1609852500@saclr.org
SUMMARY:Men's Bible Fellowship
DESCRIPTION:More information available here
URL:https://saclr.org/event/mens-bible-fellowship-2/2021-01-05/
END:VEVENT
BEGIN:VEVENT
DTSTART;TZID=America/Chicago:20201230T180000
DTEND;TZID=America/Chicago:20201230T200000
DTSTAMP:20260420T220510
CREATED:20150922T063132Z
LAST-MODIFIED:20241212T222527Z
UID:10000761-1609351200-1609358400@saclr.org
SUMMARY:DASH (Wednesday)
DESCRIPTION:Sixth through twelfth graders enjoy dinner at 6 p.m. Worship and teaching on Gospel basics begins at 7 p.m.
URL:https://saclr.org/event/dash-wednesday/2020-12-30/
CATEGORIES:Youth Ministry
END:VEVENT
END:VCALENDAR