BEGIN:VCALENDAR
VERSION:2.0
PRODID:-//St. Andrew&#039;s Anglican Church - ECPv6.7.0//NONSGML v1.0//EN
CALSCALE:GREGORIAN
METHOD:PUBLISH
X-WR-CALNAME:St. Andrew&#039;s Anglican Church
X-ORIGINAL-URL:https://saclr.org
X-WR-CALDESC:Events for St. Andrew&#039;s Anglican Church
REFRESH-INTERVAL;VALUE=DURATION:PT1H
X-Robots-Tag:noindex
X-PUBLISHED-TTL:PT1H
BEGIN:VTIMEZONE
TZID:America/Chicago
BEGIN:DAYLIGHT
TZOFFSETFROM:-0600
TZOFFSETTO:-0500
TZNAME:CDT
DTSTART:20210314T080000
END:DAYLIGHT
BEGIN:STANDARD
TZOFFSETFROM:-0500
TZOFFSETTO:-0600
TZNAME:CST
DTSTART:20211107T070000
END:STANDARD
END:VTIMEZONE
BEGIN:VEVENT
DTSTART;TZID=America/Chicago:20210720T121500
DTEND;TZID=America/Chicago:20210720T131500
DTSTAMP:20260421T033005
CREATED:20190104T012627Z
LAST-MODIFIED:20250828T140023Z
UID:10001542-1626783300-1626786900@saclr.org
SUMMARY:Men's Bible Fellowship
DESCRIPTION:More information available here
URL:https://saclr.org/event/mens-bible-fellowship-2/2021-07-20/
END:VEVENT
BEGIN:VEVENT
DTSTART;TZID=America/Chicago:20210714T180000
DTEND;TZID=America/Chicago:20210714T200000
DTSTAMP:20260421T033005
CREATED:20150922T063132Z
LAST-MODIFIED:20241212T222527Z
UID:10000789-1626285600-1626292800@saclr.org
SUMMARY:DASH (Wednesday)
DESCRIPTION:Sixth through twelfth graders enjoy dinner at 6 p.m. Worship and teaching on Gospel basics begins at 7 p.m.
URL:https://saclr.org/event/dash-wednesday/2021-07-14/
CATEGORIES:Youth Ministry
END:VEVENT
BEGIN:VEVENT
DTSTART;TZID=America/Chicago:20210713T121500
DTEND;TZID=America/Chicago:20210713T131500
DTSTAMP:20260421T033005
CREATED:20190104T012627Z
LAST-MODIFIED:20250828T140023Z
UID:10001541-1626178500-1626182100@saclr.org
SUMMARY:Men's Bible Fellowship
DESCRIPTION:More information available here
URL:https://saclr.org/event/mens-bible-fellowship-2/2021-07-13/
END:VEVENT
BEGIN:VEVENT
DTSTART;TZID=America/Chicago:20210707T180000
DTEND;TZID=America/Chicago:20210707T200000
DTSTAMP:20260421T033005
CREATED:20150922T063132Z
LAST-MODIFIED:20241212T222527Z
UID:10000788-1625680800-1625688000@saclr.org
SUMMARY:DASH (Wednesday)
DESCRIPTION:Sixth through twelfth graders enjoy dinner at 6 p.m. Worship and teaching on Gospel basics begins at 7 p.m.
URL:https://saclr.org/event/dash-wednesday/2021-07-07/
CATEGORIES:Youth Ministry
END:VEVENT
BEGIN:VEVENT
DTSTART;TZID=America/Chicago:20210706T121500
DTEND;TZID=America/Chicago:20210706T131500
DTSTAMP:20260421T033005
CREATED:20190104T012627Z
LAST-MODIFIED:20250828T140023Z
UID:10001540-1625573700-1625577300@saclr.org
SUMMARY:Men's Bible Fellowship
DESCRIPTION:More information available here
URL:https://saclr.org/event/mens-bible-fellowship-2/2021-07-06/
END:VEVENT
BEGIN:VEVENT
DTSTART;TZID=America/Chicago:20210630T180000
DTEND;TZID=America/Chicago:20210630T200000
DTSTAMP:20260421T033005
CREATED:20150922T063132Z
LAST-MODIFIED:20241212T222527Z
UID:10000787-1625076000-1625083200@saclr.org
SUMMARY:DASH (Wednesday)
DESCRIPTION:Sixth through twelfth graders enjoy dinner at 6 p.m. Worship and teaching on Gospel basics begins at 7 p.m.
URL:https://saclr.org/event/dash-wednesday/2021-06-30/
CATEGORIES:Youth Ministry
END:VEVENT
BEGIN:VEVENT
DTSTART;TZID=America/Chicago:20210629T121500
DTEND;TZID=America/Chicago:20210629T131500
DTSTAMP:20260421T033005
CREATED:20190104T012627Z
LAST-MODIFIED:20250828T140023Z
UID:10001539-1624968900-1624972500@saclr.org
SUMMARY:Men's Bible Fellowship
DESCRIPTION:More information available here
URL:https://saclr.org/event/mens-bible-fellowship-2/2021-06-29/
END:VEVENT
BEGIN:VEVENT
DTSTART;TZID=America/Chicago:20210623T180000
DTEND;TZID=America/Chicago:20210623T200000
DTSTAMP:20260421T033005
CREATED:20150922T063132Z
LAST-MODIFIED:20241212T222527Z
UID:10000786-1624471200-1624478400@saclr.org
SUMMARY:DASH (Wednesday)
DESCRIPTION:Sixth through twelfth graders enjoy dinner at 6 p.m. Worship and teaching on Gospel basics begins at 7 p.m.
URL:https://saclr.org/event/dash-wednesday/2021-06-23/
CATEGORIES:Youth Ministry
END:VEVENT
BEGIN:VEVENT
DTSTART;TZID=America/Chicago:20210622T121500
DTEND;TZID=America/Chicago:20210622T131500
DTSTAMP:20260421T033005
CREATED:20190104T012627Z
LAST-MODIFIED:20250828T140023Z
UID:10001538-1624364100-1624367700@saclr.org
SUMMARY:Men's Bible Fellowship
DESCRIPTION:More information available here
URL:https://saclr.org/event/mens-bible-fellowship-2/2021-06-22/
END:VEVENT
BEGIN:VEVENT
DTSTART;TZID=America/Chicago:20210616T180000
DTEND;TZID=America/Chicago:20210616T200000
DTSTAMP:20260421T033005
CREATED:20150922T063132Z
LAST-MODIFIED:20241212T222527Z
UID:10000785-1623866400-1623873600@saclr.org
SUMMARY:DASH (Wednesday)
DESCRIPTION:Sixth through twelfth graders enjoy dinner at 6 p.m. Worship and teaching on Gospel basics begins at 7 p.m.
URL:https://saclr.org/event/dash-wednesday/2021-06-16/
CATEGORIES:Youth Ministry
END:VEVENT
BEGIN:VEVENT
DTSTART;TZID=America/Chicago:20210615T121500
DTEND;TZID=America/Chicago:20210615T131500
DTSTAMP:20260421T033005
CREATED:20190104T012627Z
LAST-MODIFIED:20250828T140023Z
UID:10001537-1623759300-1623762900@saclr.org
SUMMARY:Men's Bible Fellowship
DESCRIPTION:More information available here
URL:https://saclr.org/event/mens-bible-fellowship-2/2021-06-15/
END:VEVENT
BEGIN:VEVENT
DTSTART;TZID=America/Chicago:20210609T180000
DTEND;TZID=America/Chicago:20210609T200000
DTSTAMP:20260421T033005
CREATED:20150922T063132Z
LAST-MODIFIED:20241212T222527Z
UID:10000784-1623261600-1623268800@saclr.org
SUMMARY:DASH (Wednesday)
DESCRIPTION:Sixth through twelfth graders enjoy dinner at 6 p.m. Worship and teaching on Gospel basics begins at 7 p.m.
URL:https://saclr.org/event/dash-wednesday/2021-06-09/
CATEGORIES:Youth Ministry
END:VEVENT
BEGIN:VEVENT
DTSTART;TZID=America/Chicago:20210608T121500
DTEND;TZID=America/Chicago:20210608T131500
DTSTAMP:20260421T033005
CREATED:20190104T012627Z
LAST-MODIFIED:20250828T140023Z
UID:10001536-1623154500-1623158100@saclr.org
SUMMARY:Men's Bible Fellowship
DESCRIPTION:More information available here
URL:https://saclr.org/event/mens-bible-fellowship-2/2021-06-08/
END:VEVENT
BEGIN:VEVENT
DTSTART;TZID=America/Chicago:20210602T180000
DTEND;TZID=America/Chicago:20210602T200000
DTSTAMP:20260421T033005
CREATED:20150922T063132Z
LAST-MODIFIED:20241212T222527Z
UID:10000783-1622656800-1622664000@saclr.org
SUMMARY:DASH (Wednesday)
DESCRIPTION:Sixth through twelfth graders enjoy dinner at 6 p.m. Worship and teaching on Gospel basics begins at 7 p.m.
URL:https://saclr.org/event/dash-wednesday/2021-06-02/
CATEGORIES:Youth Ministry
END:VEVENT
BEGIN:VEVENT
DTSTART;TZID=America/Chicago:20210601T121500
DTEND;TZID=America/Chicago:20210601T131500
DTSTAMP:20260421T033005
CREATED:20190104T012627Z
LAST-MODIFIED:20250828T140023Z
UID:10001535-1622549700-1622553300@saclr.org
SUMMARY:Men's Bible Fellowship
DESCRIPTION:More information available here
URL:https://saclr.org/event/mens-bible-fellowship-2/2021-06-01/
END:VEVENT
BEGIN:VEVENT
DTSTART;TZID=America/Chicago:20210526T180000
DTEND;TZID=America/Chicago:20210526T200000
DTSTAMP:20260421T033005
CREATED:20150922T063132Z
LAST-MODIFIED:20241212T222527Z
UID:10000782-1622052000-1622059200@saclr.org
SUMMARY:DASH (Wednesday)
DESCRIPTION:Sixth through twelfth graders enjoy dinner at 6 p.m. Worship and teaching on Gospel basics begins at 7 p.m.
URL:https://saclr.org/event/dash-wednesday/2021-05-26/
CATEGORIES:Youth Ministry
END:VEVENT
BEGIN:VEVENT
DTSTART;TZID=America/Chicago:20210525T121500
DTEND;TZID=America/Chicago:20210525T131500
DTSTAMP:20260421T033005
CREATED:20190104T012627Z
LAST-MODIFIED:20250828T140023Z
UID:10001534-1621944900-1621948500@saclr.org
SUMMARY:Men's Bible Fellowship
DESCRIPTION:More information available here
URL:https://saclr.org/event/mens-bible-fellowship-2/2021-05-25/
END:VEVENT
BEGIN:VEVENT
DTSTART;TZID=America/Chicago:20210519T180000
DTEND;TZID=America/Chicago:20210519T200000
DTSTAMP:20260421T033005
CREATED:20150922T063132Z
LAST-MODIFIED:20241212T222527Z
UID:10000781-1621447200-1621454400@saclr.org
SUMMARY:DASH (Wednesday)
DESCRIPTION:Sixth through twelfth graders enjoy dinner at 6 p.m. Worship and teaching on Gospel basics begins at 7 p.m.
URL:https://saclr.org/event/dash-wednesday/2021-05-19/
CATEGORIES:Youth Ministry
END:VEVENT
BEGIN:VEVENT
DTSTART;TZID=America/Chicago:20210518T121500
DTEND;TZID=America/Chicago:20210518T131500
DTSTAMP:20260421T033005
CREATED:20190104T012627Z
LAST-MODIFIED:20250828T140023Z
UID:10001533-1621340100-1621343700@saclr.org
SUMMARY:Men's Bible Fellowship
DESCRIPTION:More information available here
URL:https://saclr.org/event/mens-bible-fellowship-2/2021-05-18/
END:VEVENT
BEGIN:VEVENT
DTSTART;TZID=America/Chicago:20210512T180000
DTEND;TZID=America/Chicago:20210512T200000
DTSTAMP:20260421T033005
CREATED:20150922T063132Z
LAST-MODIFIED:20241212T222527Z
UID:10000780-1620842400-1620849600@saclr.org
SUMMARY:DASH (Wednesday)
DESCRIPTION:Sixth through twelfth graders enjoy dinner at 6 p.m. Worship and teaching on Gospel basics begins at 7 p.m.
URL:https://saclr.org/event/dash-wednesday/2021-05-12/
CATEGORIES:Youth Ministry
END:VEVENT
BEGIN:VEVENT
DTSTART;TZID=America/Chicago:20210511T121500
DTEND;TZID=America/Chicago:20210511T131500
DTSTAMP:20260421T033005
CREATED:20190104T012627Z
LAST-MODIFIED:20250828T140023Z
UID:10001532-1620735300-1620738900@saclr.org
SUMMARY:Men's Bible Fellowship
DESCRIPTION:More information available here
URL:https://saclr.org/event/mens-bible-fellowship-2/2021-05-11/
END:VEVENT
BEGIN:VEVENT
DTSTART;TZID=America/Chicago:20210505T180000
DTEND;TZID=America/Chicago:20210505T200000
DTSTAMP:20260421T033005
CREATED:20150922T063132Z
LAST-MODIFIED:20241212T222527Z
UID:10000779-1620237600-1620244800@saclr.org
SUMMARY:DASH (Wednesday)
DESCRIPTION:Sixth through twelfth graders enjoy dinner at 6 p.m. Worship and teaching on Gospel basics begins at 7 p.m.
URL:https://saclr.org/event/dash-wednesday/2021-05-05/
CATEGORIES:Youth Ministry
END:VEVENT
BEGIN:VEVENT
DTSTART;TZID=America/Chicago:20210504T121500
DTEND;TZID=America/Chicago:20210504T131500
DTSTAMP:20260421T033005
CREATED:20190104T012627Z
LAST-MODIFIED:20250828T140023Z
UID:10001531-1620130500-1620134100@saclr.org
SUMMARY:Men's Bible Fellowship
DESCRIPTION:More information available here
URL:https://saclr.org/event/mens-bible-fellowship-2/2021-05-04/
END:VEVENT
BEGIN:VEVENT
DTSTART;TZID=America/Chicago:20210428T180000
DTEND;TZID=America/Chicago:20210428T200000
DTSTAMP:20260421T033005
CREATED:20150922T063132Z
LAST-MODIFIED:20241212T222527Z
UID:10000778-1619632800-1619640000@saclr.org
SUMMARY:DASH (Wednesday)
DESCRIPTION:Sixth through twelfth graders enjoy dinner at 6 p.m. Worship and teaching on Gospel basics begins at 7 p.m.
URL:https://saclr.org/event/dash-wednesday/2021-04-28/
CATEGORIES:Youth Ministry
END:VEVENT
BEGIN:VEVENT
DTSTART;TZID=America/Chicago:20210427T121500
DTEND;TZID=America/Chicago:20210427T131500
DTSTAMP:20260421T033005
CREATED:20190104T012627Z
LAST-MODIFIED:20250828T140023Z
UID:10001530-1619525700-1619529300@saclr.org
SUMMARY:Men's Bible Fellowship
DESCRIPTION:More information available here
URL:https://saclr.org/event/mens-bible-fellowship-2/2021-04-27/
END:VEVENT
BEGIN:VEVENT
DTSTART;TZID=America/Chicago:20210421T180000
DTEND;TZID=America/Chicago:20210421T200000
DTSTAMP:20260421T033005
CREATED:20150922T063132Z
LAST-MODIFIED:20241212T222527Z
UID:10000777-1619028000-1619035200@saclr.org
SUMMARY:DASH (Wednesday)
DESCRIPTION:Sixth through twelfth graders enjoy dinner at 6 p.m. Worship and teaching on Gospel basics begins at 7 p.m.
URL:https://saclr.org/event/dash-wednesday/2021-04-21/
CATEGORIES:Youth Ministry
END:VEVENT
BEGIN:VEVENT
DTSTART;TZID=America/Chicago:20210420T121500
DTEND;TZID=America/Chicago:20210420T131500
DTSTAMP:20260421T033005
CREATED:20190104T012627Z
LAST-MODIFIED:20250828T140023Z
UID:10001529-1618920900-1618924500@saclr.org
SUMMARY:Men's Bible Fellowship
DESCRIPTION:More information available here
URL:https://saclr.org/event/mens-bible-fellowship-2/2021-04-20/
END:VEVENT
BEGIN:VEVENT
DTSTART;TZID=America/Chicago:20210414T180000
DTEND;TZID=America/Chicago:20210414T200000
DTSTAMP:20260421T033005
CREATED:20150922T063132Z
LAST-MODIFIED:20241212T222527Z
UID:10000776-1618423200-1618430400@saclr.org
SUMMARY:DASH (Wednesday)
DESCRIPTION:Sixth through twelfth graders enjoy dinner at 6 p.m. Worship and teaching on Gospel basics begins at 7 p.m.
URL:https://saclr.org/event/dash-wednesday/2021-04-14/
CATEGORIES:Youth Ministry
END:VEVENT
BEGIN:VEVENT
DTSTART;TZID=America/Chicago:20210413T121500
DTEND;TZID=America/Chicago:20210413T131500
DTSTAMP:20260421T033005
CREATED:20190104T012627Z
LAST-MODIFIED:20250828T140023Z
UID:10001528-1618316100-1618319700@saclr.org
SUMMARY:Men's Bible Fellowship
DESCRIPTION:More information available here
URL:https://saclr.org/event/mens-bible-fellowship-2/2021-04-13/
END:VEVENT
BEGIN:VEVENT
DTSTART;TZID=America/Chicago:20210407T180000
DTEND;TZID=America/Chicago:20210407T200000
DTSTAMP:20260421T033005
CREATED:20150922T063132Z
LAST-MODIFIED:20241212T222527Z
UID:10000775-1617818400-1617825600@saclr.org
SUMMARY:DASH (Wednesday)
DESCRIPTION:Sixth through twelfth graders enjoy dinner at 6 p.m. Worship and teaching on Gospel basics begins at 7 p.m.
URL:https://saclr.org/event/dash-wednesday/2021-04-07/
CATEGORIES:Youth Ministry
END:VEVENT
END:VCALENDAR