BEGIN:VCALENDAR
VERSION:2.0
PRODID:-//St. Andrew&#039;s Anglican Church - ECPv6.7.0//NONSGML v1.0//EN
CALSCALE:GREGORIAN
METHOD:PUBLISH
X-WR-CALNAME:St. Andrew&#039;s Anglican Church
X-ORIGINAL-URL:https://saclr.org
X-WR-CALDESC:Events for St. Andrew&#039;s Anglican Church
REFRESH-INTERVAL;VALUE=DURATION:PT1H
X-Robots-Tag:noindex
X-PUBLISHED-TTL:PT1H
BEGIN:VTIMEZONE
TZID:America/Chicago
BEGIN:DAYLIGHT
TZOFFSETFROM:-0600
TZOFFSETTO:-0500
TZNAME:CDT
DTSTART:20210314T080000
END:DAYLIGHT
BEGIN:STANDARD
TZOFFSETFROM:-0500
TZOFFSETTO:-0600
TZNAME:CST
DTSTART:20211107T070000
END:STANDARD
END:VTIMEZONE
BEGIN:VEVENT
DTSTART;TZID=America/Chicago:20211027T180000
DTEND;TZID=America/Chicago:20211027T200000
DTSTAMP:20260420T235626
CREATED:20150922T063132Z
LAST-MODIFIED:20241212T222527Z
UID:10000804-1635357600-1635364800@saclr.org
SUMMARY:DASH (Wednesday)
DESCRIPTION:Sixth through twelfth graders enjoy dinner at 6 p.m. Worship and teaching on Gospel basics begins at 7 p.m.
URL:https://saclr.org/event/dash-wednesday/2021-10-27/
CATEGORIES:Youth Ministry
END:VEVENT
BEGIN:VEVENT
DTSTART;TZID=America/Chicago:20211026T121500
DTEND;TZID=America/Chicago:20211026T131500
DTSTAMP:20260420T235626
CREATED:20190104T012627Z
LAST-MODIFIED:20250828T140023Z
UID:10001556-1635250500-1635254100@saclr.org
SUMMARY:Men's Bible Fellowship
DESCRIPTION:More information available here
URL:https://saclr.org/event/mens-bible-fellowship-2/2021-10-26/
END:VEVENT
BEGIN:VEVENT
DTSTART;TZID=America/Chicago:20211025T183000
DTEND;TZID=America/Chicago:20211025T203000
DTSTAMP:20260420T235626
CREATED:20210918T002201Z
LAST-MODIFIED:20210918T002201Z
UID:10001831-1635186600-1635193800@saclr.org
SUMMARY:GriefShare
DESCRIPTION:
URL:https://saclr.org/event/griefshare-6/2021-10-25/
END:VEVENT
BEGIN:VEVENT
DTSTART;TZID=America/Chicago:20211020T180000
DTEND;TZID=America/Chicago:20211020T200000
DTSTAMP:20260420T235626
CREATED:20150922T063132Z
LAST-MODIFIED:20241212T222527Z
UID:10000803-1634752800-1634760000@saclr.org
SUMMARY:DASH (Wednesday)
DESCRIPTION:Sixth through twelfth graders enjoy dinner at 6 p.m. Worship and teaching on Gospel basics begins at 7 p.m.
URL:https://saclr.org/event/dash-wednesday/2021-10-20/
CATEGORIES:Youth Ministry
END:VEVENT
BEGIN:VEVENT
DTSTART;TZID=America/Chicago:20211019T121500
DTEND;TZID=America/Chicago:20211019T131500
DTSTAMP:20260420T235626
CREATED:20190104T012627Z
LAST-MODIFIED:20250828T140023Z
UID:10001555-1634645700-1634649300@saclr.org
SUMMARY:Men's Bible Fellowship
DESCRIPTION:More information available here
URL:https://saclr.org/event/mens-bible-fellowship-2/2021-10-19/
END:VEVENT
BEGIN:VEVENT
DTSTART;TZID=America/Chicago:20211018T183000
DTEND;TZID=America/Chicago:20211018T203000
DTSTAMP:20260420T235626
CREATED:20210918T002201Z
LAST-MODIFIED:20210918T002201Z
UID:10001830-1634581800-1634589000@saclr.org
SUMMARY:GriefShare
DESCRIPTION:
URL:https://saclr.org/event/griefshare-6/2021-10-18/
END:VEVENT
BEGIN:VEVENT
DTSTART;TZID=America/Chicago:20211013T180000
DTEND;TZID=America/Chicago:20211013T200000
DTSTAMP:20260420T235626
CREATED:20150922T063132Z
LAST-MODIFIED:20241212T222527Z
UID:10000802-1634148000-1634155200@saclr.org
SUMMARY:DASH (Wednesday)
DESCRIPTION:Sixth through twelfth graders enjoy dinner at 6 p.m. Worship and teaching on Gospel basics begins at 7 p.m.
URL:https://saclr.org/event/dash-wednesday/2021-10-13/
CATEGORIES:Youth Ministry
END:VEVENT
BEGIN:VEVENT
DTSTART;TZID=America/Chicago:20211012T121500
DTEND;TZID=America/Chicago:20211012T131500
DTSTAMP:20260420T235626
CREATED:20190104T012627Z
LAST-MODIFIED:20250828T140023Z
UID:10001554-1634040900-1634044500@saclr.org
SUMMARY:Men's Bible Fellowship
DESCRIPTION:More information available here
URL:https://saclr.org/event/mens-bible-fellowship-2/2021-10-12/
END:VEVENT
BEGIN:VEVENT
DTSTART;TZID=America/Chicago:20211011T183000
DTEND;TZID=America/Chicago:20211011T203000
DTSTAMP:20260420T235626
CREATED:20210918T002201Z
LAST-MODIFIED:20210918T002201Z
UID:10001829-1633977000-1633984200@saclr.org
SUMMARY:GriefShare
DESCRIPTION:
URL:https://saclr.org/event/griefshare-6/2021-10-11/
END:VEVENT
BEGIN:VEVENT
DTSTART;TZID=America/Chicago:20211006T180000
DTEND;TZID=America/Chicago:20211006T200000
DTSTAMP:20260420T235626
CREATED:20150922T063132Z
LAST-MODIFIED:20241212T222527Z
UID:10000801-1633543200-1633550400@saclr.org
SUMMARY:DASH (Wednesday)
DESCRIPTION:Sixth through twelfth graders enjoy dinner at 6 p.m. Worship and teaching on Gospel basics begins at 7 p.m.
URL:https://saclr.org/event/dash-wednesday/2021-10-06/
CATEGORIES:Youth Ministry
END:VEVENT
BEGIN:VEVENT
DTSTART;TZID=America/Chicago:20211005T121500
DTEND;TZID=America/Chicago:20211005T131500
DTSTAMP:20260420T235626
CREATED:20190104T012627Z
LAST-MODIFIED:20250828T140023Z
UID:10001553-1633436100-1633439700@saclr.org
SUMMARY:Men's Bible Fellowship
DESCRIPTION:More information available here
URL:https://saclr.org/event/mens-bible-fellowship-2/2021-10-05/
END:VEVENT
BEGIN:VEVENT
DTSTART;TZID=America/Chicago:20211004T183000
DTEND;TZID=America/Chicago:20211004T203000
DTSTAMP:20260420T235626
CREATED:20210918T002201Z
LAST-MODIFIED:20210918T002201Z
UID:10001828-1633372200-1633379400@saclr.org
SUMMARY:GriefShare
DESCRIPTION:
URL:https://saclr.org/event/griefshare-6/2021-10-04/
END:VEVENT
BEGIN:VEVENT
DTSTART;TZID=America/Chicago:20210929T180000
DTEND;TZID=America/Chicago:20210929T200000
DTSTAMP:20260420T235626
CREATED:20150922T063132Z
LAST-MODIFIED:20241212T222527Z
UID:10000800-1632938400-1632945600@saclr.org
SUMMARY:DASH (Wednesday)
DESCRIPTION:Sixth through twelfth graders enjoy dinner at 6 p.m. Worship and teaching on Gospel basics begins at 7 p.m.
URL:https://saclr.org/event/dash-wednesday/2021-09-29/
CATEGORIES:Youth Ministry
END:VEVENT
BEGIN:VEVENT
DTSTART;TZID=America/Chicago:20210928T121500
DTEND;TZID=America/Chicago:20210928T131500
DTSTAMP:20260420T235626
CREATED:20190104T012627Z
LAST-MODIFIED:20250828T140023Z
UID:10001552-1632831300-1632834900@saclr.org
SUMMARY:Men's Bible Fellowship
DESCRIPTION:More information available here
URL:https://saclr.org/event/mens-bible-fellowship-2/2021-09-28/
END:VEVENT
BEGIN:VEVENT
DTSTART;TZID=America/Chicago:20210927T183000
DTEND;TZID=America/Chicago:20210927T203000
DTSTAMP:20260420T235626
CREATED:20210918T002201Z
LAST-MODIFIED:20210918T002201Z
UID:10001827-1632767400-1632774600@saclr.org
SUMMARY:GriefShare
DESCRIPTION:
URL:https://saclr.org/event/griefshare-6/2021-09-27/
END:VEVENT
BEGIN:VEVENT
DTSTART;TZID=America/Chicago:20210922T180000
DTEND;TZID=America/Chicago:20210922T200000
DTSTAMP:20260420T235626
CREATED:20150922T063132Z
LAST-MODIFIED:20241212T222527Z
UID:10000799-1632333600-1632340800@saclr.org
SUMMARY:DASH (Wednesday)
DESCRIPTION:Sixth through twelfth graders enjoy dinner at 6 p.m. Worship and teaching on Gospel basics begins at 7 p.m.
URL:https://saclr.org/event/dash-wednesday/2021-09-22/
CATEGORIES:Youth Ministry
END:VEVENT
BEGIN:VEVENT
DTSTART;TZID=America/Chicago:20210921T121500
DTEND;TZID=America/Chicago:20210921T131500
DTSTAMP:20260420T235626
CREATED:20190104T012627Z
LAST-MODIFIED:20250828T140023Z
UID:10001551-1632226500-1632230100@saclr.org
SUMMARY:Men's Bible Fellowship
DESCRIPTION:More information available here
URL:https://saclr.org/event/mens-bible-fellowship-2/2021-09-21/
END:VEVENT
BEGIN:VEVENT
DTSTART;TZID=America/Chicago:20210915T180000
DTEND;TZID=America/Chicago:20210915T200000
DTSTAMP:20260420T235626
CREATED:20150922T063132Z
LAST-MODIFIED:20241212T222527Z
UID:10000798-1631728800-1631736000@saclr.org
SUMMARY:DASH (Wednesday)
DESCRIPTION:Sixth through twelfth graders enjoy dinner at 6 p.m. Worship and teaching on Gospel basics begins at 7 p.m.
URL:https://saclr.org/event/dash-wednesday/2021-09-15/
CATEGORIES:Youth Ministry
END:VEVENT
BEGIN:VEVENT
DTSTART;TZID=America/Chicago:20210914T121500
DTEND;TZID=America/Chicago:20210914T131500
DTSTAMP:20260420T235626
CREATED:20190104T012627Z
LAST-MODIFIED:20250828T140023Z
UID:10001550-1631621700-1631625300@saclr.org
SUMMARY:Men's Bible Fellowship
DESCRIPTION:More information available here
URL:https://saclr.org/event/mens-bible-fellowship-2/2021-09-14/
END:VEVENT
BEGIN:VEVENT
DTSTART;TZID=America/Chicago:20210908T180000
DTEND;TZID=America/Chicago:20210908T200000
DTSTAMP:20260420T235626
CREATED:20150922T063132Z
LAST-MODIFIED:20241212T222527Z
UID:10000797-1631124000-1631131200@saclr.org
SUMMARY:DASH (Wednesday)
DESCRIPTION:Sixth through twelfth graders enjoy dinner at 6 p.m. Worship and teaching on Gospel basics begins at 7 p.m.
URL:https://saclr.org/event/dash-wednesday/2021-09-08/
CATEGORIES:Youth Ministry
END:VEVENT
BEGIN:VEVENT
DTSTART;TZID=America/Chicago:20210907T121500
DTEND;TZID=America/Chicago:20210907T131500
DTSTAMP:20260420T235626
CREATED:20190104T012627Z
LAST-MODIFIED:20250828T140023Z
UID:10001549-1631016900-1631020500@saclr.org
SUMMARY:Men's Bible Fellowship
DESCRIPTION:More information available here
URL:https://saclr.org/event/mens-bible-fellowship-2/2021-09-07/
END:VEVENT
BEGIN:VEVENT
DTSTART;TZID=America/Chicago:20210901T180000
DTEND;TZID=America/Chicago:20210901T200000
DTSTAMP:20260420T235626
CREATED:20150922T063132Z
LAST-MODIFIED:20241212T222527Z
UID:10000796-1630519200-1630526400@saclr.org
SUMMARY:DASH (Wednesday)
DESCRIPTION:Sixth through twelfth graders enjoy dinner at 6 p.m. Worship and teaching on Gospel basics begins at 7 p.m.
URL:https://saclr.org/event/dash-wednesday/2021-09-01/
CATEGORIES:Youth Ministry
END:VEVENT
BEGIN:VEVENT
DTSTART;TZID=America/Chicago:20210831T121500
DTEND;TZID=America/Chicago:20210831T131500
DTSTAMP:20260420T235626
CREATED:20190104T012627Z
LAST-MODIFIED:20250828T140023Z
UID:10001548-1630412100-1630415700@saclr.org
SUMMARY:Men's Bible Fellowship
DESCRIPTION:More information available here
URL:https://saclr.org/event/mens-bible-fellowship-2/2021-08-31/
END:VEVENT
BEGIN:VEVENT
DTSTART;TZID=America/Chicago:20210825T180000
DTEND;TZID=America/Chicago:20210825T200000
DTSTAMP:20260420T235626
CREATED:20150922T063132Z
LAST-MODIFIED:20241212T222527Z
UID:10000795-1629914400-1629921600@saclr.org
SUMMARY:DASH (Wednesday)
DESCRIPTION:Sixth through twelfth graders enjoy dinner at 6 p.m. Worship and teaching on Gospel basics begins at 7 p.m.
URL:https://saclr.org/event/dash-wednesday/2021-08-25/
CATEGORIES:Youth Ministry
END:VEVENT
BEGIN:VEVENT
DTSTART;TZID=America/Chicago:20210824T121500
DTEND;TZID=America/Chicago:20210824T131500
DTSTAMP:20260420T235626
CREATED:20190104T012627Z
LAST-MODIFIED:20250828T140023Z
UID:10001547-1629807300-1629810900@saclr.org
SUMMARY:Men's Bible Fellowship
DESCRIPTION:More information available here
URL:https://saclr.org/event/mens-bible-fellowship-2/2021-08-24/
END:VEVENT
BEGIN:VEVENT
DTSTART;TZID=America/Chicago:20210818T180000
DTEND;TZID=America/Chicago:20210818T200000
DTSTAMP:20260420T235626
CREATED:20150922T063132Z
LAST-MODIFIED:20241212T222527Z
UID:10000794-1629309600-1629316800@saclr.org
SUMMARY:DASH (Wednesday)
DESCRIPTION:Sixth through twelfth graders enjoy dinner at 6 p.m. Worship and teaching on Gospel basics begins at 7 p.m.
URL:https://saclr.org/event/dash-wednesday/2021-08-18/
CATEGORIES:Youth Ministry
END:VEVENT
BEGIN:VEVENT
DTSTART;TZID=America/Chicago:20210817T121500
DTEND;TZID=America/Chicago:20210817T131500
DTSTAMP:20260420T235626
CREATED:20190104T012627Z
LAST-MODIFIED:20250828T140023Z
UID:10001546-1629202500-1629206100@saclr.org
SUMMARY:Men's Bible Fellowship
DESCRIPTION:More information available here
URL:https://saclr.org/event/mens-bible-fellowship-2/2021-08-17/
END:VEVENT
BEGIN:VEVENT
DTSTART;TZID=America/Chicago:20210811T180000
DTEND;TZID=America/Chicago:20210811T200000
DTSTAMP:20260420T235626
CREATED:20150922T063132Z
LAST-MODIFIED:20241212T222527Z
UID:10000793-1628704800-1628712000@saclr.org
SUMMARY:DASH (Wednesday)
DESCRIPTION:Sixth through twelfth graders enjoy dinner at 6 p.m. Worship and teaching on Gospel basics begins at 7 p.m.
URL:https://saclr.org/event/dash-wednesday/2021-08-11/
CATEGORIES:Youth Ministry
END:VEVENT
BEGIN:VEVENT
DTSTART;TZID=America/Chicago:20210810T121500
DTEND;TZID=America/Chicago:20210810T131500
DTSTAMP:20260420T235626
CREATED:20190104T012627Z
LAST-MODIFIED:20250828T140023Z
UID:10001545-1628597700-1628601300@saclr.org
SUMMARY:Men's Bible Fellowship
DESCRIPTION:More information available here
URL:https://saclr.org/event/mens-bible-fellowship-2/2021-08-10/
END:VEVENT
BEGIN:VEVENT
DTSTART;TZID=America/Chicago:20210804T180000
DTEND;TZID=America/Chicago:20210804T200000
DTSTAMP:20260420T235626
CREATED:20150922T063132Z
LAST-MODIFIED:20241212T222527Z
UID:10000792-1628100000-1628107200@saclr.org
SUMMARY:DASH (Wednesday)
DESCRIPTION:Sixth through twelfth graders enjoy dinner at 6 p.m. Worship and teaching on Gospel basics begins at 7 p.m.
URL:https://saclr.org/event/dash-wednesday/2021-08-04/
CATEGORIES:Youth Ministry
END:VEVENT
END:VCALENDAR