BEGIN:VCALENDAR
VERSION:2.0
PRODID:-//St. Andrew&#039;s Anglican Church - ECPv6.7.0//NONSGML v1.0//EN
CALSCALE:GREGORIAN
METHOD:PUBLISH
X-WR-CALNAME:St. Andrew&#039;s Anglican Church
X-ORIGINAL-URL:https://saclr.org
X-WR-CALDESC:Events for St. Andrew&#039;s Anglican Church
REFRESH-INTERVAL;VALUE=DURATION:PT1H
X-Robots-Tag:noindex
X-PUBLISHED-TTL:PT1H
BEGIN:VTIMEZONE
TZID:America/Chicago
BEGIN:DAYLIGHT
TZOFFSETFROM:-0600
TZOFFSETTO:-0500
TZNAME:CDT
DTSTART:20210314T080000
END:DAYLIGHT
BEGIN:STANDARD
TZOFFSETFROM:-0500
TZOFFSETTO:-0600
TZNAME:CST
DTSTART:20211107T070000
END:STANDARD
END:VTIMEZONE
BEGIN:VEVENT
DTSTART;TZID=America/Chicago:20211206T183000
DTEND;TZID=America/Chicago:20211206T203000
DTSTAMP:20260420T202359
CREATED:20210918T002201Z
LAST-MODIFIED:20210918T002201Z
UID:10001837-1638815400-1638822600@saclr.org
SUMMARY:GriefShare
DESCRIPTION:
URL:https://saclr.org/event/griefshare-6/2021-12-06/
END:VEVENT
BEGIN:VEVENT
DTSTART;TZID=America/Chicago:20211201T180000
DTEND;TZID=America/Chicago:20211201T200000
DTSTAMP:20260420T202359
CREATED:20150922T063132Z
LAST-MODIFIED:20241212T222527Z
UID:10000809-1638381600-1638388800@saclr.org
SUMMARY:DASH (Wednesday)
DESCRIPTION:Sixth through twelfth graders enjoy dinner at 6 p.m. Worship and teaching on Gospel basics begins at 7 p.m.
URL:https://saclr.org/event/dash-wednesday/2021-12-01/
CATEGORIES:Youth Ministry
END:VEVENT
BEGIN:VEVENT
DTSTART;TZID=America/Chicago:20211130T121500
DTEND;TZID=America/Chicago:20211130T131500
DTSTAMP:20260420T202359
CREATED:20190104T012627Z
LAST-MODIFIED:20250828T140023Z
UID:10001561-1638274500-1638278100@saclr.org
SUMMARY:Men's Bible Fellowship
DESCRIPTION:More information available here
URL:https://saclr.org/event/mens-bible-fellowship-2/2021-11-30/
END:VEVENT
BEGIN:VEVENT
DTSTART;TZID=America/Chicago:20211129T183000
DTEND;TZID=America/Chicago:20211129T203000
DTSTAMP:20260420T202359
CREATED:20210918T002201Z
LAST-MODIFIED:20210918T002201Z
UID:10001836-1638210600-1638217800@saclr.org
SUMMARY:GriefShare
DESCRIPTION:
URL:https://saclr.org/event/griefshare-6/2021-11-29/
END:VEVENT
BEGIN:VEVENT
DTSTART;TZID=America/Chicago:20211124T180000
DTEND;TZID=America/Chicago:20211124T200000
DTSTAMP:20260420T202359
CREATED:20150922T063132Z
LAST-MODIFIED:20241212T222527Z
UID:10000808-1637776800-1637784000@saclr.org
SUMMARY:DASH (Wednesday)
DESCRIPTION:Sixth through twelfth graders enjoy dinner at 6 p.m. Worship and teaching on Gospel basics begins at 7 p.m.
URL:https://saclr.org/event/dash-wednesday/2021-11-24/
CATEGORIES:Youth Ministry
END:VEVENT
BEGIN:VEVENT
DTSTART;TZID=America/Chicago:20211123T121500
DTEND;TZID=America/Chicago:20211123T131500
DTSTAMP:20260420T202359
CREATED:20190104T012627Z
LAST-MODIFIED:20250828T140023Z
UID:10001560-1637669700-1637673300@saclr.org
SUMMARY:Men's Bible Fellowship
DESCRIPTION:More information available here
URL:https://saclr.org/event/mens-bible-fellowship-2/2021-11-23/
END:VEVENT
BEGIN:VEVENT
DTSTART;TZID=America/Chicago:20211122T183000
DTEND;TZID=America/Chicago:20211122T203000
DTSTAMP:20260420T202359
CREATED:20210918T002201Z
LAST-MODIFIED:20210918T002201Z
UID:10001835-1637605800-1637613000@saclr.org
SUMMARY:GriefShare
DESCRIPTION:
URL:https://saclr.org/event/griefshare-6/2021-11-22/
END:VEVENT
BEGIN:VEVENT
DTSTART;TZID=America/Chicago:20211117T180000
DTEND;TZID=America/Chicago:20211117T200000
DTSTAMP:20260420T202359
CREATED:20150922T063132Z
LAST-MODIFIED:20241212T222527Z
UID:10000807-1637172000-1637179200@saclr.org
SUMMARY:DASH (Wednesday)
DESCRIPTION:Sixth through twelfth graders enjoy dinner at 6 p.m. Worship and teaching on Gospel basics begins at 7 p.m.
URL:https://saclr.org/event/dash-wednesday/2021-11-17/
CATEGORIES:Youth Ministry
END:VEVENT
BEGIN:VEVENT
DTSTART;TZID=America/Chicago:20211116T121500
DTEND;TZID=America/Chicago:20211116T131500
DTSTAMP:20260420T202359
CREATED:20190104T012627Z
LAST-MODIFIED:20250828T140023Z
UID:10001559-1637064900-1637068500@saclr.org
SUMMARY:Men's Bible Fellowship
DESCRIPTION:More information available here
URL:https://saclr.org/event/mens-bible-fellowship-2/2021-11-16/
END:VEVENT
BEGIN:VEVENT
DTSTART;TZID=America/Chicago:20211115T183000
DTEND;TZID=America/Chicago:20211115T203000
DTSTAMP:20260420T202359
CREATED:20210918T002201Z
LAST-MODIFIED:20210918T002201Z
UID:10001834-1637001000-1637008200@saclr.org
SUMMARY:GriefShare
DESCRIPTION:
URL:https://saclr.org/event/griefshare-6/2021-11-15/
END:VEVENT
BEGIN:VEVENT
DTSTART;TZID=America/Chicago:20211110T180000
DTEND;TZID=America/Chicago:20211110T200000
DTSTAMP:20260420T202359
CREATED:20150922T063132Z
LAST-MODIFIED:20241212T222527Z
UID:10000806-1636567200-1636574400@saclr.org
SUMMARY:DASH (Wednesday)
DESCRIPTION:Sixth through twelfth graders enjoy dinner at 6 p.m. Worship and teaching on Gospel basics begins at 7 p.m.
URL:https://saclr.org/event/dash-wednesday/2021-11-10/
CATEGORIES:Youth Ministry
END:VEVENT
BEGIN:VEVENT
DTSTART;TZID=America/Chicago:20211109T121500
DTEND;TZID=America/Chicago:20211109T131500
DTSTAMP:20260420T202359
CREATED:20190104T012627Z
LAST-MODIFIED:20250828T140023Z
UID:10001558-1636460100-1636463700@saclr.org
SUMMARY:Men's Bible Fellowship
DESCRIPTION:More information available here
URL:https://saclr.org/event/mens-bible-fellowship-2/2021-11-09/
END:VEVENT
BEGIN:VEVENT
DTSTART;TZID=America/Chicago:20211108T183000
DTEND;TZID=America/Chicago:20211108T203000
DTSTAMP:20260420T202359
CREATED:20210918T002201Z
LAST-MODIFIED:20210918T002201Z
UID:10001833-1636396200-1636403400@saclr.org
SUMMARY:GriefShare
DESCRIPTION:
URL:https://saclr.org/event/griefshare-6/2021-11-08/
END:VEVENT
BEGIN:VEVENT
DTSTART;TZID=America/Chicago:20211103T180000
DTEND;TZID=America/Chicago:20211103T200000
DTSTAMP:20260420T202359
CREATED:20150922T063132Z
LAST-MODIFIED:20241212T222527Z
UID:10000805-1635962400-1635969600@saclr.org
SUMMARY:DASH (Wednesday)
DESCRIPTION:Sixth through twelfth graders enjoy dinner at 6 p.m. Worship and teaching on Gospel basics begins at 7 p.m.
URL:https://saclr.org/event/dash-wednesday/2021-11-03/
CATEGORIES:Youth Ministry
END:VEVENT
BEGIN:VEVENT
DTSTART;TZID=America/Chicago:20211102T121500
DTEND;TZID=America/Chicago:20211102T131500
DTSTAMP:20260420T202359
CREATED:20190104T012627Z
LAST-MODIFIED:20250828T140023Z
UID:10001557-1635855300-1635858900@saclr.org
SUMMARY:Men's Bible Fellowship
DESCRIPTION:More information available here
URL:https://saclr.org/event/mens-bible-fellowship-2/2021-11-02/
END:VEVENT
BEGIN:VEVENT
DTSTART;TZID=America/Chicago:20211101T183000
DTEND;TZID=America/Chicago:20211101T203000
DTSTAMP:20260420T202359
CREATED:20210918T002201Z
LAST-MODIFIED:20210918T002201Z
UID:10001832-1635791400-1635798600@saclr.org
SUMMARY:GriefShare
DESCRIPTION:
URL:https://saclr.org/event/griefshare-6/2021-11-01/
END:VEVENT
BEGIN:VEVENT
DTSTART;TZID=America/Chicago:20211027T180000
DTEND;TZID=America/Chicago:20211027T200000
DTSTAMP:20260420T202359
CREATED:20150922T063132Z
LAST-MODIFIED:20241212T222527Z
UID:10000804-1635357600-1635364800@saclr.org
SUMMARY:DASH (Wednesday)
DESCRIPTION:Sixth through twelfth graders enjoy dinner at 6 p.m. Worship and teaching on Gospel basics begins at 7 p.m.
URL:https://saclr.org/event/dash-wednesday/2021-10-27/
CATEGORIES:Youth Ministry
END:VEVENT
BEGIN:VEVENT
DTSTART;TZID=America/Chicago:20211026T121500
DTEND;TZID=America/Chicago:20211026T131500
DTSTAMP:20260420T202359
CREATED:20190104T012627Z
LAST-MODIFIED:20250828T140023Z
UID:10001556-1635250500-1635254100@saclr.org
SUMMARY:Men's Bible Fellowship
DESCRIPTION:More information available here
URL:https://saclr.org/event/mens-bible-fellowship-2/2021-10-26/
END:VEVENT
BEGIN:VEVENT
DTSTART;TZID=America/Chicago:20211025T183000
DTEND;TZID=America/Chicago:20211025T203000
DTSTAMP:20260420T202359
CREATED:20210918T002201Z
LAST-MODIFIED:20210918T002201Z
UID:10001831-1635186600-1635193800@saclr.org
SUMMARY:GriefShare
DESCRIPTION:
URL:https://saclr.org/event/griefshare-6/2021-10-25/
END:VEVENT
BEGIN:VEVENT
DTSTART;TZID=America/Chicago:20211020T180000
DTEND;TZID=America/Chicago:20211020T200000
DTSTAMP:20260420T202359
CREATED:20150922T063132Z
LAST-MODIFIED:20241212T222527Z
UID:10000803-1634752800-1634760000@saclr.org
SUMMARY:DASH (Wednesday)
DESCRIPTION:Sixth through twelfth graders enjoy dinner at 6 p.m. Worship and teaching on Gospel basics begins at 7 p.m.
URL:https://saclr.org/event/dash-wednesday/2021-10-20/
CATEGORIES:Youth Ministry
END:VEVENT
BEGIN:VEVENT
DTSTART;TZID=America/Chicago:20211019T121500
DTEND;TZID=America/Chicago:20211019T131500
DTSTAMP:20260420T202359
CREATED:20190104T012627Z
LAST-MODIFIED:20250828T140023Z
UID:10001555-1634645700-1634649300@saclr.org
SUMMARY:Men's Bible Fellowship
DESCRIPTION:More information available here
URL:https://saclr.org/event/mens-bible-fellowship-2/2021-10-19/
END:VEVENT
BEGIN:VEVENT
DTSTART;TZID=America/Chicago:20211018T183000
DTEND;TZID=America/Chicago:20211018T203000
DTSTAMP:20260420T202359
CREATED:20210918T002201Z
LAST-MODIFIED:20210918T002201Z
UID:10001830-1634581800-1634589000@saclr.org
SUMMARY:GriefShare
DESCRIPTION:
URL:https://saclr.org/event/griefshare-6/2021-10-18/
END:VEVENT
BEGIN:VEVENT
DTSTART;TZID=America/Chicago:20211013T180000
DTEND;TZID=America/Chicago:20211013T200000
DTSTAMP:20260420T202359
CREATED:20150922T063132Z
LAST-MODIFIED:20241212T222527Z
UID:10000802-1634148000-1634155200@saclr.org
SUMMARY:DASH (Wednesday)
DESCRIPTION:Sixth through twelfth graders enjoy dinner at 6 p.m. Worship and teaching on Gospel basics begins at 7 p.m.
URL:https://saclr.org/event/dash-wednesday/2021-10-13/
CATEGORIES:Youth Ministry
END:VEVENT
BEGIN:VEVENT
DTSTART;TZID=America/Chicago:20211012T121500
DTEND;TZID=America/Chicago:20211012T131500
DTSTAMP:20260420T202359
CREATED:20190104T012627Z
LAST-MODIFIED:20250828T140023Z
UID:10001554-1634040900-1634044500@saclr.org
SUMMARY:Men's Bible Fellowship
DESCRIPTION:More information available here
URL:https://saclr.org/event/mens-bible-fellowship-2/2021-10-12/
END:VEVENT
BEGIN:VEVENT
DTSTART;TZID=America/Chicago:20211011T183000
DTEND;TZID=America/Chicago:20211011T203000
DTSTAMP:20260420T202359
CREATED:20210918T002201Z
LAST-MODIFIED:20210918T002201Z
UID:10001829-1633977000-1633984200@saclr.org
SUMMARY:GriefShare
DESCRIPTION:
URL:https://saclr.org/event/griefshare-6/2021-10-11/
END:VEVENT
BEGIN:VEVENT
DTSTART;TZID=America/Chicago:20211006T180000
DTEND;TZID=America/Chicago:20211006T200000
DTSTAMP:20260420T202359
CREATED:20150922T063132Z
LAST-MODIFIED:20241212T222527Z
UID:10000801-1633543200-1633550400@saclr.org
SUMMARY:DASH (Wednesday)
DESCRIPTION:Sixth through twelfth graders enjoy dinner at 6 p.m. Worship and teaching on Gospel basics begins at 7 p.m.
URL:https://saclr.org/event/dash-wednesday/2021-10-06/
CATEGORIES:Youth Ministry
END:VEVENT
BEGIN:VEVENT
DTSTART;TZID=America/Chicago:20211005T121500
DTEND;TZID=America/Chicago:20211005T131500
DTSTAMP:20260420T202359
CREATED:20190104T012627Z
LAST-MODIFIED:20250828T140023Z
UID:10001553-1633436100-1633439700@saclr.org
SUMMARY:Men's Bible Fellowship
DESCRIPTION:More information available here
URL:https://saclr.org/event/mens-bible-fellowship-2/2021-10-05/
END:VEVENT
BEGIN:VEVENT
DTSTART;TZID=America/Chicago:20211004T183000
DTEND;TZID=America/Chicago:20211004T203000
DTSTAMP:20260420T202359
CREATED:20210918T002201Z
LAST-MODIFIED:20210918T002201Z
UID:10001828-1633372200-1633379400@saclr.org
SUMMARY:GriefShare
DESCRIPTION:
URL:https://saclr.org/event/griefshare-6/2021-10-04/
END:VEVENT
BEGIN:VEVENT
DTSTART;TZID=America/Chicago:20210929T180000
DTEND;TZID=America/Chicago:20210929T200000
DTSTAMP:20260420T202359
CREATED:20150922T063132Z
LAST-MODIFIED:20241212T222527Z
UID:10000800-1632938400-1632945600@saclr.org
SUMMARY:DASH (Wednesday)
DESCRIPTION:Sixth through twelfth graders enjoy dinner at 6 p.m. Worship and teaching on Gospel basics begins at 7 p.m.
URL:https://saclr.org/event/dash-wednesday/2021-09-29/
CATEGORIES:Youth Ministry
END:VEVENT
BEGIN:VEVENT
DTSTART;TZID=America/Chicago:20210928T121500
DTEND;TZID=America/Chicago:20210928T131500
DTSTAMP:20260420T202359
CREATED:20190104T012627Z
LAST-MODIFIED:20250828T140023Z
UID:10001552-1632831300-1632834900@saclr.org
SUMMARY:Men's Bible Fellowship
DESCRIPTION:More information available here
URL:https://saclr.org/event/mens-bible-fellowship-2/2021-09-28/
END:VEVENT
END:VCALENDAR