BEGIN:VCALENDAR
VERSION:2.0
PRODID:-//St. Andrew&#039;s Anglican Church - ECPv6.7.0//NONSGML v1.0//EN
CALSCALE:GREGORIAN
METHOD:PUBLISH
X-WR-CALNAME:St. Andrew&#039;s Anglican Church
X-ORIGINAL-URL:https://saclr.org
X-WR-CALDESC:Events for St. Andrew&#039;s Anglican Church
REFRESH-INTERVAL;VALUE=DURATION:PT1H
X-Robots-Tag:noindex
X-PUBLISHED-TTL:PT1H
BEGIN:VTIMEZONE
TZID:America/Chicago
BEGIN:DAYLIGHT
TZOFFSETFROM:-0600
TZOFFSETTO:-0500
TZNAME:CDT
DTSTART:20220313T080000
END:DAYLIGHT
BEGIN:STANDARD
TZOFFSETFROM:-0500
TZOFFSETTO:-0600
TZNAME:CST
DTSTART:20221106T070000
END:STANDARD
END:VTIMEZONE
BEGIN:VEVENT
DTSTART;TZID=America/Chicago:20220329T100000
DTEND;TZID=America/Chicago:20220329T113000
DTSTAMP:20260421T002943
CREATED:20220218T004129Z
LAST-MODIFIED:20220218T004129Z
UID:10001786-1648548000-1648553400@saclr.org
SUMMARY:The Wisdom of God women's study
DESCRIPTION:The Wisdom of God \nSeeing Jesus in the Psalms & Wisdom Books \n“This 10-week study of Job\, Psalms\, Proverbs\, Ecclesiastes\, and the Song of Solomon mines the Wisdom Literature not only for wise principles for living\, but also for the wise person these books point to through their drama\, poetry\, proverb\, and song. In her accessible and authentic style\, Nancy Guthrie focuses on seeing Jesus in the Old Testament instead of emphasizing works-based moralism.“
URL:https://saclr.org/event/the-wisdom-of-god-womens-study/2022-03-29/
END:VEVENT
BEGIN:VEVENT
DTSTART;VALUE=DATE:20220327
DTEND;VALUE=DATE:20220328
DTSTAMP:20260421T002943
CREATED:20150922T051243Z
LAST-MODIFIED:20230808T202317Z
UID:10001055-1648339200-1648425599@saclr.org
SUMMARY:Sunday Services/Classes
DESCRIPTION:THE SERVICES\nThe 8:45 a.m. worship service is more traditional. The liturgy is followed in a printed program with a mixture of ancient and modern hymns. It is approximately 70 minutes in length. \nThe 11 a.m. worship service is more contemporary. The liturgy is followed on two projection screens with hymns set to modern accompaniment and the newest songs of praise. It is approximately 90 minutes in length. \nCHILDREN IN THE SERVICE\nA Mother’s Room\, with volume-controlled audio of the service\, is available for nursing moms and those with infants. \nChild care for infants through preschoolers is available throughout the service. Children may be picked up at The Peace to partake in Holy Communion with their families. \nKindergarteners through sixth graders follow the cross out of the sanctuary after the Gospel reading for Encounter KIDS\, a creative time of worship designed specifically for kids\, before returning for Holy Communion. \nBETWEEN THE SERVICES\nClasses for all age groups are available between services (10:10-10:50 a.m.). \nBeginnings\nMusic class for toddlers and preschoolers is held in the preschool room. Child care for infants in available in the infant room. \nENCOUNTER kids\nChildren learn about our faith in Christ in an age-appropriate way. \nDASH\nSeventh through twelfth graders participate in teaching and discussion on a companion verse or parallel topic to the day’s sermon. \nAdults\nWe always have several classes for adults\, find out the current offerings here.
URL:https://saclr.org/event/sunday-services/2022-03-27/
CATEGORIES:Worship
END:VEVENT
BEGIN:VEVENT
DTSTART;TZID=America/Chicago:20220323T180000
DTEND;TZID=America/Chicago:20220323T200000
DTSTAMP:20260421T002943
CREATED:20150922T063132Z
LAST-MODIFIED:20241212T222527Z
UID:10000825-1648058400-1648065600@saclr.org
SUMMARY:DASH (Wednesday)
DESCRIPTION:Sixth through twelfth graders enjoy dinner at 6 p.m. Worship and teaching on Gospel basics begins at 7 p.m.
URL:https://saclr.org/event/dash-wednesday/2022-03-23/
CATEGORIES:Youth Ministry
END:VEVENT
BEGIN:VEVENT
DTSTART;TZID=America/Chicago:20220322T121500
DTEND;TZID=America/Chicago:20220322T131500
DTSTAMP:20260421T002943
CREATED:20190104T012627Z
LAST-MODIFIED:20250828T140023Z
UID:10001577-1647951300-1647954900@saclr.org
SUMMARY:Men's Bible Fellowship
DESCRIPTION:More information available here
URL:https://saclr.org/event/mens-bible-fellowship-2/2022-03-22/
END:VEVENT
BEGIN:VEVENT
DTSTART;TZID=America/Chicago:20220322T100000
DTEND;TZID=America/Chicago:20220322T113000
DTSTAMP:20260421T002943
CREATED:20220218T004129Z
LAST-MODIFIED:20220218T004129Z
UID:10001785-1647943200-1647948600@saclr.org
SUMMARY:The Wisdom of God women's study
DESCRIPTION:The Wisdom of God \nSeeing Jesus in the Psalms & Wisdom Books \n“This 10-week study of Job\, Psalms\, Proverbs\, Ecclesiastes\, and the Song of Solomon mines the Wisdom Literature not only for wise principles for living\, but also for the wise person these books point to through their drama\, poetry\, proverb\, and song. In her accessible and authentic style\, Nancy Guthrie focuses on seeing Jesus in the Old Testament instead of emphasizing works-based moralism.“
URL:https://saclr.org/event/the-wisdom-of-god-womens-study/2022-03-22/
END:VEVENT
BEGIN:VEVENT
DTSTART;VALUE=DATE:20220320
DTEND;VALUE=DATE:20220321
DTSTAMP:20260421T002943
CREATED:20150922T051243Z
LAST-MODIFIED:20230808T202317Z
UID:10001054-1647734400-1647820799@saclr.org
SUMMARY:Sunday Services/Classes
DESCRIPTION:THE SERVICES\nThe 8:45 a.m. worship service is more traditional. The liturgy is followed in a printed program with a mixture of ancient and modern hymns. It is approximately 70 minutes in length. \nThe 11 a.m. worship service is more contemporary. The liturgy is followed on two projection screens with hymns set to modern accompaniment and the newest songs of praise. It is approximately 90 minutes in length. \nCHILDREN IN THE SERVICE\nA Mother’s Room\, with volume-controlled audio of the service\, is available for nursing moms and those with infants. \nChild care for infants through preschoolers is available throughout the service. Children may be picked up at The Peace to partake in Holy Communion with their families. \nKindergarteners through sixth graders follow the cross out of the sanctuary after the Gospel reading for Encounter KIDS\, a creative time of worship designed specifically for kids\, before returning for Holy Communion. \nBETWEEN THE SERVICES\nClasses for all age groups are available between services (10:10-10:50 a.m.). \nBeginnings\nMusic class for toddlers and preschoolers is held in the preschool room. Child care for infants in available in the infant room. \nENCOUNTER kids\nChildren learn about our faith in Christ in an age-appropriate way. \nDASH\nSeventh through twelfth graders participate in teaching and discussion on a companion verse or parallel topic to the day’s sermon. \nAdults\nWe always have several classes for adults\, find out the current offerings here.
URL:https://saclr.org/event/sunday-services/2022-03-20/
CATEGORIES:Worship
END:VEVENT
BEGIN:VEVENT
DTSTART;TZID=America/Chicago:20220316T180000
DTEND;TZID=America/Chicago:20220316T200000
DTSTAMP:20260421T002943
CREATED:20150922T063132Z
LAST-MODIFIED:20241212T222527Z
UID:10000824-1647453600-1647460800@saclr.org
SUMMARY:DASH (Wednesday)
DESCRIPTION:Sixth through twelfth graders enjoy dinner at 6 p.m. Worship and teaching on Gospel basics begins at 7 p.m.
URL:https://saclr.org/event/dash-wednesday/2022-03-16/
CATEGORIES:Youth Ministry
END:VEVENT
BEGIN:VEVENT
DTSTART;TZID=America/Chicago:20220315T121500
DTEND;TZID=America/Chicago:20220315T131500
DTSTAMP:20260421T002943
CREATED:20190104T012627Z
LAST-MODIFIED:20250828T140023Z
UID:10001576-1647346500-1647350100@saclr.org
SUMMARY:Men's Bible Fellowship
DESCRIPTION:More information available here
URL:https://saclr.org/event/mens-bible-fellowship-2/2022-03-15/
END:VEVENT
BEGIN:VEVENT
DTSTART;TZID=America/Chicago:20220315T100000
DTEND;TZID=America/Chicago:20220315T113000
DTSTAMP:20260421T002943
CREATED:20220218T004129Z
LAST-MODIFIED:20220218T004129Z
UID:10001784-1647338400-1647343800@saclr.org
SUMMARY:The Wisdom of God women's study
DESCRIPTION:The Wisdom of God \nSeeing Jesus in the Psalms & Wisdom Books \n“This 10-week study of Job\, Psalms\, Proverbs\, Ecclesiastes\, and the Song of Solomon mines the Wisdom Literature not only for wise principles for living\, but also for the wise person these books point to through their drama\, poetry\, proverb\, and song. In her accessible and authentic style\, Nancy Guthrie focuses on seeing Jesus in the Old Testament instead of emphasizing works-based moralism.“
URL:https://saclr.org/event/the-wisdom-of-god-womens-study/2022-03-15/
END:VEVENT
BEGIN:VEVENT
DTSTART;VALUE=DATE:20220313
DTEND;VALUE=DATE:20220314
DTSTAMP:20260421T002943
CREATED:20150922T051243Z
LAST-MODIFIED:20230808T202317Z
UID:10001053-1647129600-1647215999@saclr.org
SUMMARY:Sunday Services/Classes
DESCRIPTION:THE SERVICES\nThe 8:45 a.m. worship service is more traditional. The liturgy is followed in a printed program with a mixture of ancient and modern hymns. It is approximately 70 minutes in length. \nThe 11 a.m. worship service is more contemporary. The liturgy is followed on two projection screens with hymns set to modern accompaniment and the newest songs of praise. It is approximately 90 minutes in length. \nCHILDREN IN THE SERVICE\nA Mother’s Room\, with volume-controlled audio of the service\, is available for nursing moms and those with infants. \nChild care for infants through preschoolers is available throughout the service. Children may be picked up at The Peace to partake in Holy Communion with their families. \nKindergarteners through sixth graders follow the cross out of the sanctuary after the Gospel reading for Encounter KIDS\, a creative time of worship designed specifically for kids\, before returning for Holy Communion. \nBETWEEN THE SERVICES\nClasses for all age groups are available between services (10:10-10:50 a.m.). \nBeginnings\nMusic class for toddlers and preschoolers is held in the preschool room. Child care for infants in available in the infant room. \nENCOUNTER kids\nChildren learn about our faith in Christ in an age-appropriate way. \nDASH\nSeventh through twelfth graders participate in teaching and discussion on a companion verse or parallel topic to the day’s sermon. \nAdults\nWe always have several classes for adults\, find out the current offerings here.
URL:https://saclr.org/event/sunday-services/2022-03-13/
CATEGORIES:Worship
END:VEVENT
BEGIN:VEVENT
DTSTART;TZID=America/Chicago:20220309T180000
DTEND;TZID=America/Chicago:20220309T200000
DTSTAMP:20260421T002943
CREATED:20150922T063132Z
LAST-MODIFIED:20241212T222527Z
UID:10000823-1646848800-1646856000@saclr.org
SUMMARY:DASH (Wednesday)
DESCRIPTION:Sixth through twelfth graders enjoy dinner at 6 p.m. Worship and teaching on Gospel basics begins at 7 p.m.
URL:https://saclr.org/event/dash-wednesday/2022-03-09/
CATEGORIES:Youth Ministry
END:VEVENT
BEGIN:VEVENT
DTSTART;TZID=America/Chicago:20220308T121500
DTEND;TZID=America/Chicago:20220308T131500
DTSTAMP:20260421T002943
CREATED:20190104T012627Z
LAST-MODIFIED:20250828T140023Z
UID:10001575-1646741700-1646745300@saclr.org
SUMMARY:Men's Bible Fellowship
DESCRIPTION:More information available here
URL:https://saclr.org/event/mens-bible-fellowship-2/2022-03-08/
END:VEVENT
BEGIN:VEVENT
DTSTART;TZID=America/Chicago:20220308T100000
DTEND;TZID=America/Chicago:20220308T113000
DTSTAMP:20260421T002943
CREATED:20220218T004129Z
LAST-MODIFIED:20220218T004129Z
UID:10001783-1646733600-1646739000@saclr.org
SUMMARY:The Wisdom of God women's study
DESCRIPTION:The Wisdom of God \nSeeing Jesus in the Psalms & Wisdom Books \n“This 10-week study of Job\, Psalms\, Proverbs\, Ecclesiastes\, and the Song of Solomon mines the Wisdom Literature not only for wise principles for living\, but also for the wise person these books point to through their drama\, poetry\, proverb\, and song. In her accessible and authentic style\, Nancy Guthrie focuses on seeing Jesus in the Old Testament instead of emphasizing works-based moralism.“
URL:https://saclr.org/event/the-wisdom-of-god-womens-study/2022-03-08/
END:VEVENT
BEGIN:VEVENT
DTSTART;VALUE=DATE:20220306
DTEND;VALUE=DATE:20220307
DTSTAMP:20260421T002943
CREATED:20150922T051243Z
LAST-MODIFIED:20230808T202317Z
UID:10001052-1646524800-1646611199@saclr.org
SUMMARY:Sunday Services/Classes
DESCRIPTION:THE SERVICES\nThe 8:45 a.m. worship service is more traditional. The liturgy is followed in a printed program with a mixture of ancient and modern hymns. It is approximately 70 minutes in length. \nThe 11 a.m. worship service is more contemporary. The liturgy is followed on two projection screens with hymns set to modern accompaniment and the newest songs of praise. It is approximately 90 minutes in length. \nCHILDREN IN THE SERVICE\nA Mother’s Room\, with volume-controlled audio of the service\, is available for nursing moms and those with infants. \nChild care for infants through preschoolers is available throughout the service. Children may be picked up at The Peace to partake in Holy Communion with their families. \nKindergarteners through sixth graders follow the cross out of the sanctuary after the Gospel reading for Encounter KIDS\, a creative time of worship designed specifically for kids\, before returning for Holy Communion. \nBETWEEN THE SERVICES\nClasses for all age groups are available between services (10:10-10:50 a.m.). \nBeginnings\nMusic class for toddlers and preschoolers is held in the preschool room. Child care for infants in available in the infant room. \nENCOUNTER kids\nChildren learn about our faith in Christ in an age-appropriate way. \nDASH\nSeventh through twelfth graders participate in teaching and discussion on a companion verse or parallel topic to the day’s sermon. \nAdults\nWe always have several classes for adults\, find out the current offerings here.
URL:https://saclr.org/event/sunday-services/2022-03-06/
CATEGORIES:Worship
END:VEVENT
BEGIN:VEVENT
DTSTART;TZID=America/Chicago:20220302T180000
DTEND;TZID=America/Chicago:20220302T200000
DTSTAMP:20260421T002943
CREATED:20150922T063132Z
LAST-MODIFIED:20241212T222527Z
UID:10000822-1646244000-1646251200@saclr.org
SUMMARY:DASH (Wednesday)
DESCRIPTION:Sixth through twelfth graders enjoy dinner at 6 p.m. Worship and teaching on Gospel basics begins at 7 p.m.
URL:https://saclr.org/event/dash-wednesday/2022-03-02/
CATEGORIES:Youth Ministry
END:VEVENT
BEGIN:VEVENT
DTSTART;TZID=America/Chicago:20220301T121500
DTEND;TZID=America/Chicago:20220301T131500
DTSTAMP:20260421T002943
CREATED:20190104T012627Z
LAST-MODIFIED:20250828T140023Z
UID:10001574-1646136900-1646140500@saclr.org
SUMMARY:Men's Bible Fellowship
DESCRIPTION:More information available here
URL:https://saclr.org/event/mens-bible-fellowship-2/2022-03-01/
END:VEVENT
BEGIN:VEVENT
DTSTART;TZID=America/Chicago:20220301T100000
DTEND;TZID=America/Chicago:20220301T113000
DTSTAMP:20260421T002943
CREATED:20220218T004129Z
LAST-MODIFIED:20220218T004129Z
UID:10001782-1646128800-1646134200@saclr.org
SUMMARY:The Wisdom of God women's study
DESCRIPTION:The Wisdom of God \nSeeing Jesus in the Psalms & Wisdom Books \n“This 10-week study of Job\, Psalms\, Proverbs\, Ecclesiastes\, and the Song of Solomon mines the Wisdom Literature not only for wise principles for living\, but also for the wise person these books point to through their drama\, poetry\, proverb\, and song. In her accessible and authentic style\, Nancy Guthrie focuses on seeing Jesus in the Old Testament instead of emphasizing works-based moralism.“
URL:https://saclr.org/event/the-wisdom-of-god-womens-study/2022-03-01/
END:VEVENT
BEGIN:VEVENT
DTSTART;VALUE=DATE:20220227
DTEND;VALUE=DATE:20220228
DTSTAMP:20260421T002943
CREATED:20150922T051243Z
LAST-MODIFIED:20230808T202317Z
UID:10001051-1645920000-1646006399@saclr.org
SUMMARY:Sunday Services/Classes
DESCRIPTION:THE SERVICES\nThe 8:45 a.m. worship service is more traditional. The liturgy is followed in a printed program with a mixture of ancient and modern hymns. It is approximately 70 minutes in length. \nThe 11 a.m. worship service is more contemporary. The liturgy is followed on two projection screens with hymns set to modern accompaniment and the newest songs of praise. It is approximately 90 minutes in length. \nCHILDREN IN THE SERVICE\nA Mother’s Room\, with volume-controlled audio of the service\, is available for nursing moms and those with infants. \nChild care for infants through preschoolers is available throughout the service. Children may be picked up at The Peace to partake in Holy Communion with their families. \nKindergarteners through sixth graders follow the cross out of the sanctuary after the Gospel reading for Encounter KIDS\, a creative time of worship designed specifically for kids\, before returning for Holy Communion. \nBETWEEN THE SERVICES\nClasses for all age groups are available between services (10:10-10:50 a.m.). \nBeginnings\nMusic class for toddlers and preschoolers is held in the preschool room. Child care for infants in available in the infant room. \nENCOUNTER kids\nChildren learn about our faith in Christ in an age-appropriate way. \nDASH\nSeventh through twelfth graders participate in teaching and discussion on a companion verse or parallel topic to the day’s sermon. \nAdults\nWe always have several classes for adults\, find out the current offerings here.
URL:https://saclr.org/event/sunday-services/2022-02-27/
CATEGORIES:Worship
END:VEVENT
BEGIN:VEVENT
DTSTART;TZID=America/Chicago:20220225T180000
DTEND;TZID=America/Chicago:20220225T180000
DTSTAMP:20260421T002943
CREATED:20220204T044742Z
LAST-MODIFIED:20220204T044742Z
UID:10001780-1645812000-1645812000@saclr.org
SUMMARY:Family Ministry Worship Night
DESCRIPTION:Family Ministries invites you to join them for a night of fellowship and worship. Bring dinner for your family and we’ll eat together in the Narthex. After dinner\, we’ll spend time together worshipping as a family.
URL:https://saclr.org/event/family-ministry-worship-night/
END:VEVENT
BEGIN:VEVENT
DTSTART;TZID=America/Chicago:20220223T180000
DTEND;TZID=America/Chicago:20220223T200000
DTSTAMP:20260421T002943
CREATED:20150922T063132Z
LAST-MODIFIED:20241212T222527Z
UID:10000821-1645639200-1645646400@saclr.org
SUMMARY:DASH (Wednesday)
DESCRIPTION:Sixth through twelfth graders enjoy dinner at 6 p.m. Worship and teaching on Gospel basics begins at 7 p.m.
URL:https://saclr.org/event/dash-wednesday/2022-02-23/
CATEGORIES:Youth Ministry
END:VEVENT
BEGIN:VEVENT
DTSTART;TZID=America/Chicago:20220222T121500
DTEND;TZID=America/Chicago:20220222T131500
DTSTAMP:20260421T002943
CREATED:20190104T012627Z
LAST-MODIFIED:20250828T140023Z
UID:10001573-1645532100-1645535700@saclr.org
SUMMARY:Men's Bible Fellowship
DESCRIPTION:More information available here
URL:https://saclr.org/event/mens-bible-fellowship-2/2022-02-22/
END:VEVENT
BEGIN:VEVENT
DTSTART;VALUE=DATE:20220220
DTEND;VALUE=DATE:20220221
DTSTAMP:20260421T002943
CREATED:20150922T051243Z
LAST-MODIFIED:20230808T202317Z
UID:10001050-1645315200-1645401599@saclr.org
SUMMARY:Sunday Services/Classes
DESCRIPTION:THE SERVICES\nThe 8:45 a.m. worship service is more traditional. The liturgy is followed in a printed program with a mixture of ancient and modern hymns. It is approximately 70 minutes in length. \nThe 11 a.m. worship service is more contemporary. The liturgy is followed on two projection screens with hymns set to modern accompaniment and the newest songs of praise. It is approximately 90 minutes in length. \nCHILDREN IN THE SERVICE\nA Mother’s Room\, with volume-controlled audio of the service\, is available for nursing moms and those with infants. \nChild care for infants through preschoolers is available throughout the service. Children may be picked up at The Peace to partake in Holy Communion with their families. \nKindergarteners through sixth graders follow the cross out of the sanctuary after the Gospel reading for Encounter KIDS\, a creative time of worship designed specifically for kids\, before returning for Holy Communion. \nBETWEEN THE SERVICES\nClasses for all age groups are available between services (10:10-10:50 a.m.). \nBeginnings\nMusic class for toddlers and preschoolers is held in the preschool room. Child care for infants in available in the infant room. \nENCOUNTER kids\nChildren learn about our faith in Christ in an age-appropriate way. \nDASH\nSeventh through twelfth graders participate in teaching and discussion on a companion verse or parallel topic to the day’s sermon. \nAdults\nWe always have several classes for adults\, find out the current offerings here.
URL:https://saclr.org/event/sunday-services/2022-02-20/
CATEGORIES:Worship
END:VEVENT
BEGIN:VEVENT
DTSTART;TZID=America/Chicago:20220216T180000
DTEND;TZID=America/Chicago:20220216T200000
DTSTAMP:20260421T002943
CREATED:20150922T063132Z
LAST-MODIFIED:20241212T222527Z
UID:10000820-1645034400-1645041600@saclr.org
SUMMARY:DASH (Wednesday)
DESCRIPTION:Sixth through twelfth graders enjoy dinner at 6 p.m. Worship and teaching on Gospel basics begins at 7 p.m.
URL:https://saclr.org/event/dash-wednesday/2022-02-16/
CATEGORIES:Youth Ministry
END:VEVENT
BEGIN:VEVENT
DTSTART;TZID=America/Chicago:20220215T121500
DTEND;TZID=America/Chicago:20220215T131500
DTSTAMP:20260421T002943
CREATED:20190104T012627Z
LAST-MODIFIED:20250828T140023Z
UID:10001572-1644927300-1644930900@saclr.org
SUMMARY:Men's Bible Fellowship
DESCRIPTION:More information available here
URL:https://saclr.org/event/mens-bible-fellowship-2/2022-02-15/
END:VEVENT
BEGIN:VEVENT
DTSTART;VALUE=DATE:20220213
DTEND;VALUE=DATE:20220214
DTSTAMP:20260421T002943
CREATED:20150922T051243Z
LAST-MODIFIED:20230808T202317Z
UID:10001049-1644710400-1644796799@saclr.org
SUMMARY:Sunday Services/Classes
DESCRIPTION:THE SERVICES\nThe 8:45 a.m. worship service is more traditional. The liturgy is followed in a printed program with a mixture of ancient and modern hymns. It is approximately 70 minutes in length. \nThe 11 a.m. worship service is more contemporary. The liturgy is followed on two projection screens with hymns set to modern accompaniment and the newest songs of praise. It is approximately 90 minutes in length. \nCHILDREN IN THE SERVICE\nA Mother’s Room\, with volume-controlled audio of the service\, is available for nursing moms and those with infants. \nChild care for infants through preschoolers is available throughout the service. Children may be picked up at The Peace to partake in Holy Communion with their families. \nKindergarteners through sixth graders follow the cross out of the sanctuary after the Gospel reading for Encounter KIDS\, a creative time of worship designed specifically for kids\, before returning for Holy Communion. \nBETWEEN THE SERVICES\nClasses for all age groups are available between services (10:10-10:50 a.m.). \nBeginnings\nMusic class for toddlers and preschoolers is held in the preschool room. Child care for infants in available in the infant room. \nENCOUNTER kids\nChildren learn about our faith in Christ in an age-appropriate way. \nDASH\nSeventh through twelfth graders participate in teaching and discussion on a companion verse or parallel topic to the day’s sermon. \nAdults\nWe always have several classes for adults\, find out the current offerings here.
URL:https://saclr.org/event/sunday-services/2022-02-13/
CATEGORIES:Worship
END:VEVENT
BEGIN:VEVENT
DTSTART;TZID=America/Chicago:20220211T090000
DTEND;TZID=America/Chicago:20220211T103000
DTSTAMP:20260421T002943
CREATED:20220204T044958Z
LAST-MODIFIED:20220204T044958Z
UID:10001781-1644570000-1644575400@saclr.org
SUMMARY:Early Childhood Valentine Party
DESCRIPTION:You’re invited to join us for a Valentine party at the St. Andrew’s playground on Friday\, February 11\, from 9–10:30 a.m. We’ll have donuts for the kids and coffee for the moms.
URL:https://saclr.org/event/early-childhood-valentine-party/
ATTACH;FMTTYPE=image/jpeg:https://saclr.org/wp-content/uploads/2023/06/Facebook-event-01.jpg
END:VEVENT
BEGIN:VEVENT
DTSTART;TZID=America/Chicago:20220209T180000
DTEND;TZID=America/Chicago:20220209T200000
DTSTAMP:20260421T002943
CREATED:20150922T063132Z
LAST-MODIFIED:20241212T222527Z
UID:10000819-1644429600-1644436800@saclr.org
SUMMARY:DASH (Wednesday)
DESCRIPTION:Sixth through twelfth graders enjoy dinner at 6 p.m. Worship and teaching on Gospel basics begins at 7 p.m.
URL:https://saclr.org/event/dash-wednesday/2022-02-09/
CATEGORIES:Youth Ministry
END:VEVENT
BEGIN:VEVENT
DTSTART;TZID=America/Chicago:20220208T121500
DTEND;TZID=America/Chicago:20220208T131500
DTSTAMP:20260421T002943
CREATED:20190104T012627Z
LAST-MODIFIED:20250828T140023Z
UID:10001571-1644322500-1644326100@saclr.org
SUMMARY:Men's Bible Fellowship
DESCRIPTION:More information available here
URL:https://saclr.org/event/mens-bible-fellowship-2/2022-02-08/
END:VEVENT
BEGIN:VEVENT
DTSTART;VALUE=DATE:20220206
DTEND;VALUE=DATE:20220207
DTSTAMP:20260421T002943
CREATED:20150922T051243Z
LAST-MODIFIED:20230808T202317Z
UID:10001048-1644105600-1644191999@saclr.org
SUMMARY:Sunday Services/Classes
DESCRIPTION:THE SERVICES\nThe 8:45 a.m. worship service is more traditional. The liturgy is followed in a printed program with a mixture of ancient and modern hymns. It is approximately 70 minutes in length. \nThe 11 a.m. worship service is more contemporary. The liturgy is followed on two projection screens with hymns set to modern accompaniment and the newest songs of praise. It is approximately 90 minutes in length. \nCHILDREN IN THE SERVICE\nA Mother’s Room\, with volume-controlled audio of the service\, is available for nursing moms and those with infants. \nChild care for infants through preschoolers is available throughout the service. Children may be picked up at The Peace to partake in Holy Communion with their families. \nKindergarteners through sixth graders follow the cross out of the sanctuary after the Gospel reading for Encounter KIDS\, a creative time of worship designed specifically for kids\, before returning for Holy Communion. \nBETWEEN THE SERVICES\nClasses for all age groups are available between services (10:10-10:50 a.m.). \nBeginnings\nMusic class for toddlers and preschoolers is held in the preschool room. Child care for infants in available in the infant room. \nENCOUNTER kids\nChildren learn about our faith in Christ in an age-appropriate way. \nDASH\nSeventh through twelfth graders participate in teaching and discussion on a companion verse or parallel topic to the day’s sermon. \nAdults\nWe always have several classes for adults\, find out the current offerings here.
URL:https://saclr.org/event/sunday-services/2022-02-06/
CATEGORIES:Worship
END:VEVENT
BEGIN:VEVENT
DTSTART;TZID=America/Chicago:20220202T180000
DTEND;TZID=America/Chicago:20220202T200000
DTSTAMP:20260421T002943
CREATED:20150922T063132Z
LAST-MODIFIED:20241212T222527Z
UID:10000818-1643824800-1643832000@saclr.org
SUMMARY:DASH (Wednesday)
DESCRIPTION:Sixth through twelfth graders enjoy dinner at 6 p.m. Worship and teaching on Gospel basics begins at 7 p.m.
URL:https://saclr.org/event/dash-wednesday/2022-02-02/
CATEGORIES:Youth Ministry
END:VEVENT
END:VCALENDAR