BEGIN:VCALENDAR
VERSION:2.0
PRODID:-//St. Andrew&#039;s Anglican Church - ECPv6.7.0//NONSGML v1.0//EN
CALSCALE:GREGORIAN
METHOD:PUBLISH
X-WR-CALNAME:St. Andrew&#039;s Anglican Church
X-ORIGINAL-URL:https://saclr.org
X-WR-CALDESC:Events for St. Andrew&#039;s Anglican Church
REFRESH-INTERVAL;VALUE=DURATION:PT1H
X-Robots-Tag:noindex
X-PUBLISHED-TTL:PT1H
BEGIN:VTIMEZONE
TZID:America/Chicago
BEGIN:DAYLIGHT
TZOFFSETFROM:-0600
TZOFFSETTO:-0500
TZNAME:CDT
DTSTART:20220313T080000
END:DAYLIGHT
BEGIN:STANDARD
TZOFFSETFROM:-0500
TZOFFSETTO:-0600
TZNAME:CST
DTSTART:20221106T070000
END:STANDARD
END:VTIMEZONE
BEGIN:VEVENT
DTSTART;TZID=America/Chicago:20220511T180000
DTEND;TZID=America/Chicago:20220511T200000
DTSTAMP:20260420T130252
CREATED:20150922T063132Z
LAST-MODIFIED:20241212T222527Z
UID:10000832-1652292000-1652299200@saclr.org
SUMMARY:DASH (Wednesday)
DESCRIPTION:Sixth through twelfth graders enjoy dinner at 6 p.m. Worship and teaching on Gospel basics begins at 7 p.m.
URL:https://saclr.org/event/dash-wednesday/2022-05-11/
CATEGORIES:Youth Ministry
END:VEVENT
BEGIN:VEVENT
DTSTART;TZID=America/Chicago:20220510T121500
DTEND;TZID=America/Chicago:20220510T131500
DTSTAMP:20260420T130252
CREATED:20190104T012627Z
LAST-MODIFIED:20250828T140023Z
UID:10001584-1652184900-1652188500@saclr.org
SUMMARY:Men's Bible Fellowship
DESCRIPTION:More information available here
URL:https://saclr.org/event/mens-bible-fellowship-2/2022-05-10/
END:VEVENT
BEGIN:VEVENT
DTSTART;VALUE=DATE:20220508
DTEND;VALUE=DATE:20220509
DTSTAMP:20260420T130252
CREATED:20150922T051243Z
LAST-MODIFIED:20230808T202317Z
UID:10001061-1651968000-1652054399@saclr.org
SUMMARY:Sunday Services/Classes
DESCRIPTION:THE SERVICES\nThe 8:45 a.m. worship service is more traditional. The liturgy is followed in a printed program with a mixture of ancient and modern hymns. It is approximately 70 minutes in length. \nThe 11 a.m. worship service is more contemporary. The liturgy is followed on two projection screens with hymns set to modern accompaniment and the newest songs of praise. It is approximately 90 minutes in length. \nCHILDREN IN THE SERVICE\nA Mother’s Room\, with volume-controlled audio of the service\, is available for nursing moms and those with infants. \nChild care for infants through preschoolers is available throughout the service. Children may be picked up at The Peace to partake in Holy Communion with their families. \nKindergarteners through sixth graders follow the cross out of the sanctuary after the Gospel reading for Encounter KIDS\, a creative time of worship designed specifically for kids\, before returning for Holy Communion. \nBETWEEN THE SERVICES\nClasses for all age groups are available between services (10:10-10:50 a.m.). \nBeginnings\nMusic class for toddlers and preschoolers is held in the preschool room. Child care for infants in available in the infant room. \nENCOUNTER kids\nChildren learn about our faith in Christ in an age-appropriate way. \nDASH\nSeventh through twelfth graders participate in teaching and discussion on a companion verse or parallel topic to the day’s sermon. \nAdults\nWe always have several classes for adults\, find out the current offerings here.
URL:https://saclr.org/event/sunday-services/2022-05-08/
CATEGORIES:Worship
END:VEVENT
BEGIN:VEVENT
DTSTART;TZID=America/Chicago:20220504T180000
DTEND;TZID=America/Chicago:20220504T200000
DTSTAMP:20260420T130252
CREATED:20150922T063132Z
LAST-MODIFIED:20241212T222527Z
UID:10000831-1651687200-1651694400@saclr.org
SUMMARY:DASH (Wednesday)
DESCRIPTION:Sixth through twelfth graders enjoy dinner at 6 p.m. Worship and teaching on Gospel basics begins at 7 p.m.
URL:https://saclr.org/event/dash-wednesday/2022-05-04/
CATEGORIES:Youth Ministry
END:VEVENT
BEGIN:VEVENT
DTSTART;TZID=America/Chicago:20220503T121500
DTEND;TZID=America/Chicago:20220503T131500
DTSTAMP:20260420T130252
CREATED:20190104T012627Z
LAST-MODIFIED:20250828T140023Z
UID:10001583-1651580100-1651583700@saclr.org
SUMMARY:Men's Bible Fellowship
DESCRIPTION:More information available here
URL:https://saclr.org/event/mens-bible-fellowship-2/2022-05-03/
END:VEVENT
BEGIN:VEVENT
DTSTART;TZID=America/Chicago:20220503T100000
DTEND;TZID=America/Chicago:20220503T113000
DTSTAMP:20260420T130252
CREATED:20220218T004129Z
LAST-MODIFIED:20220218T004129Z
UID:10001791-1651572000-1651577400@saclr.org
SUMMARY:The Wisdom of God women's study
DESCRIPTION:The Wisdom of God \nSeeing Jesus in the Psalms & Wisdom Books \n“This 10-week study of Job\, Psalms\, Proverbs\, Ecclesiastes\, and the Song of Solomon mines the Wisdom Literature not only for wise principles for living\, but also for the wise person these books point to through their drama\, poetry\, proverb\, and song. In her accessible and authentic style\, Nancy Guthrie focuses on seeing Jesus in the Old Testament instead of emphasizing works-based moralism.“
URL:https://saclr.org/event/the-wisdom-of-god-womens-study/2022-05-03/
END:VEVENT
BEGIN:VEVENT
DTSTART;VALUE=DATE:20220501
DTEND;VALUE=DATE:20220502
DTSTAMP:20260420T130252
CREATED:20150922T051243Z
LAST-MODIFIED:20230808T202317Z
UID:10001060-1651363200-1651449599@saclr.org
SUMMARY:Sunday Services/Classes
DESCRIPTION:THE SERVICES\nThe 8:45 a.m. worship service is more traditional. The liturgy is followed in a printed program with a mixture of ancient and modern hymns. It is approximately 70 minutes in length. \nThe 11 a.m. worship service is more contemporary. The liturgy is followed on two projection screens with hymns set to modern accompaniment and the newest songs of praise. It is approximately 90 minutes in length. \nCHILDREN IN THE SERVICE\nA Mother’s Room\, with volume-controlled audio of the service\, is available for nursing moms and those with infants. \nChild care for infants through preschoolers is available throughout the service. Children may be picked up at The Peace to partake in Holy Communion with their families. \nKindergarteners through sixth graders follow the cross out of the sanctuary after the Gospel reading for Encounter KIDS\, a creative time of worship designed specifically for kids\, before returning for Holy Communion. \nBETWEEN THE SERVICES\nClasses for all age groups are available between services (10:10-10:50 a.m.). \nBeginnings\nMusic class for toddlers and preschoolers is held in the preschool room. Child care for infants in available in the infant room. \nENCOUNTER kids\nChildren learn about our faith in Christ in an age-appropriate way. \nDASH\nSeventh through twelfth graders participate in teaching and discussion on a companion verse or parallel topic to the day’s sermon. \nAdults\nWe always have several classes for adults\, find out the current offerings here.
URL:https://saclr.org/event/sunday-services/2022-05-01/
CATEGORIES:Worship
END:VEVENT
BEGIN:VEVENT
DTSTART;TZID=America/Chicago:20220427T180000
DTEND;TZID=America/Chicago:20220427T200000
DTSTAMP:20260420T130252
CREATED:20150922T063132Z
LAST-MODIFIED:20241212T222527Z
UID:10000830-1651082400-1651089600@saclr.org
SUMMARY:DASH (Wednesday)
DESCRIPTION:Sixth through twelfth graders enjoy dinner at 6 p.m. Worship and teaching on Gospel basics begins at 7 p.m.
URL:https://saclr.org/event/dash-wednesday/2022-04-27/
CATEGORIES:Youth Ministry
END:VEVENT
BEGIN:VEVENT
DTSTART;TZID=America/Chicago:20220426T121500
DTEND;TZID=America/Chicago:20220426T131500
DTSTAMP:20260420T130252
CREATED:20190104T012627Z
LAST-MODIFIED:20250828T140023Z
UID:10001582-1650975300-1650978900@saclr.org
SUMMARY:Men's Bible Fellowship
DESCRIPTION:More information available here
URL:https://saclr.org/event/mens-bible-fellowship-2/2022-04-26/
END:VEVENT
BEGIN:VEVENT
DTSTART;TZID=America/Chicago:20220426T100000
DTEND;TZID=America/Chicago:20220426T113000
DTSTAMP:20260420T130252
CREATED:20220218T004129Z
LAST-MODIFIED:20220218T004129Z
UID:10001790-1650967200-1650972600@saclr.org
SUMMARY:The Wisdom of God women's study
DESCRIPTION:The Wisdom of God \nSeeing Jesus in the Psalms & Wisdom Books \n“This 10-week study of Job\, Psalms\, Proverbs\, Ecclesiastes\, and the Song of Solomon mines the Wisdom Literature not only for wise principles for living\, but also for the wise person these books point to through their drama\, poetry\, proverb\, and song. In her accessible and authentic style\, Nancy Guthrie focuses on seeing Jesus in the Old Testament instead of emphasizing works-based moralism.“
URL:https://saclr.org/event/the-wisdom-of-god-womens-study/2022-04-26/
END:VEVENT
BEGIN:VEVENT
DTSTART;VALUE=DATE:20220424
DTEND;VALUE=DATE:20220425
DTSTAMP:20260420T130252
CREATED:20150922T051243Z
LAST-MODIFIED:20230808T202317Z
UID:10001059-1650758400-1650844799@saclr.org
SUMMARY:Sunday Services/Classes
DESCRIPTION:THE SERVICES\nThe 8:45 a.m. worship service is more traditional. The liturgy is followed in a printed program with a mixture of ancient and modern hymns. It is approximately 70 minutes in length. \nThe 11 a.m. worship service is more contemporary. The liturgy is followed on two projection screens with hymns set to modern accompaniment and the newest songs of praise. It is approximately 90 minutes in length. \nCHILDREN IN THE SERVICE\nA Mother’s Room\, with volume-controlled audio of the service\, is available for nursing moms and those with infants. \nChild care for infants through preschoolers is available throughout the service. Children may be picked up at The Peace to partake in Holy Communion with their families. \nKindergarteners through sixth graders follow the cross out of the sanctuary after the Gospel reading for Encounter KIDS\, a creative time of worship designed specifically for kids\, before returning for Holy Communion. \nBETWEEN THE SERVICES\nClasses for all age groups are available between services (10:10-10:50 a.m.). \nBeginnings\nMusic class for toddlers and preschoolers is held in the preschool room. Child care for infants in available in the infant room. \nENCOUNTER kids\nChildren learn about our faith in Christ in an age-appropriate way. \nDASH\nSeventh through twelfth graders participate in teaching and discussion on a companion verse or parallel topic to the day’s sermon. \nAdults\nWe always have several classes for adults\, find out the current offerings here.
URL:https://saclr.org/event/sunday-services/2022-04-24/
CATEGORIES:Worship
END:VEVENT
BEGIN:VEVENT
DTSTART;TZID=America/Chicago:20220420T180000
DTEND;TZID=America/Chicago:20220420T200000
DTSTAMP:20260420T130252
CREATED:20150922T063132Z
LAST-MODIFIED:20241212T222527Z
UID:10000829-1650477600-1650484800@saclr.org
SUMMARY:DASH (Wednesday)
DESCRIPTION:Sixth through twelfth graders enjoy dinner at 6 p.m. Worship and teaching on Gospel basics begins at 7 p.m.
URL:https://saclr.org/event/dash-wednesday/2022-04-20/
CATEGORIES:Youth Ministry
END:VEVENT
BEGIN:VEVENT
DTSTART;TZID=America/Chicago:20220419T121500
DTEND;TZID=America/Chicago:20220419T131500
DTSTAMP:20260420T130252
CREATED:20190104T012627Z
LAST-MODIFIED:20250828T140023Z
UID:10001581-1650370500-1650374100@saclr.org
SUMMARY:Men's Bible Fellowship
DESCRIPTION:More information available here
URL:https://saclr.org/event/mens-bible-fellowship-2/2022-04-19/
END:VEVENT
BEGIN:VEVENT
DTSTART;TZID=America/Chicago:20220419T100000
DTEND;TZID=America/Chicago:20220419T113000
DTSTAMP:20260420T130252
CREATED:20220218T004129Z
LAST-MODIFIED:20220218T004129Z
UID:10001789-1650362400-1650367800@saclr.org
SUMMARY:The Wisdom of God women's study
DESCRIPTION:The Wisdom of God \nSeeing Jesus in the Psalms & Wisdom Books \n“This 10-week study of Job\, Psalms\, Proverbs\, Ecclesiastes\, and the Song of Solomon mines the Wisdom Literature not only for wise principles for living\, but also for the wise person these books point to through their drama\, poetry\, proverb\, and song. In her accessible and authentic style\, Nancy Guthrie focuses on seeing Jesus in the Old Testament instead of emphasizing works-based moralism.“
URL:https://saclr.org/event/the-wisdom-of-god-womens-study/2022-04-19/
END:VEVENT
BEGIN:VEVENT
DTSTART;VALUE=DATE:20220417
DTEND;VALUE=DATE:20220418
DTSTAMP:20260420T130252
CREATED:20150922T051243Z
LAST-MODIFIED:20230808T202317Z
UID:10001058-1650153600-1650239999@saclr.org
SUMMARY:Sunday Services/Classes
DESCRIPTION:THE SERVICES\nThe 8:45 a.m. worship service is more traditional. The liturgy is followed in a printed program with a mixture of ancient and modern hymns. It is approximately 70 minutes in length. \nThe 11 a.m. worship service is more contemporary. The liturgy is followed on two projection screens with hymns set to modern accompaniment and the newest songs of praise. It is approximately 90 minutes in length. \nCHILDREN IN THE SERVICE\nA Mother’s Room\, with volume-controlled audio of the service\, is available for nursing moms and those with infants. \nChild care for infants through preschoolers is available throughout the service. Children may be picked up at The Peace to partake in Holy Communion with their families. \nKindergarteners through sixth graders follow the cross out of the sanctuary after the Gospel reading for Encounter KIDS\, a creative time of worship designed specifically for kids\, before returning for Holy Communion. \nBETWEEN THE SERVICES\nClasses for all age groups are available between services (10:10-10:50 a.m.). \nBeginnings\nMusic class for toddlers and preschoolers is held in the preschool room. Child care for infants in available in the infant room. \nENCOUNTER kids\nChildren learn about our faith in Christ in an age-appropriate way. \nDASH\nSeventh through twelfth graders participate in teaching and discussion on a companion verse or parallel topic to the day’s sermon. \nAdults\nWe always have several classes for adults\, find out the current offerings here.
URL:https://saclr.org/event/sunday-services/2022-04-17/
CATEGORIES:Worship
END:VEVENT
BEGIN:VEVENT
DTSTART;TZID=America/Chicago:20220413T180000
DTEND;TZID=America/Chicago:20220413T200000
DTSTAMP:20260420T130252
CREATED:20150922T063132Z
LAST-MODIFIED:20241212T222527Z
UID:10000828-1649872800-1649880000@saclr.org
SUMMARY:DASH (Wednesday)
DESCRIPTION:Sixth through twelfth graders enjoy dinner at 6 p.m. Worship and teaching on Gospel basics begins at 7 p.m.
URL:https://saclr.org/event/dash-wednesday/2022-04-13/
CATEGORIES:Youth Ministry
END:VEVENT
BEGIN:VEVENT
DTSTART;TZID=America/Chicago:20220412T121500
DTEND;TZID=America/Chicago:20220412T131500
DTSTAMP:20260420T130252
CREATED:20190104T012627Z
LAST-MODIFIED:20250828T140023Z
UID:10001580-1649765700-1649769300@saclr.org
SUMMARY:Men's Bible Fellowship
DESCRIPTION:More information available here
URL:https://saclr.org/event/mens-bible-fellowship-2/2022-04-12/
END:VEVENT
BEGIN:VEVENT
DTSTART;TZID=America/Chicago:20220412T100000
DTEND;TZID=America/Chicago:20220412T113000
DTSTAMP:20260420T130252
CREATED:20220218T004129Z
LAST-MODIFIED:20220218T004129Z
UID:10001788-1649757600-1649763000@saclr.org
SUMMARY:The Wisdom of God women's study
DESCRIPTION:The Wisdom of God \nSeeing Jesus in the Psalms & Wisdom Books \n“This 10-week study of Job\, Psalms\, Proverbs\, Ecclesiastes\, and the Song of Solomon mines the Wisdom Literature not only for wise principles for living\, but also for the wise person these books point to through their drama\, poetry\, proverb\, and song. In her accessible and authentic style\, Nancy Guthrie focuses on seeing Jesus in the Old Testament instead of emphasizing works-based moralism.“
URL:https://saclr.org/event/the-wisdom-of-god-womens-study/2022-04-12/
END:VEVENT
BEGIN:VEVENT
DTSTART;VALUE=DATE:20220410
DTEND;VALUE=DATE:20220411
DTSTAMP:20260420T130252
CREATED:20150922T051243Z
LAST-MODIFIED:20230808T202317Z
UID:10001057-1649548800-1649635199@saclr.org
SUMMARY:Sunday Services/Classes
DESCRIPTION:THE SERVICES\nThe 8:45 a.m. worship service is more traditional. The liturgy is followed in a printed program with a mixture of ancient and modern hymns. It is approximately 70 minutes in length. \nThe 11 a.m. worship service is more contemporary. The liturgy is followed on two projection screens with hymns set to modern accompaniment and the newest songs of praise. It is approximately 90 minutes in length. \nCHILDREN IN THE SERVICE\nA Mother’s Room\, with volume-controlled audio of the service\, is available for nursing moms and those with infants. \nChild care for infants through preschoolers is available throughout the service. Children may be picked up at The Peace to partake in Holy Communion with their families. \nKindergarteners through sixth graders follow the cross out of the sanctuary after the Gospel reading for Encounter KIDS\, a creative time of worship designed specifically for kids\, before returning for Holy Communion. \nBETWEEN THE SERVICES\nClasses for all age groups are available between services (10:10-10:50 a.m.). \nBeginnings\nMusic class for toddlers and preschoolers is held in the preschool room. Child care for infants in available in the infant room. \nENCOUNTER kids\nChildren learn about our faith in Christ in an age-appropriate way. \nDASH\nSeventh through twelfth graders participate in teaching and discussion on a companion verse or parallel topic to the day’s sermon. \nAdults\nWe always have several classes for adults\, find out the current offerings here.
URL:https://saclr.org/event/sunday-services/2022-04-10/
CATEGORIES:Worship
END:VEVENT
BEGIN:VEVENT
DTSTART;TZID=America/Chicago:20220406T180000
DTEND;TZID=America/Chicago:20220406T200000
DTSTAMP:20260420T130252
CREATED:20150922T063132Z
LAST-MODIFIED:20241212T222527Z
UID:10000827-1649268000-1649275200@saclr.org
SUMMARY:DASH (Wednesday)
DESCRIPTION:Sixth through twelfth graders enjoy dinner at 6 p.m. Worship and teaching on Gospel basics begins at 7 p.m.
URL:https://saclr.org/event/dash-wednesday/2022-04-06/
CATEGORIES:Youth Ministry
END:VEVENT
BEGIN:VEVENT
DTSTART;TZID=America/Chicago:20220405T121500
DTEND;TZID=America/Chicago:20220405T131500
DTSTAMP:20260420T130252
CREATED:20190104T012627Z
LAST-MODIFIED:20250828T140023Z
UID:10001579-1649160900-1649164500@saclr.org
SUMMARY:Men's Bible Fellowship
DESCRIPTION:More information available here
URL:https://saclr.org/event/mens-bible-fellowship-2/2022-04-05/
END:VEVENT
BEGIN:VEVENT
DTSTART;TZID=America/Chicago:20220405T100000
DTEND;TZID=America/Chicago:20220405T113000
DTSTAMP:20260420T130252
CREATED:20220218T004129Z
LAST-MODIFIED:20220218T004129Z
UID:10001787-1649152800-1649158200@saclr.org
SUMMARY:The Wisdom of God women's study
DESCRIPTION:The Wisdom of God \nSeeing Jesus in the Psalms & Wisdom Books \n“This 10-week study of Job\, Psalms\, Proverbs\, Ecclesiastes\, and the Song of Solomon mines the Wisdom Literature not only for wise principles for living\, but also for the wise person these books point to through their drama\, poetry\, proverb\, and song. In her accessible and authentic style\, Nancy Guthrie focuses on seeing Jesus in the Old Testament instead of emphasizing works-based moralism.“
URL:https://saclr.org/event/the-wisdom-of-god-womens-study/2022-04-05/
END:VEVENT
BEGIN:VEVENT
DTSTART;VALUE=DATE:20220403
DTEND;VALUE=DATE:20220404
DTSTAMP:20260420T130252
CREATED:20150922T051243Z
LAST-MODIFIED:20230808T202317Z
UID:10001056-1648944000-1649030399@saclr.org
SUMMARY:Sunday Services/Classes
DESCRIPTION:THE SERVICES\nThe 8:45 a.m. worship service is more traditional. The liturgy is followed in a printed program with a mixture of ancient and modern hymns. It is approximately 70 minutes in length. \nThe 11 a.m. worship service is more contemporary. The liturgy is followed on two projection screens with hymns set to modern accompaniment and the newest songs of praise. It is approximately 90 minutes in length. \nCHILDREN IN THE SERVICE\nA Mother’s Room\, with volume-controlled audio of the service\, is available for nursing moms and those with infants. \nChild care for infants through preschoolers is available throughout the service. Children may be picked up at The Peace to partake in Holy Communion with their families. \nKindergarteners through sixth graders follow the cross out of the sanctuary after the Gospel reading for Encounter KIDS\, a creative time of worship designed specifically for kids\, before returning for Holy Communion. \nBETWEEN THE SERVICES\nClasses for all age groups are available between services (10:10-10:50 a.m.). \nBeginnings\nMusic class for toddlers and preschoolers is held in the preschool room. Child care for infants in available in the infant room. \nENCOUNTER kids\nChildren learn about our faith in Christ in an age-appropriate way. \nDASH\nSeventh through twelfth graders participate in teaching and discussion on a companion verse or parallel topic to the day’s sermon. \nAdults\nWe always have several classes for adults\, find out the current offerings here.
URL:https://saclr.org/event/sunday-services/2022-04-03/
CATEGORIES:Worship
END:VEVENT
BEGIN:VEVENT
DTSTART;TZID=America/Chicago:20220330T180000
DTEND;TZID=America/Chicago:20220330T200000
DTSTAMP:20260420T130252
CREATED:20150922T063132Z
LAST-MODIFIED:20241212T222527Z
UID:10000826-1648663200-1648670400@saclr.org
SUMMARY:DASH (Wednesday)
DESCRIPTION:Sixth through twelfth graders enjoy dinner at 6 p.m. Worship and teaching on Gospel basics begins at 7 p.m.
URL:https://saclr.org/event/dash-wednesday/2022-03-30/
CATEGORIES:Youth Ministry
END:VEVENT
BEGIN:VEVENT
DTSTART;TZID=America/Chicago:20220329T121500
DTEND;TZID=America/Chicago:20220329T131500
DTSTAMP:20260420T130252
CREATED:20190104T012627Z
LAST-MODIFIED:20250828T140023Z
UID:10001578-1648556100-1648559700@saclr.org
SUMMARY:Men's Bible Fellowship
DESCRIPTION:More information available here
URL:https://saclr.org/event/mens-bible-fellowship-2/2022-03-29/
END:VEVENT
BEGIN:VEVENT
DTSTART;TZID=America/Chicago:20220329T100000
DTEND;TZID=America/Chicago:20220329T113000
DTSTAMP:20260420T130252
CREATED:20220218T004129Z
LAST-MODIFIED:20220218T004129Z
UID:10001786-1648548000-1648553400@saclr.org
SUMMARY:The Wisdom of God women's study
DESCRIPTION:The Wisdom of God \nSeeing Jesus in the Psalms & Wisdom Books \n“This 10-week study of Job\, Psalms\, Proverbs\, Ecclesiastes\, and the Song of Solomon mines the Wisdom Literature not only for wise principles for living\, but also for the wise person these books point to through their drama\, poetry\, proverb\, and song. In her accessible and authentic style\, Nancy Guthrie focuses on seeing Jesus in the Old Testament instead of emphasizing works-based moralism.“
URL:https://saclr.org/event/the-wisdom-of-god-womens-study/2022-03-29/
END:VEVENT
BEGIN:VEVENT
DTSTART;VALUE=DATE:20220327
DTEND;VALUE=DATE:20220328
DTSTAMP:20260420T130252
CREATED:20150922T051243Z
LAST-MODIFIED:20230808T202317Z
UID:10001055-1648339200-1648425599@saclr.org
SUMMARY:Sunday Services/Classes
DESCRIPTION:THE SERVICES\nThe 8:45 a.m. worship service is more traditional. The liturgy is followed in a printed program with a mixture of ancient and modern hymns. It is approximately 70 minutes in length. \nThe 11 a.m. worship service is more contemporary. The liturgy is followed on two projection screens with hymns set to modern accompaniment and the newest songs of praise. It is approximately 90 minutes in length. \nCHILDREN IN THE SERVICE\nA Mother’s Room\, with volume-controlled audio of the service\, is available for nursing moms and those with infants. \nChild care for infants through preschoolers is available throughout the service. Children may be picked up at The Peace to partake in Holy Communion with their families. \nKindergarteners through sixth graders follow the cross out of the sanctuary after the Gospel reading for Encounter KIDS\, a creative time of worship designed specifically for kids\, before returning for Holy Communion. \nBETWEEN THE SERVICES\nClasses for all age groups are available between services (10:10-10:50 a.m.). \nBeginnings\nMusic class for toddlers and preschoolers is held in the preschool room. Child care for infants in available in the infant room. \nENCOUNTER kids\nChildren learn about our faith in Christ in an age-appropriate way. \nDASH\nSeventh through twelfth graders participate in teaching and discussion on a companion verse or parallel topic to the day’s sermon. \nAdults\nWe always have several classes for adults\, find out the current offerings here.
URL:https://saclr.org/event/sunday-services/2022-03-27/
CATEGORIES:Worship
END:VEVENT
BEGIN:VEVENT
DTSTART;TZID=America/Chicago:20220323T180000
DTEND;TZID=America/Chicago:20220323T200000
DTSTAMP:20260420T130252
CREATED:20150922T063132Z
LAST-MODIFIED:20241212T222527Z
UID:10000825-1648058400-1648065600@saclr.org
SUMMARY:DASH (Wednesday)
DESCRIPTION:Sixth through twelfth graders enjoy dinner at 6 p.m. Worship and teaching on Gospel basics begins at 7 p.m.
URL:https://saclr.org/event/dash-wednesday/2022-03-23/
CATEGORIES:Youth Ministry
END:VEVENT
BEGIN:VEVENT
DTSTART;TZID=America/Chicago:20220322T121500
DTEND;TZID=America/Chicago:20220322T131500
DTSTAMP:20260420T130252
CREATED:20190104T012627Z
LAST-MODIFIED:20250828T140023Z
UID:10001577-1647951300-1647954900@saclr.org
SUMMARY:Men's Bible Fellowship
DESCRIPTION:More information available here
URL:https://saclr.org/event/mens-bible-fellowship-2/2022-03-22/
END:VEVENT
BEGIN:VEVENT
DTSTART;TZID=America/Chicago:20220322T100000
DTEND;TZID=America/Chicago:20220322T113000
DTSTAMP:20260420T130252
CREATED:20220218T004129Z
LAST-MODIFIED:20220218T004129Z
UID:10001785-1647943200-1647948600@saclr.org
SUMMARY:The Wisdom of God women's study
DESCRIPTION:The Wisdom of God \nSeeing Jesus in the Psalms & Wisdom Books \n“This 10-week study of Job\, Psalms\, Proverbs\, Ecclesiastes\, and the Song of Solomon mines the Wisdom Literature not only for wise principles for living\, but also for the wise person these books point to through their drama\, poetry\, proverb\, and song. In her accessible and authentic style\, Nancy Guthrie focuses on seeing Jesus in the Old Testament instead of emphasizing works-based moralism.“
URL:https://saclr.org/event/the-wisdom-of-god-womens-study/2022-03-22/
END:VEVENT
END:VCALENDAR