BEGIN:VCALENDAR
VERSION:2.0
PRODID:-//St. Andrew&#039;s Anglican Church - ECPv6.7.0//NONSGML v1.0//EN
CALSCALE:GREGORIAN
METHOD:PUBLISH
X-WR-CALNAME:St. Andrew&#039;s Anglican Church
X-ORIGINAL-URL:https://saclr.org
X-WR-CALDESC:Events for St. Andrew&#039;s Anglican Church
REFRESH-INTERVAL;VALUE=DURATION:PT1H
X-Robots-Tag:noindex
X-PUBLISHED-TTL:PT1H
BEGIN:VTIMEZONE
TZID:America/Chicago
BEGIN:DAYLIGHT
TZOFFSETFROM:-0600
TZOFFSETTO:-0500
TZNAME:CDT
DTSTART:20200308T080000
END:DAYLIGHT
BEGIN:STANDARD
TZOFFSETFROM:-0500
TZOFFSETTO:-0600
TZNAME:CST
DTSTART:20201101T070000
END:STANDARD
END:VTIMEZONE
BEGIN:VEVENT
DTSTART;TZID=America/Chicago:20200825T121500
DTEND;TZID=America/Chicago:20200825T131500
DTSTAMP:20260422T172219
CREATED:20190104T012627Z
LAST-MODIFIED:20250828T140023Z
UID:10001495-1598357700-1598361300@saclr.org
SUMMARY:Men's Bible Fellowship
DESCRIPTION:More information available here
URL:https://saclr.org/event/mens-bible-fellowship-2/2020-08-25/
END:VEVENT
BEGIN:VEVENT
DTSTART;TZID=America/Chicago:20200825T120000
DTEND;TZID=America/Chicago:20200825T125000
DTSTAMP:20260422T172219
CREATED:20190508T233336Z
LAST-MODIFIED:20190508T233336Z
UID:10001029-1598356800-1598359800@saclr.org
SUMMARY:Mid-day Gathering
DESCRIPTION:From the time Jesus invited his first disciples to come away from the crowds and their busy lives to rest with him\, coming away has been and important practice for disciples of Jesus seeking deeper communition with him. \nEach Tuesday at noon\, for 50 minutes\, using scripture passages taken from the Daily Office\, we will engage in the Christian practices of silence\, meditation on scripture\, and spiritual conversations with others\, and discover how powerful these practices can be in helping us resist the forces that would pull us out of communion with God and each other. This is for anyone who is longing to know Jesus more and experience different ways of growing in relationship and intimacy with him.
URL:https://saclr.org/event/mid-day-gathering/2020-08-25/
END:VEVENT
BEGIN:VEVENT
DTSTART;TZID=America/Chicago:20200819T180000
DTEND;TZID=America/Chicago:20200819T200000
DTSTAMP:20260422T172219
CREATED:20150922T063132Z
LAST-MODIFIED:20241212T222527Z
UID:10000742-1597860000-1597867200@saclr.org
SUMMARY:DASH (Wednesday)
DESCRIPTION:Sixth through twelfth graders enjoy dinner at 6 p.m. Worship and teaching on Gospel basics begins at 7 p.m.
URL:https://saclr.org/event/dash-wednesday/2020-08-19/
CATEGORIES:Youth Ministry
END:VEVENT
BEGIN:VEVENT
DTSTART;TZID=America/Chicago:20200818T121500
DTEND;TZID=America/Chicago:20200818T131500
DTSTAMP:20260422T172219
CREATED:20190104T012627Z
LAST-MODIFIED:20250828T140023Z
UID:10001494-1597752900-1597756500@saclr.org
SUMMARY:Men's Bible Fellowship
DESCRIPTION:More information available here
URL:https://saclr.org/event/mens-bible-fellowship-2/2020-08-18/
END:VEVENT
BEGIN:VEVENT
DTSTART;TZID=America/Chicago:20200818T120000
DTEND;TZID=America/Chicago:20200818T125000
DTSTAMP:20260422T172219
CREATED:20190508T233336Z
LAST-MODIFIED:20190508T233336Z
UID:10001028-1597752000-1597755000@saclr.org
SUMMARY:Mid-day Gathering
DESCRIPTION:From the time Jesus invited his first disciples to come away from the crowds and their busy lives to rest with him\, coming away has been and important practice for disciples of Jesus seeking deeper communition with him. \nEach Tuesday at noon\, for 50 minutes\, using scripture passages taken from the Daily Office\, we will engage in the Christian practices of silence\, meditation on scripture\, and spiritual conversations with others\, and discover how powerful these practices can be in helping us resist the forces that would pull us out of communion with God and each other. This is for anyone who is longing to know Jesus more and experience different ways of growing in relationship and intimacy with him.
URL:https://saclr.org/event/mid-day-gathering/2020-08-18/
END:VEVENT
BEGIN:VEVENT
DTSTART;TZID=America/Chicago:20200812T180000
DTEND;TZID=America/Chicago:20200812T200000
DTSTAMP:20260422T172219
CREATED:20150922T063132Z
LAST-MODIFIED:20241212T222527Z
UID:10000741-1597255200-1597262400@saclr.org
SUMMARY:DASH (Wednesday)
DESCRIPTION:Sixth through twelfth graders enjoy dinner at 6 p.m. Worship and teaching on Gospel basics begins at 7 p.m.
URL:https://saclr.org/event/dash-wednesday/2020-08-12/
CATEGORIES:Youth Ministry
END:VEVENT
BEGIN:VEVENT
DTSTART;TZID=America/Chicago:20200811T121500
DTEND;TZID=America/Chicago:20200811T131500
DTSTAMP:20260422T172219
CREATED:20190104T012627Z
LAST-MODIFIED:20250828T140023Z
UID:10001493-1597148100-1597151700@saclr.org
SUMMARY:Men's Bible Fellowship
DESCRIPTION:More information available here
URL:https://saclr.org/event/mens-bible-fellowship-2/2020-08-11/
END:VEVENT
BEGIN:VEVENT
DTSTART;TZID=America/Chicago:20200811T120000
DTEND;TZID=America/Chicago:20200811T125000
DTSTAMP:20260422T172219
CREATED:20190508T233336Z
LAST-MODIFIED:20190508T233336Z
UID:10001027-1597147200-1597150200@saclr.org
SUMMARY:Mid-day Gathering
DESCRIPTION:From the time Jesus invited his first disciples to come away from the crowds and their busy lives to rest with him\, coming away has been and important practice for disciples of Jesus seeking deeper communition with him. \nEach Tuesday at noon\, for 50 minutes\, using scripture passages taken from the Daily Office\, we will engage in the Christian practices of silence\, meditation on scripture\, and spiritual conversations with others\, and discover how powerful these practices can be in helping us resist the forces that would pull us out of communion with God and each other. This is for anyone who is longing to know Jesus more and experience different ways of growing in relationship and intimacy with him.
URL:https://saclr.org/event/mid-day-gathering/2020-08-11/
END:VEVENT
BEGIN:VEVENT
DTSTART;TZID=America/Chicago:20200805T180000
DTEND;TZID=America/Chicago:20200805T200000
DTSTAMP:20260422T172219
CREATED:20150922T063132Z
LAST-MODIFIED:20241212T222527Z
UID:10000740-1596650400-1596657600@saclr.org
SUMMARY:DASH (Wednesday)
DESCRIPTION:Sixth through twelfth graders enjoy dinner at 6 p.m. Worship and teaching on Gospel basics begins at 7 p.m.
URL:https://saclr.org/event/dash-wednesday/2020-08-05/
CATEGORIES:Youth Ministry
END:VEVENT
BEGIN:VEVENT
DTSTART;TZID=America/Chicago:20200804T121500
DTEND;TZID=America/Chicago:20200804T131500
DTSTAMP:20260422T172219
CREATED:20190104T012627Z
LAST-MODIFIED:20250828T140023Z
UID:10001492-1596543300-1596546900@saclr.org
SUMMARY:Men's Bible Fellowship
DESCRIPTION:More information available here
URL:https://saclr.org/event/mens-bible-fellowship-2/2020-08-04/
END:VEVENT
BEGIN:VEVENT
DTSTART;TZID=America/Chicago:20200804T120000
DTEND;TZID=America/Chicago:20200804T125000
DTSTAMP:20260422T172219
CREATED:20190508T233336Z
LAST-MODIFIED:20190508T233336Z
UID:10001026-1596542400-1596545400@saclr.org
SUMMARY:Mid-day Gathering
DESCRIPTION:From the time Jesus invited his first disciples to come away from the crowds and their busy lives to rest with him\, coming away has been and important practice for disciples of Jesus seeking deeper communition with him. \nEach Tuesday at noon\, for 50 minutes\, using scripture passages taken from the Daily Office\, we will engage in the Christian practices of silence\, meditation on scripture\, and spiritual conversations with others\, and discover how powerful these practices can be in helping us resist the forces that would pull us out of communion with God and each other. This is for anyone who is longing to know Jesus more and experience different ways of growing in relationship and intimacy with him.
URL:https://saclr.org/event/mid-day-gathering/2020-08-04/
END:VEVENT
BEGIN:VEVENT
DTSTART;TZID=America/Chicago:20200802T160000
DTEND;TZID=America/Chicago:20200802T171500
DTSTAMP:20260422T172219
CREATED:20190118T010939Z
LAST-MODIFIED:20190118T010939Z
UID:10000471-1596384000-1596388500@saclr.org
SUMMARY:Cornerstone
DESCRIPTION:Find out more information about our church plant here.
URL:https://saclr.org/event/cornerstone/2020-08-02/
END:VEVENT
BEGIN:VEVENT
DTSTART;TZID=America/Chicago:20200729T180000
DTEND;TZID=America/Chicago:20200729T200000
DTSTAMP:20260422T172219
CREATED:20150922T063132Z
LAST-MODIFIED:20241212T222527Z
UID:10000739-1596045600-1596052800@saclr.org
SUMMARY:DASH (Wednesday)
DESCRIPTION:Sixth through twelfth graders enjoy dinner at 6 p.m. Worship and teaching on Gospel basics begins at 7 p.m.
URL:https://saclr.org/event/dash-wednesday/2020-07-29/
CATEGORIES:Youth Ministry
END:VEVENT
BEGIN:VEVENT
DTSTART;TZID=America/Chicago:20200728T121500
DTEND;TZID=America/Chicago:20200728T131500
DTSTAMP:20260422T172219
CREATED:20190104T012627Z
LAST-MODIFIED:20250828T140023Z
UID:10001491-1595938500-1595942100@saclr.org
SUMMARY:Men's Bible Fellowship
DESCRIPTION:More information available here
URL:https://saclr.org/event/mens-bible-fellowship-2/2020-07-28/
END:VEVENT
BEGIN:VEVENT
DTSTART;TZID=America/Chicago:20200728T120000
DTEND;TZID=America/Chicago:20200728T125000
DTSTAMP:20260422T172219
CREATED:20190508T233336Z
LAST-MODIFIED:20190508T233336Z
UID:10001025-1595937600-1595940600@saclr.org
SUMMARY:Mid-day Gathering
DESCRIPTION:From the time Jesus invited his first disciples to come away from the crowds and their busy lives to rest with him\, coming away has been and important practice for disciples of Jesus seeking deeper communition with him. \nEach Tuesday at noon\, for 50 minutes\, using scripture passages taken from the Daily Office\, we will engage in the Christian practices of silence\, meditation on scripture\, and spiritual conversations with others\, and discover how powerful these practices can be in helping us resist the forces that would pull us out of communion with God and each other. This is for anyone who is longing to know Jesus more and experience different ways of growing in relationship and intimacy with him.
URL:https://saclr.org/event/mid-day-gathering/2020-07-28/
END:VEVENT
BEGIN:VEVENT
DTSTART;TZID=America/Chicago:20200726T160000
DTEND;TZID=America/Chicago:20200726T171500
DTSTAMP:20260422T172219
CREATED:20190118T010939Z
LAST-MODIFIED:20190118T010939Z
UID:10000470-1595779200-1595783700@saclr.org
SUMMARY:Cornerstone
DESCRIPTION:Find out more information about our church plant here.
URL:https://saclr.org/event/cornerstone/2020-07-26/
END:VEVENT
BEGIN:VEVENT
DTSTART;TZID=America/Chicago:20200722T180000
DTEND;TZID=America/Chicago:20200722T200000
DTSTAMP:20260422T172219
CREATED:20150922T063132Z
LAST-MODIFIED:20241212T222527Z
UID:10000738-1595440800-1595448000@saclr.org
SUMMARY:DASH (Wednesday)
DESCRIPTION:Sixth through twelfth graders enjoy dinner at 6 p.m. Worship and teaching on Gospel basics begins at 7 p.m.
URL:https://saclr.org/event/dash-wednesday/2020-07-22/
CATEGORIES:Youth Ministry
END:VEVENT
BEGIN:VEVENT
DTSTART;TZID=America/Chicago:20200721T121500
DTEND;TZID=America/Chicago:20200721T131500
DTSTAMP:20260422T172219
CREATED:20190104T012627Z
LAST-MODIFIED:20250828T140023Z
UID:10001490-1595333700-1595337300@saclr.org
SUMMARY:Men's Bible Fellowship
DESCRIPTION:More information available here
URL:https://saclr.org/event/mens-bible-fellowship-2/2020-07-21/
END:VEVENT
BEGIN:VEVENT
DTSTART;TZID=America/Chicago:20200721T120000
DTEND;TZID=America/Chicago:20200721T125000
DTSTAMP:20260422T172219
CREATED:20190508T233336Z
LAST-MODIFIED:20190508T233336Z
UID:10001024-1595332800-1595335800@saclr.org
SUMMARY:Mid-day Gathering
DESCRIPTION:From the time Jesus invited his first disciples to come away from the crowds and their busy lives to rest with him\, coming away has been and important practice for disciples of Jesus seeking deeper communition with him. \nEach Tuesday at noon\, for 50 minutes\, using scripture passages taken from the Daily Office\, we will engage in the Christian practices of silence\, meditation on scripture\, and spiritual conversations with others\, and discover how powerful these practices can be in helping us resist the forces that would pull us out of communion with God and each other. This is for anyone who is longing to know Jesus more and experience different ways of growing in relationship and intimacy with him.
URL:https://saclr.org/event/mid-day-gathering/2020-07-21/
END:VEVENT
BEGIN:VEVENT
DTSTART;TZID=America/Chicago:20200719T160000
DTEND;TZID=America/Chicago:20200719T171500
DTSTAMP:20260422T172219
CREATED:20190118T010939Z
LAST-MODIFIED:20190118T010939Z
UID:10000469-1595174400-1595178900@saclr.org
SUMMARY:Cornerstone
DESCRIPTION:Find out more information about our church plant here.
URL:https://saclr.org/event/cornerstone/2020-07-19/
END:VEVENT
BEGIN:VEVENT
DTSTART;TZID=America/Chicago:20200715T180000
DTEND;TZID=America/Chicago:20200715T200000
DTSTAMP:20260422T172219
CREATED:20150922T063132Z
LAST-MODIFIED:20241212T222527Z
UID:10000737-1594836000-1594843200@saclr.org
SUMMARY:DASH (Wednesday)
DESCRIPTION:Sixth through twelfth graders enjoy dinner at 6 p.m. Worship and teaching on Gospel basics begins at 7 p.m.
URL:https://saclr.org/event/dash-wednesday/2020-07-15/
CATEGORIES:Youth Ministry
END:VEVENT
BEGIN:VEVENT
DTSTART;TZID=America/Chicago:20200714T121500
DTEND;TZID=America/Chicago:20200714T131500
DTSTAMP:20260422T172219
CREATED:20190104T012627Z
LAST-MODIFIED:20250828T140023Z
UID:10001489-1594728900-1594732500@saclr.org
SUMMARY:Men's Bible Fellowship
DESCRIPTION:More information available here
URL:https://saclr.org/event/mens-bible-fellowship-2/2020-07-14/
END:VEVENT
BEGIN:VEVENT
DTSTART;TZID=America/Chicago:20200714T120000
DTEND;TZID=America/Chicago:20200714T125000
DTSTAMP:20260422T172219
CREATED:20190508T233336Z
LAST-MODIFIED:20190508T233336Z
UID:10001023-1594728000-1594731000@saclr.org
SUMMARY:Mid-day Gathering
DESCRIPTION:From the time Jesus invited his first disciples to come away from the crowds and their busy lives to rest with him\, coming away has been and important practice for disciples of Jesus seeking deeper communition with him. \nEach Tuesday at noon\, for 50 minutes\, using scripture passages taken from the Daily Office\, we will engage in the Christian practices of silence\, meditation on scripture\, and spiritual conversations with others\, and discover how powerful these practices can be in helping us resist the forces that would pull us out of communion with God and each other. This is for anyone who is longing to know Jesus more and experience different ways of growing in relationship and intimacy with him.
URL:https://saclr.org/event/mid-day-gathering/2020-07-14/
END:VEVENT
BEGIN:VEVENT
DTSTART;TZID=America/Chicago:20200712T160000
DTEND;TZID=America/Chicago:20200712T171500
DTSTAMP:20260422T172219
CREATED:20190118T010939Z
LAST-MODIFIED:20190118T010939Z
UID:10000468-1594569600-1594574100@saclr.org
SUMMARY:Cornerstone
DESCRIPTION:Find out more information about our church plant here.
URL:https://saclr.org/event/cornerstone/2020-07-12/
END:VEVENT
BEGIN:VEVENT
DTSTART;TZID=America/Chicago:20200708T180000
DTEND;TZID=America/Chicago:20200708T200000
DTSTAMP:20260422T172219
CREATED:20150922T063132Z
LAST-MODIFIED:20241212T222527Z
UID:10000736-1594231200-1594238400@saclr.org
SUMMARY:DASH (Wednesday)
DESCRIPTION:Sixth through twelfth graders enjoy dinner at 6 p.m. Worship and teaching on Gospel basics begins at 7 p.m.
URL:https://saclr.org/event/dash-wednesday/2020-07-08/
CATEGORIES:Youth Ministry
END:VEVENT
BEGIN:VEVENT
DTSTART;TZID=America/Chicago:20200707T121500
DTEND;TZID=America/Chicago:20200707T131500
DTSTAMP:20260422T172219
CREATED:20190104T012627Z
LAST-MODIFIED:20250828T140023Z
UID:10001488-1594124100-1594127700@saclr.org
SUMMARY:Men's Bible Fellowship
DESCRIPTION:More information available here
URL:https://saclr.org/event/mens-bible-fellowship-2/2020-07-07/
END:VEVENT
BEGIN:VEVENT
DTSTART;TZID=America/Chicago:20200707T120000
DTEND;TZID=America/Chicago:20200707T125000
DTSTAMP:20260422T172219
CREATED:20190508T233336Z
LAST-MODIFIED:20190508T233336Z
UID:10001022-1594123200-1594126200@saclr.org
SUMMARY:Mid-day Gathering
DESCRIPTION:From the time Jesus invited his first disciples to come away from the crowds and their busy lives to rest with him\, coming away has been and important practice for disciples of Jesus seeking deeper communition with him. \nEach Tuesday at noon\, for 50 minutes\, using scripture passages taken from the Daily Office\, we will engage in the Christian practices of silence\, meditation on scripture\, and spiritual conversations with others\, and discover how powerful these practices can be in helping us resist the forces that would pull us out of communion with God and each other. This is for anyone who is longing to know Jesus more and experience different ways of growing in relationship and intimacy with him.
URL:https://saclr.org/event/mid-day-gathering/2020-07-07/
END:VEVENT
BEGIN:VEVENT
DTSTART;TZID=America/Chicago:20200705T160000
DTEND;TZID=America/Chicago:20200705T171500
DTSTAMP:20260422T172219
CREATED:20190118T010939Z
LAST-MODIFIED:20190118T010939Z
UID:10000467-1593964800-1593969300@saclr.org
SUMMARY:Cornerstone
DESCRIPTION:Find out more information about our church plant here.
URL:https://saclr.org/event/cornerstone/2020-07-05/
END:VEVENT
BEGIN:VEVENT
DTSTART;TZID=America/Chicago:20200701T180000
DTEND;TZID=America/Chicago:20200701T200000
DTSTAMP:20260422T172219
CREATED:20150922T063132Z
LAST-MODIFIED:20241212T222527Z
UID:10000735-1593626400-1593633600@saclr.org
SUMMARY:DASH (Wednesday)
DESCRIPTION:Sixth through twelfth graders enjoy dinner at 6 p.m. Worship and teaching on Gospel basics begins at 7 p.m.
URL:https://saclr.org/event/dash-wednesday/2020-07-01/
CATEGORIES:Youth Ministry
END:VEVENT
BEGIN:VEVENT
DTSTART;TZID=America/Chicago:20200630T121500
DTEND;TZID=America/Chicago:20200630T131500
DTSTAMP:20260422T172219
CREATED:20190104T012627Z
LAST-MODIFIED:20250828T140023Z
UID:10001487-1593519300-1593522900@saclr.org
SUMMARY:Men's Bible Fellowship
DESCRIPTION:More information available here
URL:https://saclr.org/event/mens-bible-fellowship-2/2020-06-30/
END:VEVENT
END:VCALENDAR