BEGIN:VCALENDAR
VERSION:2.0
PRODID:-//St. Andrew&#039;s Anglican Church - ECPv6.7.0//NONSGML v1.0//EN
CALSCALE:GREGORIAN
METHOD:PUBLISH
X-WR-CALNAME:St. Andrew&#039;s Anglican Church
X-ORIGINAL-URL:https://saclr.org
X-WR-CALDESC:Events for St. Andrew&#039;s Anglican Church
REFRESH-INTERVAL;VALUE=DURATION:PT1H
X-Robots-Tag:noindex
X-PUBLISHED-TTL:PT1H
BEGIN:VTIMEZONE
TZID:America/Chicago
BEGIN:DAYLIGHT
TZOFFSETFROM:-0600
TZOFFSETTO:-0500
TZNAME:CDT
DTSTART:20220313T080000
END:DAYLIGHT
BEGIN:STANDARD
TZOFFSETFROM:-0500
TZOFFSETTO:-0600
TZNAME:CST
DTSTART:20221106T070000
END:STANDARD
END:VTIMEZONE
BEGIN:VEVENT
DTSTART;TZID=America/Chicago:20220907T180000
DTEND;TZID=America/Chicago:20220907T200000
DTSTAMP:20260420T025822
CREATED:20220907T011335Z
LAST-MODIFIED:20220907T011335Z
UID:10001798-1662573600-1662580800@saclr.org
SUMMARY:Growing in Grace (GiG)
DESCRIPTION:
URL:https://saclr.org/event/growing-in-grace-gig-2/2022-09-07/
END:VEVENT
BEGIN:VEVENT
DTSTART;TZID=America/Chicago:20220907T180000
DTEND;TZID=America/Chicago:20220907T200000
DTSTAMP:20260420T025822
CREATED:20150922T063132Z
LAST-MODIFIED:20241212T222527Z
UID:10000849-1662573600-1662580800@saclr.org
SUMMARY:DASH (Wednesday)
DESCRIPTION:Sixth through twelfth graders enjoy dinner at 6 p.m. Worship and teaching on Gospel basics begins at 7 p.m.
URL:https://saclr.org/event/dash-wednesday/2022-09-07/
CATEGORIES:Youth Ministry
END:VEVENT
BEGIN:VEVENT
DTSTART;TZID=America/Chicago:20220906T121500
DTEND;TZID=America/Chicago:20220906T131500
DTSTAMP:20260420T025822
CREATED:20190104T012627Z
LAST-MODIFIED:20250828T140023Z
UID:10001601-1662466500-1662470100@saclr.org
SUMMARY:Men's Bible Fellowship
DESCRIPTION:More information available here
URL:https://saclr.org/event/mens-bible-fellowship-2/2022-09-06/
END:VEVENT
BEGIN:VEVENT
DTSTART;TZID=America/Chicago:20220905T180000
DTEND;TZID=America/Chicago:20220905T193000
DTSTAMP:20260420T025822
CREATED:20220729T011625Z
LAST-MODIFIED:20220729T011625Z
UID:10001291-1662400800-1662406200@saclr.org
SUMMARY:Discipleship Night
DESCRIPTION:This school year\, we are beginning a new discipleship pathway that will help us re-frame our faith as we submit the real stuff of our lives to be transformed by the gospel. We will look at basic Christian truths that we take for granted and how our culture has twisted our thought process about each truth. We’ll look for the lie in each twist and ask how Christ is inviting us to go from the lie to the truth in some actionable way.   From 6-7:30 p.m. every other Monday night from August 22–November 14\, we’ll meet together at the church for a family dinner\, a short teaching and small group discussion. On the off weeks\, the small groups will split up into 2 groups (A & B) and meet to go deeper in the discussion of the previous week’s topic. When we say family\, we do mean family. Children will eat dinner with us and then head to their own classes for an age-appropriate study. \n\n\n\n  \n\nFor more information and to register\, click here.
URL:https://saclr.org/event/discipleship-night/2022-09-05/
END:VEVENT
BEGIN:VEVENT
DTSTART;VALUE=DATE:20220904
DTEND;VALUE=DATE:20220905
DTSTAMP:20260420T025822
CREATED:20150922T051243Z
LAST-MODIFIED:20230808T202317Z
UID:10001078-1662249600-1662335999@saclr.org
SUMMARY:Sunday Services/Classes
DESCRIPTION:THE SERVICES\nThe 8:45 a.m. worship service is more traditional. The liturgy is followed in a printed program with a mixture of ancient and modern hymns. It is approximately 70 minutes in length. \nThe 11 a.m. worship service is more contemporary. The liturgy is followed on two projection screens with hymns set to modern accompaniment and the newest songs of praise. It is approximately 90 minutes in length. \nCHILDREN IN THE SERVICE\nA Mother’s Room\, with volume-controlled audio of the service\, is available for nursing moms and those with infants. \nChild care for infants through preschoolers is available throughout the service. Children may be picked up at The Peace to partake in Holy Communion with their families. \nKindergarteners through sixth graders follow the cross out of the sanctuary after the Gospel reading for Encounter KIDS\, a creative time of worship designed specifically for kids\, before returning for Holy Communion. \nBETWEEN THE SERVICES\nClasses for all age groups are available between services (10:10-10:50 a.m.). \nBeginnings\nMusic class for toddlers and preschoolers is held in the preschool room. Child care for infants in available in the infant room. \nENCOUNTER kids\nChildren learn about our faith in Christ in an age-appropriate way. \nDASH\nSeventh through twelfth graders participate in teaching and discussion on a companion verse or parallel topic to the day’s sermon. \nAdults\nWe always have several classes for adults\, find out the current offerings here.
URL:https://saclr.org/event/sunday-services/2022-09-04/
CATEGORIES:Worship
END:VEVENT
BEGIN:VEVENT
DTSTART;TZID=America/Chicago:20220831T180000
DTEND;TZID=America/Chicago:20220831T200000
DTSTAMP:20260420T025822
CREATED:20150922T063132Z
LAST-MODIFIED:20241212T222527Z
UID:10000848-1661968800-1661976000@saclr.org
SUMMARY:DASH (Wednesday)
DESCRIPTION:Sixth through twelfth graders enjoy dinner at 6 p.m. Worship and teaching on Gospel basics begins at 7 p.m.
URL:https://saclr.org/event/dash-wednesday/2022-08-31/
CATEGORIES:Youth Ministry
END:VEVENT
BEGIN:VEVENT
DTSTART;TZID=America/Chicago:20220830T121500
DTEND;TZID=America/Chicago:20220830T131500
DTSTAMP:20260420T025822
CREATED:20190104T012627Z
LAST-MODIFIED:20250828T140023Z
UID:10001600-1661861700-1661865300@saclr.org
SUMMARY:Men's Bible Fellowship
DESCRIPTION:More information available here
URL:https://saclr.org/event/mens-bible-fellowship-2/2022-08-30/
END:VEVENT
BEGIN:VEVENT
DTSTART;VALUE=DATE:20220828
DTEND;VALUE=DATE:20220829
DTSTAMP:20260420T025822
CREATED:20150922T051243Z
LAST-MODIFIED:20230808T202317Z
UID:10001077-1661644800-1661731199@saclr.org
SUMMARY:Sunday Services/Classes
DESCRIPTION:THE SERVICES\nThe 8:45 a.m. worship service is more traditional. The liturgy is followed in a printed program with a mixture of ancient and modern hymns. It is approximately 70 minutes in length. \nThe 11 a.m. worship service is more contemporary. The liturgy is followed on two projection screens with hymns set to modern accompaniment and the newest songs of praise. It is approximately 90 minutes in length. \nCHILDREN IN THE SERVICE\nA Mother’s Room\, with volume-controlled audio of the service\, is available for nursing moms and those with infants. \nChild care for infants through preschoolers is available throughout the service. Children may be picked up at The Peace to partake in Holy Communion with their families. \nKindergarteners through sixth graders follow the cross out of the sanctuary after the Gospel reading for Encounter KIDS\, a creative time of worship designed specifically for kids\, before returning for Holy Communion. \nBETWEEN THE SERVICES\nClasses for all age groups are available between services (10:10-10:50 a.m.). \nBeginnings\nMusic class for toddlers and preschoolers is held in the preschool room. Child care for infants in available in the infant room. \nENCOUNTER kids\nChildren learn about our faith in Christ in an age-appropriate way. \nDASH\nSeventh through twelfth graders participate in teaching and discussion on a companion verse or parallel topic to the day’s sermon. \nAdults\nWe always have several classes for adults\, find out the current offerings here.
URL:https://saclr.org/event/sunday-services/2022-08-28/
CATEGORIES:Worship
END:VEVENT
BEGIN:VEVENT
DTSTART;TZID=America/Chicago:20220824T180000
DTEND;TZID=America/Chicago:20220824T200000
DTSTAMP:20260420T025822
CREATED:20150922T063132Z
LAST-MODIFIED:20241212T222527Z
UID:10000847-1661364000-1661371200@saclr.org
SUMMARY:DASH (Wednesday)
DESCRIPTION:Sixth through twelfth graders enjoy dinner at 6 p.m. Worship and teaching on Gospel basics begins at 7 p.m.
URL:https://saclr.org/event/dash-wednesday/2022-08-24/
CATEGORIES:Youth Ministry
END:VEVENT
BEGIN:VEVENT
DTSTART;TZID=America/Chicago:20220823T121500
DTEND;TZID=America/Chicago:20220823T131500
DTSTAMP:20260420T025822
CREATED:20190104T012627Z
LAST-MODIFIED:20250828T140023Z
UID:10001599-1661256900-1661260500@saclr.org
SUMMARY:Men's Bible Fellowship
DESCRIPTION:More information available here
URL:https://saclr.org/event/mens-bible-fellowship-2/2022-08-23/
END:VEVENT
BEGIN:VEVENT
DTSTART;TZID=America/Chicago:20220822T180000
DTEND;TZID=America/Chicago:20220822T193000
DTSTAMP:20260420T025822
CREATED:20220729T011625Z
LAST-MODIFIED:20220729T011625Z
UID:10001290-1661191200-1661196600@saclr.org
SUMMARY:Discipleship Night
DESCRIPTION:This school year\, we are beginning a new discipleship pathway that will help us re-frame our faith as we submit the real stuff of our lives to be transformed by the gospel. We will look at basic Christian truths that we take for granted and how our culture has twisted our thought process about each truth. We’ll look for the lie in each twist and ask how Christ is inviting us to go from the lie to the truth in some actionable way.   From 6-7:30 p.m. every other Monday night from August 22–November 14\, we’ll meet together at the church for a family dinner\, a short teaching and small group discussion. On the off weeks\, the small groups will split up into 2 groups (A & B) and meet to go deeper in the discussion of the previous week’s topic. When we say family\, we do mean family. Children will eat dinner with us and then head to their own classes for an age-appropriate study. \n\n\n\n  \n\nFor more information and to register\, click here.
URL:https://saclr.org/event/discipleship-night/2022-08-22/
END:VEVENT
BEGIN:VEVENT
DTSTART;VALUE=DATE:20220821
DTEND;VALUE=DATE:20220822
DTSTAMP:20260420T025822
CREATED:20150922T051243Z
LAST-MODIFIED:20230808T202317Z
UID:10001076-1661040000-1661126399@saclr.org
SUMMARY:Sunday Services/Classes
DESCRIPTION:THE SERVICES\nThe 8:45 a.m. worship service is more traditional. The liturgy is followed in a printed program with a mixture of ancient and modern hymns. It is approximately 70 minutes in length. \nThe 11 a.m. worship service is more contemporary. The liturgy is followed on two projection screens with hymns set to modern accompaniment and the newest songs of praise. It is approximately 90 minutes in length. \nCHILDREN IN THE SERVICE\nA Mother’s Room\, with volume-controlled audio of the service\, is available for nursing moms and those with infants. \nChild care for infants through preschoolers is available throughout the service. Children may be picked up at The Peace to partake in Holy Communion with their families. \nKindergarteners through sixth graders follow the cross out of the sanctuary after the Gospel reading for Encounter KIDS\, a creative time of worship designed specifically for kids\, before returning for Holy Communion. \nBETWEEN THE SERVICES\nClasses for all age groups are available between services (10:10-10:50 a.m.). \nBeginnings\nMusic class for toddlers and preschoolers is held in the preschool room. Child care for infants in available in the infant room. \nENCOUNTER kids\nChildren learn about our faith in Christ in an age-appropriate way. \nDASH\nSeventh through twelfth graders participate in teaching and discussion on a companion verse or parallel topic to the day’s sermon. \nAdults\nWe always have several classes for adults\, find out the current offerings here.
URL:https://saclr.org/event/sunday-services/2022-08-21/
CATEGORIES:Worship
END:VEVENT
BEGIN:VEVENT
DTSTART;TZID=America/Chicago:20220817T180000
DTEND;TZID=America/Chicago:20220817T200000
DTSTAMP:20260420T025822
CREATED:20150922T063132Z
LAST-MODIFIED:20241212T222527Z
UID:10000846-1660759200-1660766400@saclr.org
SUMMARY:DASH (Wednesday)
DESCRIPTION:Sixth through twelfth graders enjoy dinner at 6 p.m. Worship and teaching on Gospel basics begins at 7 p.m.
URL:https://saclr.org/event/dash-wednesday/2022-08-17/
CATEGORIES:Youth Ministry
END:VEVENT
BEGIN:VEVENT
DTSTART;TZID=America/Chicago:20220816T121500
DTEND;TZID=America/Chicago:20220816T131500
DTSTAMP:20260420T025822
CREATED:20190104T012627Z
LAST-MODIFIED:20250828T140023Z
UID:10001598-1660652100-1660655700@saclr.org
SUMMARY:Men's Bible Fellowship
DESCRIPTION:More information available here
URL:https://saclr.org/event/mens-bible-fellowship-2/2022-08-16/
END:VEVENT
BEGIN:VEVENT
DTSTART;TZID=America/Chicago:20220815T173000
DTEND;TZID=America/Chicago:20220815T200000
DTSTAMP:20260420T025822
CREATED:20220721T204018Z
LAST-MODIFIED:20220721T204018Z
UID:10001287-1660584600-1660593600@saclr.org
SUMMARY:Back-to-School Pool Party
DESCRIPTION:Family ministries invites you to celebrate/mourn going back to to school with a pool party. Join us at Leawood Pool (8723 Evergreen Dr.; 72227) on Monday\, August 15\, beginning at 5:30 p.m. We’ll have hot dogs for dinner\, popsicles for dessert and hours of great swimming and fellowship time.
URL:https://saclr.org/event/back-to-school-pool-party/
LOCATION:Leawood Pool\, 8723 Evergreen Dr.\, Little Rock\, AR\, 72227\, United States
GEO:34.7645368;-92.3712684
X-APPLE-STRUCTURED-LOCATION;VALUE=URI;X-ADDRESS=Leawood Pool 8723 Evergreen Dr. Little Rock AR 72227 United States;X-APPLE-RADIUS=500;X-TITLE=8723 Evergreen Dr.:geo:-92.3712684,34.7645368
END:VEVENT
BEGIN:VEVENT
DTSTART;TZID=America/Chicago:20220814T180000
DTEND;TZID=America/Chicago:20220814T193000
DTSTAMP:20260420T025822
CREATED:20220721T204101Z
LAST-MODIFIED:20220721T204101Z
UID:10001289-1660500000-1660505400@saclr.org
SUMMARY:Newcomers' Dessert
DESCRIPTION:Are you new to St. Andrew’s? If so\, you are invited you to the Newcomers’ Dessert on Sunday\, August 14\, from 6-7:30 p.m. for a casual time of dessert and fellowship. Children and youth of families are also invited to attend and have a special time of dessert and play with family ministries. To RSVP or for more information\, contact Jessie Smith.
URL:https://saclr.org/event/newcomers-dessert-6/
END:VEVENT
BEGIN:VEVENT
DTSTART;VALUE=DATE:20220814
DTEND;VALUE=DATE:20220815
DTSTAMP:20260420T025822
CREATED:20220721T203845Z
LAST-MODIFIED:20220721T203845Z
UID:10001285-1660435200-1660521599@saclr.org
SUMMARY:Family Ministry Move-Up Sunday
DESCRIPTION:Sunday\, August 14\, is St. Andrew’s Move-Up Sunday—the Sunday that our children graduate to their next class. Those in Pre-K4 during the 2021-22 school year will begin worshiping with their parents in the service and leaving during the sermon for ENCOUNTER Kids. Those in fifth grade during the 2021-22 school year are now a part of the youth group and will remain in the sanctuary for the entire service.
URL:https://saclr.org/event/family-ministry-move-up-sunday/
END:VEVENT
BEGIN:VEVENT
DTSTART;VALUE=DATE:20220814
DTEND;VALUE=DATE:20220815
DTSTAMP:20260420T025822
CREATED:20150922T051243Z
LAST-MODIFIED:20230808T202317Z
UID:10001075-1660435200-1660521599@saclr.org
SUMMARY:Sunday Services/Classes
DESCRIPTION:THE SERVICES\nThe 8:45 a.m. worship service is more traditional. The liturgy is followed in a printed program with a mixture of ancient and modern hymns. It is approximately 70 minutes in length. \nThe 11 a.m. worship service is more contemporary. The liturgy is followed on two projection screens with hymns set to modern accompaniment and the newest songs of praise. It is approximately 90 minutes in length. \nCHILDREN IN THE SERVICE\nA Mother’s Room\, with volume-controlled audio of the service\, is available for nursing moms and those with infants. \nChild care for infants through preschoolers is available throughout the service. Children may be picked up at The Peace to partake in Holy Communion with their families. \nKindergarteners through sixth graders follow the cross out of the sanctuary after the Gospel reading for Encounter KIDS\, a creative time of worship designed specifically for kids\, before returning for Holy Communion. \nBETWEEN THE SERVICES\nClasses for all age groups are available between services (10:10-10:50 a.m.). \nBeginnings\nMusic class for toddlers and preschoolers is held in the preschool room. Child care for infants in available in the infant room. \nENCOUNTER kids\nChildren learn about our faith in Christ in an age-appropriate way. \nDASH\nSeventh through twelfth graders participate in teaching and discussion on a companion verse or parallel topic to the day’s sermon. \nAdults\nWe always have several classes for adults\, find out the current offerings here.
URL:https://saclr.org/event/sunday-services/2022-08-14/
CATEGORIES:Worship
END:VEVENT
BEGIN:VEVENT
DTSTART;TZID=America/Chicago:20220811T190000
DTEND;TZID=America/Chicago:20220811T210000
DTSTAMP:20260420T025822
CREATED:20220707T184516Z
LAST-MODIFIED:20220707T184516Z
UID:10001276-1660244400-1660251600@saclr.org
SUMMARY:Women's Ministry Gathering
DESCRIPTION:Join us for dessert at Cindy’s. Drop in anytime!
URL:https://saclr.org/event/womens-ministry-gathering/
LOCATION:Bequette’s home\, 5525 N. Grandview\, Little Rock\, 72207
GEO:34.778761;-92.335274
X-APPLE-STRUCTURED-LOCATION;VALUE=URI;X-ADDRESS=Bequette’s home 5525 N. Grandview Little Rock 72207;X-APPLE-RADIUS=500;X-TITLE=5525 N. Grandview:geo:-92.335274,34.778761
END:VEVENT
BEGIN:VEVENT
DTSTART;TZID=America/Chicago:20220810T180000
DTEND;TZID=America/Chicago:20220810T200000
DTSTAMP:20260420T025822
CREATED:20150922T063132Z
LAST-MODIFIED:20241212T222527Z
UID:10000845-1660154400-1660161600@saclr.org
SUMMARY:DASH (Wednesday)
DESCRIPTION:Sixth through twelfth graders enjoy dinner at 6 p.m. Worship and teaching on Gospel basics begins at 7 p.m.
URL:https://saclr.org/event/dash-wednesday/2022-08-10/
CATEGORIES:Youth Ministry
END:VEVENT
BEGIN:VEVENT
DTSTART;TZID=America/Chicago:20220809T121500
DTEND;TZID=America/Chicago:20220809T131500
DTSTAMP:20260420T025822
CREATED:20190104T012627Z
LAST-MODIFIED:20250828T140023Z
UID:10001597-1660047300-1660050900@saclr.org
SUMMARY:Men's Bible Fellowship
DESCRIPTION:More information available here
URL:https://saclr.org/event/mens-bible-fellowship-2/2022-08-09/
END:VEVENT
BEGIN:VEVENT
DTSTART;VALUE=DATE:20220807
DTEND;VALUE=DATE:20220808
DTSTAMP:20260420T025822
CREATED:20150922T051243Z
LAST-MODIFIED:20230808T202317Z
UID:10001074-1659830400-1659916799@saclr.org
SUMMARY:Sunday Services/Classes
DESCRIPTION:THE SERVICES\nThe 8:45 a.m. worship service is more traditional. The liturgy is followed in a printed program with a mixture of ancient and modern hymns. It is approximately 70 minutes in length. \nThe 11 a.m. worship service is more contemporary. The liturgy is followed on two projection screens with hymns set to modern accompaniment and the newest songs of praise. It is approximately 90 minutes in length. \nCHILDREN IN THE SERVICE\nA Mother’s Room\, with volume-controlled audio of the service\, is available for nursing moms and those with infants. \nChild care for infants through preschoolers is available throughout the service. Children may be picked up at The Peace to partake in Holy Communion with their families. \nKindergarteners through sixth graders follow the cross out of the sanctuary after the Gospel reading for Encounter KIDS\, a creative time of worship designed specifically for kids\, before returning for Holy Communion. \nBETWEEN THE SERVICES\nClasses for all age groups are available between services (10:10-10:50 a.m.). \nBeginnings\nMusic class for toddlers and preschoolers is held in the preschool room. Child care for infants in available in the infant room. \nENCOUNTER kids\nChildren learn about our faith in Christ in an age-appropriate way. \nDASH\nSeventh through twelfth graders participate in teaching and discussion on a companion verse or parallel topic to the day’s sermon. \nAdults\nWe always have several classes for adults\, find out the current offerings here.
URL:https://saclr.org/event/sunday-services/2022-08-07/
CATEGORIES:Worship
END:VEVENT
BEGIN:VEVENT
DTSTART;TZID=America/Chicago:20220803T180000
DTEND;TZID=America/Chicago:20220803T200000
DTSTAMP:20260420T025822
CREATED:20150922T063132Z
LAST-MODIFIED:20241212T222527Z
UID:10000844-1659549600-1659556800@saclr.org
SUMMARY:DASH (Wednesday)
DESCRIPTION:Sixth through twelfth graders enjoy dinner at 6 p.m. Worship and teaching on Gospel basics begins at 7 p.m.
URL:https://saclr.org/event/dash-wednesday/2022-08-03/
CATEGORIES:Youth Ministry
END:VEVENT
BEGIN:VEVENT
DTSTART;TZID=America/Chicago:20220802T121500
DTEND;TZID=America/Chicago:20220802T131500
DTSTAMP:20260420T025822
CREATED:20190104T012627Z
LAST-MODIFIED:20250828T140023Z
UID:10001596-1659442500-1659446100@saclr.org
SUMMARY:Men's Bible Fellowship
DESCRIPTION:More information available here
URL:https://saclr.org/event/mens-bible-fellowship-2/2022-08-02/
END:VEVENT
BEGIN:VEVENT
DTSTART;TZID=America/Chicago:20220731T180000
DTEND;TZID=America/Chicago:20220731T203000
DTSTAMP:20260420T025822
CREATED:20220721T203615Z
LAST-MODIFIED:20220721T203615Z
UID:10001283-1659290400-1659299400@saclr.org
SUMMARY:Young Adult Gathering at The Rail Yard
DESCRIPTION:Calling all young adults (21-30ish)! Join other St. Andrew’s young adults at The Rail Yard (1212 East 6th Street\, Suite 1; 72202) on Sunday July 31\, from 6-8:30 p.m. for food trucks\, hanging out and playing lawn games. Questions? Contact Ben Valentine (501.247.7070).
URL:https://saclr.org/event/young-adult-gathering-at-the-rail-yard/
END:VEVENT
BEGIN:VEVENT
DTSTART;VALUE=DATE:20220731
DTEND;VALUE=DATE:20220801
DTSTAMP:20260420T025822
CREATED:20150922T051243Z
LAST-MODIFIED:20230808T202317Z
UID:10001073-1659225600-1659311999@saclr.org
SUMMARY:Sunday Services/Classes
DESCRIPTION:THE SERVICES\nThe 8:45 a.m. worship service is more traditional. The liturgy is followed in a printed program with a mixture of ancient and modern hymns. It is approximately 70 minutes in length. \nThe 11 a.m. worship service is more contemporary. The liturgy is followed on two projection screens with hymns set to modern accompaniment and the newest songs of praise. It is approximately 90 minutes in length. \nCHILDREN IN THE SERVICE\nA Mother’s Room\, with volume-controlled audio of the service\, is available for nursing moms and those with infants. \nChild care for infants through preschoolers is available throughout the service. Children may be picked up at The Peace to partake in Holy Communion with their families. \nKindergarteners through sixth graders follow the cross out of the sanctuary after the Gospel reading for Encounter KIDS\, a creative time of worship designed specifically for kids\, before returning for Holy Communion. \nBETWEEN THE SERVICES\nClasses for all age groups are available between services (10:10-10:50 a.m.). \nBeginnings\nMusic class for toddlers and preschoolers is held in the preschool room. Child care for infants in available in the infant room. \nENCOUNTER kids\nChildren learn about our faith in Christ in an age-appropriate way. \nDASH\nSeventh through twelfth graders participate in teaching and discussion on a companion verse or parallel topic to the day’s sermon. \nAdults\nWe always have several classes for adults\, find out the current offerings here.
URL:https://saclr.org/event/sunday-services/2022-07-31/
CATEGORIES:Worship
END:VEVENT
BEGIN:VEVENT
DTSTART;TZID=America/Chicago:20220727T180000
DTEND;TZID=America/Chicago:20220727T200000
DTSTAMP:20260420T025822
CREATED:20150922T063132Z
LAST-MODIFIED:20241212T222527Z
UID:10000843-1658944800-1658952000@saclr.org
SUMMARY:DASH (Wednesday)
DESCRIPTION:Sixth through twelfth graders enjoy dinner at 6 p.m. Worship and teaching on Gospel basics begins at 7 p.m.
URL:https://saclr.org/event/dash-wednesday/2022-07-27/
CATEGORIES:Youth Ministry
END:VEVENT
BEGIN:VEVENT
DTSTART;TZID=America/Chicago:20220726T121500
DTEND;TZID=America/Chicago:20220726T131500
DTSTAMP:20260420T025822
CREATED:20190104T012627Z
LAST-MODIFIED:20250828T140023Z
UID:10001595-1658837700-1658841300@saclr.org
SUMMARY:Men's Bible Fellowship
DESCRIPTION:More information available here
URL:https://saclr.org/event/mens-bible-fellowship-2/2022-07-26/
END:VEVENT
BEGIN:VEVENT
DTSTART;VALUE=DATE:20220724
DTEND;VALUE=DATE:20220725
DTSTAMP:20260420T025822
CREATED:20150922T051243Z
LAST-MODIFIED:20230808T202317Z
UID:10001072-1658620800-1658707199@saclr.org
SUMMARY:Sunday Services/Classes
DESCRIPTION:THE SERVICES\nThe 8:45 a.m. worship service is more traditional. The liturgy is followed in a printed program with a mixture of ancient and modern hymns. It is approximately 70 minutes in length. \nThe 11 a.m. worship service is more contemporary. The liturgy is followed on two projection screens with hymns set to modern accompaniment and the newest songs of praise. It is approximately 90 minutes in length. \nCHILDREN IN THE SERVICE\nA Mother’s Room\, with volume-controlled audio of the service\, is available for nursing moms and those with infants. \nChild care for infants through preschoolers is available throughout the service. Children may be picked up at The Peace to partake in Holy Communion with their families. \nKindergarteners through sixth graders follow the cross out of the sanctuary after the Gospel reading for Encounter KIDS\, a creative time of worship designed specifically for kids\, before returning for Holy Communion. \nBETWEEN THE SERVICES\nClasses for all age groups are available between services (10:10-10:50 a.m.). \nBeginnings\nMusic class for toddlers and preschoolers is held in the preschool room. Child care for infants in available in the infant room. \nENCOUNTER kids\nChildren learn about our faith in Christ in an age-appropriate way. \nDASH\nSeventh through twelfth graders participate in teaching and discussion on a companion verse or parallel topic to the day’s sermon. \nAdults\nWe always have several classes for adults\, find out the current offerings here.
URL:https://saclr.org/event/sunday-services/2022-07-24/
CATEGORIES:Worship
END:VEVENT
BEGIN:VEVENT
DTSTART;TZID=America/Chicago:20220720T180000
DTEND;TZID=America/Chicago:20220720T200000
DTSTAMP:20260420T025822
CREATED:20150922T063132Z
LAST-MODIFIED:20241212T222527Z
UID:10000842-1658340000-1658347200@saclr.org
SUMMARY:DASH (Wednesday)
DESCRIPTION:Sixth through twelfth graders enjoy dinner at 6 p.m. Worship and teaching on Gospel basics begins at 7 p.m.
URL:https://saclr.org/event/dash-wednesday/2022-07-20/
CATEGORIES:Youth Ministry
END:VEVENT
END:VCALENDAR