BEGIN:VCALENDAR
VERSION:2.0
PRODID:-//St. Andrew&#039;s Anglican Church - ECPv6.7.0//NONSGML v1.0//EN
CALSCALE:GREGORIAN
METHOD:PUBLISH
X-WR-CALNAME:St. Andrew&#039;s Anglican Church
X-ORIGINAL-URL:https://saclr.org
X-WR-CALDESC:Events for St. Andrew&#039;s Anglican Church
REFRESH-INTERVAL;VALUE=DURATION:PT1H
X-Robots-Tag:noindex
X-PUBLISHED-TTL:PT1H
BEGIN:VTIMEZONE
TZID:America/Chicago
BEGIN:DAYLIGHT
TZOFFSETFROM:-0600
TZOFFSETTO:-0500
TZNAME:CDT
DTSTART:20300310T080000
END:DAYLIGHT
BEGIN:STANDARD
TZOFFSETFROM:-0500
TZOFFSETTO:-0600
TZNAME:CST
DTSTART:20301103T070000
END:STANDARD
END:VTIMEZONE
BEGIN:VEVENT
DTSTART;VALUE=DATE:20300210
DTEND;VALUE=DATE:20300211
DTSTAMP:20260420T025743
CREATED:20241219T181747Z
LAST-MODIFIED:20250312T155022Z
UID:10004203-1896912000-1896998399@saclr.org
SUMMARY:Sunday services & classes
DESCRIPTION:THE SERVICES\nThe 8:45 a.m. worship service is more traditional. The liturgy is followed in a printed program with a mixture of ancient and modern hymns. It is approximately 70 minutes in length. \nThe 11 a.m. worship service is more contemporary. The liturgy is followed on two projection screens with hymns set to modern accompaniment and the newest songs of praise. It is approximately 90 minutes in length. \n  \nCHILDREN IN THE SERVICE\nA Mother’s Room\, with live stream of the service\, is available for nursing moms and those with infants. \n\nBeginnings\nChild care for infants through preschoolers is available throughout the service. Children may be picked up at The Peace to partake in Holy Communion with their families. \n\nENCOUNTER kids\nKindergarteners through fifth graders follow the cross out of the sanctuary after the Gospel reading for Encounter KIDS\, a creative time of worship designed specifically for kids\, before returning for Holy Communion. \n  \nBETWEEN THE SERVICES\nClasses for all age groups are available between services (10:10-10:50 a.m.). \n\nBeginnings\nMusic class for toddlers and preschoolers is held in the preschool room. Child care for infants in available in the infant room. \n\nENCOUNTER kids\nChildren learn about our faith in Christ in an age-appropriate way. \n\nDash\nSixth through twelfth graders participate in teaching and discussion on a companion verse or parallel topic to the day’s sermon. \n\nAdults\nWe always have several classes for adults\, find out the current offerings here.
URL:https://saclr.org/event/sunday-services-classes-2-2/2030-02-10/
END:VEVENT
BEGIN:VEVENT
DTSTART;TZID=America/Chicago:20300212T121500
DTEND;TZID=America/Chicago:20300212T131500
DTSTAMP:20260420T025743
CREATED:20190104T012627Z
LAST-MODIFIED:20250828T140023Z
UID:10004337-1897128900-1897132500@saclr.org
SUMMARY:Men's Bible Fellowship
DESCRIPTION:More information available here
URL:https://saclr.org/event/mens-bible-fellowship-2/2030-02-12/
END:VEVENT
BEGIN:VEVENT
DTSTART;VALUE=DATE:20300217
DTEND;VALUE=DATE:20300218
DTSTAMP:20260420T025743
CREATED:20241219T181747Z
LAST-MODIFIED:20250312T155022Z
UID:10004204-1897516800-1897603199@saclr.org
SUMMARY:Sunday services & classes
DESCRIPTION:THE SERVICES\nThe 8:45 a.m. worship service is more traditional. The liturgy is followed in a printed program with a mixture of ancient and modern hymns. It is approximately 70 minutes in length. \nThe 11 a.m. worship service is more contemporary. The liturgy is followed on two projection screens with hymns set to modern accompaniment and the newest songs of praise. It is approximately 90 minutes in length. \n  \nCHILDREN IN THE SERVICE\nA Mother’s Room\, with live stream of the service\, is available for nursing moms and those with infants. \n\nBeginnings\nChild care for infants through preschoolers is available throughout the service. Children may be picked up at The Peace to partake in Holy Communion with their families. \n\nENCOUNTER kids\nKindergarteners through fifth graders follow the cross out of the sanctuary after the Gospel reading for Encounter KIDS\, a creative time of worship designed specifically for kids\, before returning for Holy Communion. \n  \nBETWEEN THE SERVICES\nClasses for all age groups are available between services (10:10-10:50 a.m.). \n\nBeginnings\nMusic class for toddlers and preschoolers is held in the preschool room. Child care for infants in available in the infant room. \n\nENCOUNTER kids\nChildren learn about our faith in Christ in an age-appropriate way. \n\nDash\nSixth through twelfth graders participate in teaching and discussion on a companion verse or parallel topic to the day’s sermon. \n\nAdults\nWe always have several classes for adults\, find out the current offerings here.
URL:https://saclr.org/event/sunday-services-classes-2-2/2030-02-17/
END:VEVENT
BEGIN:VEVENT
DTSTART;TZID=America/Chicago:20300219T121500
DTEND;TZID=America/Chicago:20300219T131500
DTSTAMP:20260420T025743
CREATED:20190104T012627Z
LAST-MODIFIED:20250828T140023Z
UID:10004338-1897733700-1897737300@saclr.org
SUMMARY:Men's Bible Fellowship
DESCRIPTION:More information available here
URL:https://saclr.org/event/mens-bible-fellowship-2/2030-02-19/
END:VEVENT
BEGIN:VEVENT
DTSTART;VALUE=DATE:20300224
DTEND;VALUE=DATE:20300225
DTSTAMP:20260420T025743
CREATED:20241219T181747Z
LAST-MODIFIED:20250312T155022Z
UID:10004205-1898121600-1898207999@saclr.org
SUMMARY:Sunday services & classes
DESCRIPTION:THE SERVICES\nThe 8:45 a.m. worship service is more traditional. The liturgy is followed in a printed program with a mixture of ancient and modern hymns. It is approximately 70 minutes in length. \nThe 11 a.m. worship service is more contemporary. The liturgy is followed on two projection screens with hymns set to modern accompaniment and the newest songs of praise. It is approximately 90 minutes in length. \n  \nCHILDREN IN THE SERVICE\nA Mother’s Room\, with live stream of the service\, is available for nursing moms and those with infants. \n\nBeginnings\nChild care for infants through preschoolers is available throughout the service. Children may be picked up at The Peace to partake in Holy Communion with their families. \n\nENCOUNTER kids\nKindergarteners through fifth graders follow the cross out of the sanctuary after the Gospel reading for Encounter KIDS\, a creative time of worship designed specifically for kids\, before returning for Holy Communion. \n  \nBETWEEN THE SERVICES\nClasses for all age groups are available between services (10:10-10:50 a.m.). \n\nBeginnings\nMusic class for toddlers and preschoolers is held in the preschool room. Child care for infants in available in the infant room. \n\nENCOUNTER kids\nChildren learn about our faith in Christ in an age-appropriate way. \n\nDash\nSixth through twelfth graders participate in teaching and discussion on a companion verse or parallel topic to the day’s sermon. \n\nAdults\nWe always have several classes for adults\, find out the current offerings here.
URL:https://saclr.org/event/sunday-services-classes-2-2/2030-02-24/
END:VEVENT
BEGIN:VEVENT
DTSTART;TZID=America/Chicago:20300226T121500
DTEND;TZID=America/Chicago:20300226T131500
DTSTAMP:20260420T025743
CREATED:20190104T012627Z
LAST-MODIFIED:20250828T140023Z
UID:10004339-1898338500-1898342100@saclr.org
SUMMARY:Men's Bible Fellowship
DESCRIPTION:More information available here
URL:https://saclr.org/event/mens-bible-fellowship-2/2030-02-26/
END:VEVENT
BEGIN:VEVENT
DTSTART;VALUE=DATE:20300303
DTEND;VALUE=DATE:20300304
DTSTAMP:20260420T025743
CREATED:20241219T181747Z
LAST-MODIFIED:20250312T155022Z
UID:10004206-1898726400-1898812799@saclr.org
SUMMARY:Sunday services & classes
DESCRIPTION:THE SERVICES\nThe 8:45 a.m. worship service is more traditional. The liturgy is followed in a printed program with a mixture of ancient and modern hymns. It is approximately 70 minutes in length. \nThe 11 a.m. worship service is more contemporary. The liturgy is followed on two projection screens with hymns set to modern accompaniment and the newest songs of praise. It is approximately 90 minutes in length. \n  \nCHILDREN IN THE SERVICE\nA Mother’s Room\, with live stream of the service\, is available for nursing moms and those with infants. \n\nBeginnings\nChild care for infants through preschoolers is available throughout the service. Children may be picked up at The Peace to partake in Holy Communion with their families. \n\nENCOUNTER kids\nKindergarteners through fifth graders follow the cross out of the sanctuary after the Gospel reading for Encounter KIDS\, a creative time of worship designed specifically for kids\, before returning for Holy Communion. \n  \nBETWEEN THE SERVICES\nClasses for all age groups are available between services (10:10-10:50 a.m.). \n\nBeginnings\nMusic class for toddlers and preschoolers is held in the preschool room. Child care for infants in available in the infant room. \n\nENCOUNTER kids\nChildren learn about our faith in Christ in an age-appropriate way. \n\nDash\nSixth through twelfth graders participate in teaching and discussion on a companion verse or parallel topic to the day’s sermon. \n\nAdults\nWe always have several classes for adults\, find out the current offerings here.
URL:https://saclr.org/event/sunday-services-classes-2-2/2030-03-03/
END:VEVENT
BEGIN:VEVENT
DTSTART;TZID=America/Chicago:20300305T121500
DTEND;TZID=America/Chicago:20300305T131500
DTSTAMP:20260420T025743
CREATED:20190104T012627Z
LAST-MODIFIED:20250828T140023Z
UID:10004340-1898943300-1898946900@saclr.org
SUMMARY:Men's Bible Fellowship
DESCRIPTION:More information available here
URL:https://saclr.org/event/mens-bible-fellowship-2/2030-03-05/
END:VEVENT
BEGIN:VEVENT
DTSTART;VALUE=DATE:20300310
DTEND;VALUE=DATE:20300311
DTSTAMP:20260420T025743
CREATED:20241219T181747Z
LAST-MODIFIED:20250312T155022Z
UID:10004207-1899331200-1899417599@saclr.org
SUMMARY:Sunday services & classes
DESCRIPTION:THE SERVICES\nThe 8:45 a.m. worship service is more traditional. The liturgy is followed in a printed program with a mixture of ancient and modern hymns. It is approximately 70 minutes in length. \nThe 11 a.m. worship service is more contemporary. The liturgy is followed on two projection screens with hymns set to modern accompaniment and the newest songs of praise. It is approximately 90 minutes in length. \n  \nCHILDREN IN THE SERVICE\nA Mother’s Room\, with live stream of the service\, is available for nursing moms and those with infants. \n\nBeginnings\nChild care for infants through preschoolers is available throughout the service. Children may be picked up at The Peace to partake in Holy Communion with their families. \n\nENCOUNTER kids\nKindergarteners through fifth graders follow the cross out of the sanctuary after the Gospel reading for Encounter KIDS\, a creative time of worship designed specifically for kids\, before returning for Holy Communion. \n  \nBETWEEN THE SERVICES\nClasses for all age groups are available between services (10:10-10:50 a.m.). \n\nBeginnings\nMusic class for toddlers and preschoolers is held in the preschool room. Child care for infants in available in the infant room. \n\nENCOUNTER kids\nChildren learn about our faith in Christ in an age-appropriate way. \n\nDash\nSixth through twelfth graders participate in teaching and discussion on a companion verse or parallel topic to the day’s sermon. \n\nAdults\nWe always have several classes for adults\, find out the current offerings here.
URL:https://saclr.org/event/sunday-services-classes-2-2/2030-03-10/
END:VEVENT
BEGIN:VEVENT
DTSTART;TZID=America/Chicago:20300312T121500
DTEND;TZID=America/Chicago:20300312T131500
DTSTAMP:20260420T025743
CREATED:20190104T012627Z
LAST-MODIFIED:20250828T140023Z
UID:10004341-1899548100-1899551700@saclr.org
SUMMARY:Men's Bible Fellowship
DESCRIPTION:More information available here
URL:https://saclr.org/event/mens-bible-fellowship-2/2030-03-12/
END:VEVENT
BEGIN:VEVENT
DTSTART;TZID=America/Chicago:20300319T121500
DTEND;TZID=America/Chicago:20300319T131500
DTSTAMP:20260420T025743
CREATED:20190104T012627Z
LAST-MODIFIED:20250828T140023Z
UID:10004342-1900152900-1900156500@saclr.org
SUMMARY:Men's Bible Fellowship
DESCRIPTION:More information available here
URL:https://saclr.org/event/mens-bible-fellowship-2/2030-03-19/
END:VEVENT
BEGIN:VEVENT
DTSTART;TZID=America/Chicago:20300326T121500
DTEND;TZID=America/Chicago:20300326T131500
DTSTAMP:20260420T025743
CREATED:20190104T012627Z
LAST-MODIFIED:20250828T140023Z
UID:10004343-1900757700-1900761300@saclr.org
SUMMARY:Men's Bible Fellowship
DESCRIPTION:More information available here
URL:https://saclr.org/event/mens-bible-fellowship-2/2030-03-26/
END:VEVENT
BEGIN:VEVENT
DTSTART;TZID=America/Chicago:20300402T121500
DTEND;TZID=America/Chicago:20300402T131500
DTSTAMP:20260420T025743
CREATED:20190104T012627Z
LAST-MODIFIED:20250828T140023Z
UID:10004344-1901362500-1901366100@saclr.org
SUMMARY:Men's Bible Fellowship
DESCRIPTION:More information available here
URL:https://saclr.org/event/mens-bible-fellowship-2/2030-04-02/
END:VEVENT
BEGIN:VEVENT
DTSTART;TZID=America/Chicago:20300409T121500
DTEND;TZID=America/Chicago:20300409T131500
DTSTAMP:20260420T025743
CREATED:20190104T012627Z
LAST-MODIFIED:20250828T140023Z
UID:10004345-1901967300-1901970900@saclr.org
SUMMARY:Men's Bible Fellowship
DESCRIPTION:More information available here
URL:https://saclr.org/event/mens-bible-fellowship-2/2030-04-09/
END:VEVENT
BEGIN:VEVENT
DTSTART;TZID=America/Chicago:20300416T121500
DTEND;TZID=America/Chicago:20300416T131500
DTSTAMP:20260420T025743
CREATED:20190104T012627Z
LAST-MODIFIED:20250828T140023Z
UID:10004346-1902572100-1902575700@saclr.org
SUMMARY:Men's Bible Fellowship
DESCRIPTION:More information available here
URL:https://saclr.org/event/mens-bible-fellowship-2/2030-04-16/
END:VEVENT
BEGIN:VEVENT
DTSTART;TZID=America/Chicago:20300423T121500
DTEND;TZID=America/Chicago:20300423T131500
DTSTAMP:20260420T025743
CREATED:20190104T012627Z
LAST-MODIFIED:20250828T140023Z
UID:10004347-1903176900-1903180500@saclr.org
SUMMARY:Men's Bible Fellowship
DESCRIPTION:More information available here
URL:https://saclr.org/event/mens-bible-fellowship-2/2030-04-23/
END:VEVENT
BEGIN:VEVENT
DTSTART;TZID=America/Chicago:20300430T121500
DTEND;TZID=America/Chicago:20300430T131500
DTSTAMP:20260420T025743
CREATED:20190104T012627Z
LAST-MODIFIED:20250828T140023Z
UID:10004348-1903781700-1903785300@saclr.org
SUMMARY:Men's Bible Fellowship
DESCRIPTION:More information available here
URL:https://saclr.org/event/mens-bible-fellowship-2/2030-04-30/
END:VEVENT
BEGIN:VEVENT
DTSTART;TZID=America/Chicago:20300507T121500
DTEND;TZID=America/Chicago:20300507T131500
DTSTAMP:20260420T025743
CREATED:20190104T012627Z
LAST-MODIFIED:20250828T140023Z
UID:10004349-1904386500-1904390100@saclr.org
SUMMARY:Men's Bible Fellowship
DESCRIPTION:More information available here
URL:https://saclr.org/event/mens-bible-fellowship-2/2030-05-07/
END:VEVENT
BEGIN:VEVENT
DTSTART;TZID=America/Chicago:20300514T121500
DTEND;TZID=America/Chicago:20300514T131500
DTSTAMP:20260420T025743
CREATED:20190104T012627Z
LAST-MODIFIED:20250828T140023Z
UID:10004350-1904991300-1904994900@saclr.org
SUMMARY:Men's Bible Fellowship
DESCRIPTION:More information available here
URL:https://saclr.org/event/mens-bible-fellowship-2/2030-05-14/
END:VEVENT
BEGIN:VEVENT
DTSTART;TZID=America/Chicago:20300521T121500
DTEND;TZID=America/Chicago:20300521T131500
DTSTAMP:20260420T025743
CREATED:20190104T012627Z
LAST-MODIFIED:20250828T140023Z
UID:10004351-1905596100-1905599700@saclr.org
SUMMARY:Men's Bible Fellowship
DESCRIPTION:More information available here
URL:https://saclr.org/event/mens-bible-fellowship-2/2030-05-21/
END:VEVENT
BEGIN:VEVENT
DTSTART;TZID=America/Chicago:20300528T121500
DTEND;TZID=America/Chicago:20300528T131500
DTSTAMP:20260420T025743
CREATED:20190104T012627Z
LAST-MODIFIED:20250828T140023Z
UID:10004352-1906200900-1906204500@saclr.org
SUMMARY:Men's Bible Fellowship
DESCRIPTION:More information available here
URL:https://saclr.org/event/mens-bible-fellowship-2/2030-05-28/
END:VEVENT
BEGIN:VEVENT
DTSTART;TZID=America/Chicago:20300604T121500
DTEND;TZID=America/Chicago:20300604T131500
DTSTAMP:20260420T025743
CREATED:20190104T012627Z
LAST-MODIFIED:20250828T140023Z
UID:10004353-1906805700-1906809300@saclr.org
SUMMARY:Men's Bible Fellowship
DESCRIPTION:More information available here
URL:https://saclr.org/event/mens-bible-fellowship-2/2030-06-04/
END:VEVENT
BEGIN:VEVENT
DTSTART;TZID=America/Chicago:20300611T121500
DTEND;TZID=America/Chicago:20300611T131500
DTSTAMP:20260420T025743
CREATED:20190104T012627Z
LAST-MODIFIED:20250828T140023Z
UID:10004354-1907410500-1907414100@saclr.org
SUMMARY:Men's Bible Fellowship
DESCRIPTION:More information available here
URL:https://saclr.org/event/mens-bible-fellowship-2/2030-06-11/
END:VEVENT
BEGIN:VEVENT
DTSTART;TZID=America/Chicago:20300618T121500
DTEND;TZID=America/Chicago:20300618T131500
DTSTAMP:20260420T025743
CREATED:20190104T012627Z
LAST-MODIFIED:20250828T140023Z
UID:10004355-1908015300-1908018900@saclr.org
SUMMARY:Men's Bible Fellowship
DESCRIPTION:More information available here
URL:https://saclr.org/event/mens-bible-fellowship-2/2030-06-18/
END:VEVENT
BEGIN:VEVENT
DTSTART;TZID=America/Chicago:20300625T121500
DTEND;TZID=America/Chicago:20300625T131500
DTSTAMP:20260420T025743
CREATED:20190104T012627Z
LAST-MODIFIED:20250828T140023Z
UID:10004356-1908620100-1908623700@saclr.org
SUMMARY:Men's Bible Fellowship
DESCRIPTION:More information available here
URL:https://saclr.org/event/mens-bible-fellowship-2/2030-06-25/
END:VEVENT
BEGIN:VEVENT
DTSTART;TZID=America/Chicago:20300702T121500
DTEND;TZID=America/Chicago:20300702T131500
DTSTAMP:20260420T025743
CREATED:20190104T012627Z
LAST-MODIFIED:20250828T140023Z
UID:10004357-1909224900-1909228500@saclr.org
SUMMARY:Men's Bible Fellowship
DESCRIPTION:More information available here
URL:https://saclr.org/event/mens-bible-fellowship-2/2030-07-02/
END:VEVENT
BEGIN:VEVENT
DTSTART;TZID=America/Chicago:20300709T121500
DTEND;TZID=America/Chicago:20300709T131500
DTSTAMP:20260420T025743
CREATED:20190104T012627Z
LAST-MODIFIED:20250828T140023Z
UID:10004358-1909829700-1909833300@saclr.org
SUMMARY:Men's Bible Fellowship
DESCRIPTION:More information available here
URL:https://saclr.org/event/mens-bible-fellowship-2/2030-07-09/
END:VEVENT
BEGIN:VEVENT
DTSTART;TZID=America/Chicago:20300716T121500
DTEND;TZID=America/Chicago:20300716T131500
DTSTAMP:20260420T025743
CREATED:20190104T012627Z
LAST-MODIFIED:20250828T140023Z
UID:10004359-1910434500-1910438100@saclr.org
SUMMARY:Men's Bible Fellowship
DESCRIPTION:More information available here
URL:https://saclr.org/event/mens-bible-fellowship-2/2030-07-16/
END:VEVENT
BEGIN:VEVENT
DTSTART;TZID=America/Chicago:20300723T121500
DTEND;TZID=America/Chicago:20300723T131500
DTSTAMP:20260420T025743
CREATED:20190104T012627Z
LAST-MODIFIED:20250828T140023Z
UID:10004360-1911039300-1911042900@saclr.org
SUMMARY:Men's Bible Fellowship
DESCRIPTION:More information available here
URL:https://saclr.org/event/mens-bible-fellowship-2/2030-07-23/
END:VEVENT
BEGIN:VEVENT
DTSTART;TZID=America/Chicago:20300730T121500
DTEND;TZID=America/Chicago:20300730T131500
DTSTAMP:20260420T025743
CREATED:20190104T012627Z
LAST-MODIFIED:20250828T140023Z
UID:10004361-1911644100-1911647700@saclr.org
SUMMARY:Men's Bible Fellowship
DESCRIPTION:More information available here
URL:https://saclr.org/event/mens-bible-fellowship-2/2030-07-30/
END:VEVENT
END:VCALENDAR