BEGIN:VCALENDAR
VERSION:2.0
PRODID:-//St. Andrew&#039;s Anglican Church - ECPv6.7.0//NONSGML v1.0//EN
CALSCALE:GREGORIAN
METHOD:PUBLISH
X-WR-CALNAME:St. Andrew&#039;s Anglican Church
X-ORIGINAL-URL:https://saclr.org
X-WR-CALDESC:Events for St. Andrew&#039;s Anglican Church
REFRESH-INTERVAL;VALUE=DURATION:PT1H
X-Robots-Tag:noindex
X-PUBLISHED-TTL:PT1H
BEGIN:VTIMEZONE
TZID:America/Chicago
BEGIN:DAYLIGHT
TZOFFSETFROM:-0600
TZOFFSETTO:-0500
TZNAME:CDT
DTSTART:20160313T080000
END:DAYLIGHT
BEGIN:STANDARD
TZOFFSETFROM:-0500
TZOFFSETTO:-0600
TZNAME:CST
DTSTART:20161106T070000
END:STANDARD
END:VTIMEZONE
BEGIN:VEVENT
DTSTART;TZID=America/Chicago:20160713T180000
DTEND;TZID=America/Chicago:20160713T203000
DTSTAMP:20260424T095114
CREATED:20150922T063351Z
LAST-MODIFIED:20150922T063351Z
UID:10000304-1468432800-1468441800@saclr.org
SUMMARY:Growing in Grace (GiG)
DESCRIPTION:A complimentary dinner is followed by a recovery service and a small-group\, 12-step-style meeting.
URL:https://saclr.org/event/growing-in-grace-gig/2016-07-13/
CATEGORIES:Adult Ministry
END:VEVENT
BEGIN:VEVENT
DTSTART;TZID=America/Chicago:20160713T180000
DTEND;TZID=America/Chicago:20160713T200000
DTSTAMP:20260424T095114
CREATED:20150922T063132Z
LAST-MODIFIED:20241212T222527Z
UID:10000530-1468432800-1468440000@saclr.org
SUMMARY:DASH (Wednesday)
DESCRIPTION:Sixth through twelfth graders enjoy dinner at 6 p.m. Worship and teaching on Gospel basics begins at 7 p.m.
URL:https://saclr.org/event/dash-wednesday/2016-07-13/
CATEGORIES:Youth Ministry
END:VEVENT
BEGIN:VEVENT
DTSTART;TZID=America/Chicago:20160713T120000
DTEND;TZID=America/Chicago:20160713T130000
DTSTAMP:20260424T095114
CREATED:20150922T063804Z
LAST-MODIFIED:20150922T063804Z
UID:10001343-1468411200-1468414800@saclr.org
SUMMARY:Men's Bible Fellowship
DESCRIPTION:Men of all ages are invited to gather in the Commons at noon on Wednesday for lively biblical discussion. Bring your lunch and join us as we delve into his Word\, establish new friendships and have a little fun.
URL:https://saclr.org/event/mens-bible-fellowship/2016-07-13/
CATEGORIES:Adult Ministry
END:VEVENT
BEGIN:VEVENT
DTSTART;TZID=America/Chicago:20160708T100000
DTEND;TZID=America/Chicago:20160708T120000
DTSTAMP:20260424T095114
CREATED:20150924T112140Z
LAST-MODIFIED:20150924T112140Z
UID:10001264-1467972000-1467979200@saclr.org
SUMMARY:Prayer Shawl Ministry
DESCRIPTION:
URL:https://saclr.org/event/prayer-shawl-ministry/2016-07-08/
LOCATION:Library
END:VEVENT
BEGIN:VEVENT
DTSTART;TZID=America/Chicago:20160707T183000
DTEND;TZID=America/Chicago:20160707T200000
DTSTAMP:20260424T095114
CREATED:20150922T064540Z
LAST-MODIFIED:20150922T064540Z
UID:10001227-1467916200-1467921600@saclr.org
SUMMARY:YoungLife Capernaum
DESCRIPTION:High School and young adults with special needs are invited to join us for fun\, music\, food & small group time. We can’t wait to see you there!
URL:https://saclr.org/event/younglife-capernaum-2016-01-28/2016-07-07/
LOCATION:Commons
CATEGORIES:Adult Ministry
ORGANIZER;CN="Kay Michael":MAILTO:kay@saclr.org
END:VEVENT
BEGIN:VEVENT
DTSTART;TZID=America/Chicago:20160706T180000
DTEND;TZID=America/Chicago:20160706T203000
DTSTAMP:20260424T095114
CREATED:20150922T063533Z
LAST-MODIFIED:20150922T063533Z
UID:10000089-1467828000-1467837000@saclr.org
SUMMARY:GiG Kids
DESCRIPTION:Children whose parents attend Growing in Grace enjoy a meal together and learn the Gospel story through the Jesus Storybook Bible.
URL:https://saclr.org/event/gig-kids/2016-07-06/
CATEGORIES:Children's Ministry,Early Childhood
END:VEVENT
BEGIN:VEVENT
DTSTART;TZID=America/Chicago:20160706T180000
DTEND;TZID=America/Chicago:20160706T203000
DTSTAMP:20260424T095114
CREATED:20150922T063351Z
LAST-MODIFIED:20150922T063351Z
UID:10000303-1467828000-1467837000@saclr.org
SUMMARY:Growing in Grace (GiG)
DESCRIPTION:A complimentary dinner is followed by a recovery service and a small-group\, 12-step-style meeting.
URL:https://saclr.org/event/growing-in-grace-gig/2016-07-06/
CATEGORIES:Adult Ministry
END:VEVENT
BEGIN:VEVENT
DTSTART;TZID=America/Chicago:20160706T180000
DTEND;TZID=America/Chicago:20160706T200000
DTSTAMP:20260424T095114
CREATED:20150922T063132Z
LAST-MODIFIED:20241212T222527Z
UID:10000529-1467828000-1467835200@saclr.org
SUMMARY:DASH (Wednesday)
DESCRIPTION:Sixth through twelfth graders enjoy dinner at 6 p.m. Worship and teaching on Gospel basics begins at 7 p.m.
URL:https://saclr.org/event/dash-wednesday/2016-07-06/
CATEGORIES:Youth Ministry
END:VEVENT
BEGIN:VEVENT
DTSTART;TZID=America/Chicago:20160706T120000
DTEND;TZID=America/Chicago:20160706T130000
DTSTAMP:20260424T095114
CREATED:20150922T063804Z
LAST-MODIFIED:20150922T063804Z
UID:10001342-1467806400-1467810000@saclr.org
SUMMARY:Men's Bible Fellowship
DESCRIPTION:Men of all ages are invited to gather in the Commons at noon on Wednesday for lively biblical discussion. Bring your lunch and join us as we delve into his Word\, establish new friendships and have a little fun.
URL:https://saclr.org/event/mens-bible-fellowship/2016-07-06/
CATEGORIES:Adult Ministry
END:VEVENT
BEGIN:VEVENT
DTSTART;TZID=America/Chicago:20160705T183000
DTEND;TZID=America/Chicago:20160705T203000
DTSTAMP:20260424T095114
CREATED:20160302T223445Z
LAST-MODIFIED:20160302T223445Z
UID:10000014-1467743400-1467750600@saclr.org
SUMMARY:GriefShare
DESCRIPTION:GriefShare is a grief recovery ministry for individuals who have experienced the death of a spouse\, child\, family member or friend. Each of the 13 GriefShare sessions consists of a video seminar\, group support\, and a workbook for personal study involving scripture. This nondenominational program features Christ-centered\, biblical teaching that focuses on grief topics associated with the death of a loved one. The DVD seminar features nationally respected grief experts and real-life stories of people\, followed by a small group discussion about what was seen on the DVD. Many grieving people find they are only beginning the work of healing when friends or family have returned to their daily life routines. No matter the cause of your loved one’s death\, this is an opportunity to be around people who understand what you are feeling. You will learn how to recognize the symptoms of being stuck in grief and that you do not need to live in bondage as a slave to certain emotions. You will learn valuable information about facing your new normal in life and renewing your hope for the future. The cost for seminar materials is $20. \nSession 1 • May 2 • Is This Normal? \nSession 2 • May 9 • Challenges of Grief \nSession 3 • May 16 • The Journey of Grief–Part 1 \nSession 4 •May 23 • The Journey of Grief–Part 2 \nSession 5 • May 31 • Grief and Your Relationships \nSession 6 • June 6 • Why? \nSession 7 • June 13 • Guilt and Anger \nSession 8 • June 20 • Complicating Factors \nSession 9 • June 27 • Stuck \nSession 10 • July 5 • Lessons of Grief–Part 1 & Coping with Grief during Holidays \nSession 11 • July 11 • Lessons of Grief–Part 2 \nSession 12 • July 18 • Heaven \nSession 13 • July 25 • What Do I Live for Now?
URL:https://saclr.org/event/griefshare-2-2016-07-04/
LOCATION:Commons
CATEGORIES:Adult Ministry
END:VEVENT
BEGIN:VEVENT
DTSTART;TZID=America/Chicago:20160704T180000
DTEND;TZID=America/Chicago:20160704T200000
DTSTAMP:20260424T095114
CREATED:20150922T044328Z
LAST-MODIFIED:20150922T044328Z
UID:10000256-1467655200-1467662400@saclr.org
SUMMARY:Evening of Prayer & Praise
DESCRIPTION:The first Sunday of every month\, we gather at 6 p.m. for a dedicated time of worship “without the pauses.”
URL:https://saclr.org/event/evening-of-prayer-praise/2016-07-04/
LOCATION:Sanctuary
CATEGORIES:Worship
ORGANIZER;CN="Michael Brymer":MAILTO:michael@saclr.org
END:VEVENT
BEGIN:VEVENT
DTSTART;VALUE=DATE:20160704
DTEND;VALUE=DATE:20160705
DTSTAMP:20260424T095114
CREATED:20160115T030111Z
LAST-MODIFIED:20160115T030111Z
UID:10001401-1467590400-1467676799@saclr.org
SUMMARY:Independence Day
DESCRIPTION:Church office closed
URL:https://saclr.org/event/independence-day/
END:VEVENT
BEGIN:VEVENT
DTSTART;TZID=America/Chicago:20160629T180000
DTEND;TZID=America/Chicago:20160629T203000
DTSTAMP:20260424T095114
CREATED:20150922T063533Z
LAST-MODIFIED:20150922T063533Z
UID:10000088-1467223200-1467232200@saclr.org
SUMMARY:GiG Kids
DESCRIPTION:Children whose parents attend Growing in Grace enjoy a meal together and learn the Gospel story through the Jesus Storybook Bible.
URL:https://saclr.org/event/gig-kids/2016-06-29/
CATEGORIES:Children's Ministry,Early Childhood
END:VEVENT
BEGIN:VEVENT
DTSTART;TZID=America/Chicago:20160629T180000
DTEND;TZID=America/Chicago:20160629T203000
DTSTAMP:20260424T095114
CREATED:20150922T063351Z
LAST-MODIFIED:20150922T063351Z
UID:10000302-1467223200-1467232200@saclr.org
SUMMARY:Growing in Grace (GiG)
DESCRIPTION:A complimentary dinner is followed by a recovery service and a small-group\, 12-step-style meeting.
URL:https://saclr.org/event/growing-in-grace-gig/2016-06-29/
CATEGORIES:Adult Ministry
END:VEVENT
BEGIN:VEVENT
DTSTART;TZID=America/Chicago:20160629T180000
DTEND;TZID=America/Chicago:20160629T200000
DTSTAMP:20260424T095114
CREATED:20150922T063132Z
LAST-MODIFIED:20241212T222527Z
UID:10000528-1467223200-1467230400@saclr.org
SUMMARY:DASH (Wednesday)
DESCRIPTION:Sixth through twelfth graders enjoy dinner at 6 p.m. Worship and teaching on Gospel basics begins at 7 p.m.
URL:https://saclr.org/event/dash-wednesday/2016-06-29/
CATEGORIES:Youth Ministry
END:VEVENT
BEGIN:VEVENT
DTSTART;TZID=America/Chicago:20160629T120000
DTEND;TZID=America/Chicago:20160629T130000
DTSTAMP:20260424T095114
CREATED:20150922T063804Z
LAST-MODIFIED:20150922T063804Z
UID:10001341-1467201600-1467205200@saclr.org
SUMMARY:Men's Bible Fellowship
DESCRIPTION:Men of all ages are invited to gather in the Commons at noon on Wednesday for lively biblical discussion. Bring your lunch and join us as we delve into his Word\, establish new friendships and have a little fun.
URL:https://saclr.org/event/mens-bible-fellowship/2016-06-29/
CATEGORIES:Adult Ministry
END:VEVENT
BEGIN:VEVENT
DTSTART;TZID=America/Chicago:20160627T190000
DTEND;TZID=America/Chicago:20160627T210000
DTSTAMP:20260424T095114
CREATED:20150922T065234Z
LAST-MODIFIED:20150922T065234Z
UID:10001387-1467054000-1467061200@saclr.org
SUMMARY:Roots & Wings
DESCRIPTION:Join us at Roots and Wings\, a new\, monthly gathering for moms of teenagers and college students for a time of fellowship\, prayer and encouragement. We have given them roots to always remember that they are loved and always have a place to call home. Now we are learning to give them wings to fly out of our nests.
URL:https://saclr.org/event/roots-wings/2016-06-27/
LOCATION:Cook’s home\, 7 Broadview Dr.\, Little Rock\, AR\, 72207\, United States
CATEGORIES:Women's Ministry
ORGANIZER;CN="Kimberly Cook":MAILTO:kimberlycook@me.com
GEO:34.765922;-92.348264
X-APPLE-STRUCTURED-LOCATION;VALUE=URI;X-ADDRESS=Cook’s home 7 Broadview Dr. Little Rock AR 72207 United States;X-APPLE-RADIUS=500;X-TITLE=7 Broadview Dr.:geo:-92.348264,34.765922
END:VEVENT
BEGIN:VEVENT
DTSTART;TZID=America/Chicago:20160623T183000
DTEND;TZID=America/Chicago:20160623T200000
DTSTAMP:20260424T095114
CREATED:20150922T064540Z
LAST-MODIFIED:20150922T064540Z
UID:10001226-1466706600-1466712000@saclr.org
SUMMARY:YoungLife Capernaum
DESCRIPTION:High School and young adults with special needs are invited to join us for fun\, music\, food & small group time. We can’t wait to see you there!
URL:https://saclr.org/event/younglife-capernaum-2016-01-28/2016-06-23/
LOCATION:Commons
CATEGORIES:Adult Ministry
ORGANIZER;CN="Kay Michael":MAILTO:kay@saclr.org
END:VEVENT
BEGIN:VEVENT
DTSTART;TZID=America/Chicago:20160622T180000
DTEND;TZID=America/Chicago:20160622T203000
DTSTAMP:20260424T095114
CREATED:20150922T063533Z
LAST-MODIFIED:20150922T063533Z
UID:10000087-1466618400-1466627400@saclr.org
SUMMARY:GiG Kids
DESCRIPTION:Children whose parents attend Growing in Grace enjoy a meal together and learn the Gospel story through the Jesus Storybook Bible.
URL:https://saclr.org/event/gig-kids/2016-06-22/
CATEGORIES:Children's Ministry,Early Childhood
END:VEVENT
BEGIN:VEVENT
DTSTART;TZID=America/Chicago:20160622T180000
DTEND;TZID=America/Chicago:20160622T203000
DTSTAMP:20260424T095114
CREATED:20150922T063351Z
LAST-MODIFIED:20150922T063351Z
UID:10000301-1466618400-1466627400@saclr.org
SUMMARY:Growing in Grace (GiG)
DESCRIPTION:A complimentary dinner is followed by a recovery service and a small-group\, 12-step-style meeting.
URL:https://saclr.org/event/growing-in-grace-gig/2016-06-22/
CATEGORIES:Adult Ministry
END:VEVENT
BEGIN:VEVENT
DTSTART;TZID=America/Chicago:20160622T180000
DTEND;TZID=America/Chicago:20160622T200000
DTSTAMP:20260424T095114
CREATED:20150922T063132Z
LAST-MODIFIED:20241212T222527Z
UID:10000527-1466618400-1466625600@saclr.org
SUMMARY:DASH (Wednesday)
DESCRIPTION:Sixth through twelfth graders enjoy dinner at 6 p.m. Worship and teaching on Gospel basics begins at 7 p.m.
URL:https://saclr.org/event/dash-wednesday/2016-06-22/
CATEGORIES:Youth Ministry
END:VEVENT
BEGIN:VEVENT
DTSTART;TZID=America/Chicago:20160622T120000
DTEND;TZID=America/Chicago:20160622T130000
DTSTAMP:20260424T095114
CREATED:20150922T063804Z
LAST-MODIFIED:20150922T063804Z
UID:10001340-1466596800-1466600400@saclr.org
SUMMARY:Men's Bible Fellowship
DESCRIPTION:Men of all ages are invited to gather in the Commons at noon on Wednesday for lively biblical discussion. Bring your lunch and join us as we delve into his Word\, establish new friendships and have a little fun.
URL:https://saclr.org/event/mens-bible-fellowship/2016-06-22/
CATEGORIES:Adult Ministry
END:VEVENT
BEGIN:VEVENT
DTSTART;TZID=America/Chicago:20160620T090000
DTEND;TZID=America/Chicago:20160620T120000
DTSTAMP:20260424T095114
CREATED:20160115T030043Z
LAST-MODIFIED:20160115T030043Z
UID:10001398-1466413200-1466424000@saclr.org
SUMMARY:Vacation Bible School
DESCRIPTION:
URL:https://saclr.org/event/vacation-bible-school/2016-06-20/
END:VEVENT
BEGIN:VEVENT
DTSTART;TZID=America/Chicago:20160615T180000
DTEND;TZID=America/Chicago:20160615T203000
DTSTAMP:20260424T095114
CREATED:20150922T063533Z
LAST-MODIFIED:20150922T063533Z
UID:10000086-1466013600-1466022600@saclr.org
SUMMARY:GiG Kids
DESCRIPTION:Children whose parents attend Growing in Grace enjoy a meal together and learn the Gospel story through the Jesus Storybook Bible.
URL:https://saclr.org/event/gig-kids/2016-06-15/
CATEGORIES:Children's Ministry,Early Childhood
END:VEVENT
BEGIN:VEVENT
DTSTART;TZID=America/Chicago:20160615T180000
DTEND;TZID=America/Chicago:20160615T203000
DTSTAMP:20260424T095114
CREATED:20150922T063351Z
LAST-MODIFIED:20150922T063351Z
UID:10000300-1466013600-1466022600@saclr.org
SUMMARY:Growing in Grace (GiG)
DESCRIPTION:A complimentary dinner is followed by a recovery service and a small-group\, 12-step-style meeting.
URL:https://saclr.org/event/growing-in-grace-gig/2016-06-15/
CATEGORIES:Adult Ministry
END:VEVENT
BEGIN:VEVENT
DTSTART;TZID=America/Chicago:20160615T180000
DTEND;TZID=America/Chicago:20160615T200000
DTSTAMP:20260424T095114
CREATED:20150922T063132Z
LAST-MODIFIED:20241212T222527Z
UID:10000526-1466013600-1466020800@saclr.org
SUMMARY:DASH (Wednesday)
DESCRIPTION:Sixth through twelfth graders enjoy dinner at 6 p.m. Worship and teaching on Gospel basics begins at 7 p.m.
URL:https://saclr.org/event/dash-wednesday/2016-06-15/
CATEGORIES:Youth Ministry
END:VEVENT
BEGIN:VEVENT
DTSTART;TZID=America/Chicago:20160615T120000
DTEND;TZID=America/Chicago:20160615T130000
DTSTAMP:20260424T095114
CREATED:20150922T063804Z
LAST-MODIFIED:20150922T063804Z
UID:10001339-1465992000-1465995600@saclr.org
SUMMARY:Men's Bible Fellowship
DESCRIPTION:Men of all ages are invited to gather in the Commons at noon on Wednesday for lively biblical discussion. Bring your lunch and join us as we delve into his Word\, establish new friendships and have a little fun.
URL:https://saclr.org/event/mens-bible-fellowship/2016-06-15/
CATEGORIES:Adult Ministry
END:VEVENT
BEGIN:VEVENT
DTSTART;TZID=America/Chicago:20160609T183000
DTEND;TZID=America/Chicago:20160609T200000
DTSTAMP:20260424T095114
CREATED:20150922T064540Z
LAST-MODIFIED:20150922T064540Z
UID:10001225-1465497000-1465502400@saclr.org
SUMMARY:YoungLife Capernaum
DESCRIPTION:High School and young adults with special needs are invited to join us for fun\, music\, food & small group time. We can’t wait to see you there!
URL:https://saclr.org/event/younglife-capernaum-2016-01-28/2016-06-09/
LOCATION:Commons
CATEGORIES:Adult Ministry
ORGANIZER;CN="Kay Michael":MAILTO:kay@saclr.org
END:VEVENT
BEGIN:VEVENT
DTSTART;TZID=America/Chicago:20160608T180000
DTEND;TZID=America/Chicago:20160608T203000
DTSTAMP:20260424T095114
CREATED:20150922T063533Z
LAST-MODIFIED:20150922T063533Z
UID:10000085-1465408800-1465417800@saclr.org
SUMMARY:GiG Kids
DESCRIPTION:Children whose parents attend Growing in Grace enjoy a meal together and learn the Gospel story through the Jesus Storybook Bible.
URL:https://saclr.org/event/gig-kids/2016-06-08/
CATEGORIES:Children's Ministry,Early Childhood
END:VEVENT
BEGIN:VEVENT
DTSTART;TZID=America/Chicago:20160608T180000
DTEND;TZID=America/Chicago:20160608T203000
DTSTAMP:20260424T095115
CREATED:20150922T063351Z
LAST-MODIFIED:20150922T063351Z
UID:10000299-1465408800-1465417800@saclr.org
SUMMARY:Growing in Grace (GiG)
DESCRIPTION:A complimentary dinner is followed by a recovery service and a small-group\, 12-step-style meeting.
URL:https://saclr.org/event/growing-in-grace-gig/2016-06-08/
CATEGORIES:Adult Ministry
END:VEVENT
END:VCALENDAR