BEGIN:VCALENDAR
VERSION:2.0
PRODID:-//St. Andrew&#039;s Anglican Church - ECPv6.7.0//NONSGML v1.0//EN
CALSCALE:GREGORIAN
METHOD:PUBLISH
X-ORIGINAL-URL:https://saclr.org
X-WR-CALDESC:Events for St. Andrew&#039;s Anglican Church
REFRESH-INTERVAL;VALUE=DURATION:PT1H
X-Robots-Tag:noindex
X-PUBLISHED-TTL:PT1H
BEGIN:VTIMEZONE
TZID:America/Chicago
BEGIN:DAYLIGHT
TZOFFSETFROM:-0600
TZOFFSETTO:-0500
TZNAME:CDT
DTSTART:20230312T080000
END:DAYLIGHT
BEGIN:STANDARD
TZOFFSETFROM:-0500
TZOFFSETTO:-0600
TZNAME:CST
DTSTART:20231105T070000
END:STANDARD
END:VTIMEZONE
BEGIN:VEVENT
DTSTART;TZID=America/Chicago:20230809T180000
DTEND;TZID=America/Chicago:20230809T200000
DTSTAMP:20260420T012918
CREATED:20150922T063132Z
LAST-MODIFIED:20241212T222527Z
UID:10000893-1691604000-1691611200@saclr.org
SUMMARY:DASH (Wednesday)
DESCRIPTION:Sixth through twelfth graders enjoy dinner at 6 p.m. Worship and teaching on Gospel basics begins at 7 p.m.
URL:https://saclr.org/event/dash-wednesday/2023-08-09/
CATEGORIES:Youth Ministry
END:VEVENT
BEGIN:VEVENT
DTSTART;TZID=America/Chicago:20230809T180000
DTEND;TZID=America/Chicago:20230809T203000
DTSTAMP:20260420T012918
CREATED:20230808T201831Z
LAST-MODIFIED:20230808T201831Z
UID:10001897-1691604000-1691613000@saclr.org
SUMMARY:Growing in Grace
DESCRIPTION:A complimentary dinner is followed by a recovery service and a small-group\, recovery meeting.  \nGiG Kids ministers to the children of  those parents who attend GiG and is available for the entire evening.
URL:https://saclr.org/event/growing-in-grace/2023-08-09/
END:VEVENT
BEGIN:VEVENT
DTSTART;VALUE=DATE:20230813
DTEND;VALUE=DATE:20230814
DTSTAMP:20260420T012918
CREATED:20230720T211618Z
LAST-MODIFIED:20230720T211618Z
UID:10001882-1691884800-1691971199@saclr.org
SUMMARY:Move-up Sunday
DESCRIPTION:
URL:https://saclr.org/event/move-up-sunday-2/
END:VEVENT
BEGIN:VEVENT
DTSTART;VALUE=DATE:20230813
DTEND;VALUE=DATE:20230814
DTSTAMP:20260420T012918
CREATED:20230808T203153Z
LAST-MODIFIED:20230808T203558Z
UID:10002419-1691884800-1691971199@saclr.org
SUMMARY:Sunday services & classes
DESCRIPTION:THE SERVICES\nThe 8:45 a.m. worship service is more traditional. The liturgy is followed in a printed program with a mixture of ancient and modern hymns. It is approximately 70 minutes in length. \nThe 11 a.m. worship service is more contemporary. The liturgy is followed on two projection screens with hymns set to modern accompaniment and the newest songs of praise. It is approximately 90 minutes in length. \n  \nCHILDREN IN THE SERVICE\nA Mother’s Room\, with live stream of the service\, is available for nursing moms and those with infants. \n\nBeginnings\nChild care for infants through preschoolers is available throughout the service. Children may be picked up at The Peace to partake in Holy Communion with their families. \n\nENCOUNTER kids\nKindergarteners through fifth graders follow the cross out of the sanctuary after the Gospel reading for Encounter KIDS\, a creative time of worship designed specifically for kids\, before returning for Holy Communion. \n\nCrossroads (2nd service only)\nSixth and seventh graders may follow the cross out of the sanctuary after the gospel reading and go to the youth room for a time of learning what it means to be a full participant in the larger worship service. \n  \nBETWEEN THE SERVICES\nClasses for all age groups are available between services (10:10-10:50 a.m.). \n\nBeginnings\nMusic class for toddlers and preschoolers is held in the preschool room. Child care for infants in available in the infant room. \n\nENCOUNTER kids\nChildren learn about our faith in Christ in an age-appropriate way. \n\nDash\nSixth through twelfth graders participate in teaching and discussion on a companion verse or parallel topic to the day’s sermon. \n\nAdults\nWe always have several classes for adults\, find out the current offerings here.
URL:https://saclr.org/event/sunday-services-classes/2023-08-13/
END:VEVENT
BEGIN:VEVENT
DTSTART;VALUE=DATE:20230813
DTEND;VALUE=DATE:20230814
DTSTAMP:20260420T012918
CREATED:20230808T203630Z
LAST-MODIFIED:20230808T203630Z
UID:10002420-1691884800-1691971199@saclr.org
SUMMARY:No Sunday school classes between services today
DESCRIPTION:
URL:https://saclr.org/event/no-sunday-school-classes-between-services-today/
END:VEVENT
BEGIN:VEVENT
DTSTART;TZID=America/Chicago:20230815T121500
DTEND;TZID=America/Chicago:20230815T131500
DTSTAMP:20260420T012918
CREATED:20190104T012627Z
LAST-MODIFIED:20250828T140023Z
UID:10001650-1692101700-1692105300@saclr.org
SUMMARY:Men's Bible Fellowship
DESCRIPTION:More information available here
URL:https://saclr.org/event/mens-bible-fellowship-2/2023-08-15/
END:VEVENT
BEGIN:VEVENT
DTSTART;TZID=America/Chicago:20230816T180000
DTEND;TZID=America/Chicago:20230816T200000
DTSTAMP:20260420T012918
CREATED:20150922T063132Z
LAST-MODIFIED:20241212T222527Z
UID:10000894-1692208800-1692216000@saclr.org
SUMMARY:DASH (Wednesday)
DESCRIPTION:Sixth through twelfth graders enjoy dinner at 6 p.m. Worship and teaching on Gospel basics begins at 7 p.m.
URL:https://saclr.org/event/dash-wednesday/2023-08-16/
CATEGORIES:Youth Ministry
END:VEVENT
BEGIN:VEVENT
DTSTART;TZID=America/Chicago:20230816T180000
DTEND;TZID=America/Chicago:20230816T203000
DTSTAMP:20260420T012918
CREATED:20230808T201831Z
LAST-MODIFIED:20230808T201831Z
UID:10001898-1692208800-1692217800@saclr.org
SUMMARY:Growing in Grace
DESCRIPTION:A complimentary dinner is followed by a recovery service and a small-group\, recovery meeting.  \nGiG Kids ministers to the children of  those parents who attend GiG and is available for the entire evening.
URL:https://saclr.org/event/growing-in-grace/2023-08-16/
END:VEVENT
BEGIN:VEVENT
DTSTART;VALUE=DATE:20230820
DTEND;VALUE=DATE:20230821
DTSTAMP:20260420T012918
CREATED:20230808T203153Z
LAST-MODIFIED:20230808T203558Z
UID:10002159-1692489600-1692575999@saclr.org
SUMMARY:Sunday services & classes
DESCRIPTION:THE SERVICES\nThe 8:45 a.m. worship service is more traditional. The liturgy is followed in a printed program with a mixture of ancient and modern hymns. It is approximately 70 minutes in length. \nThe 11 a.m. worship service is more contemporary. The liturgy is followed on two projection screens with hymns set to modern accompaniment and the newest songs of praise. It is approximately 90 minutes in length. \n  \nCHILDREN IN THE SERVICE\nA Mother’s Room\, with live stream of the service\, is available for nursing moms and those with infants. \n\nBeginnings\nChild care for infants through preschoolers is available throughout the service. Children may be picked up at The Peace to partake in Holy Communion with their families. \n\nENCOUNTER kids\nKindergarteners through fifth graders follow the cross out of the sanctuary after the Gospel reading for Encounter KIDS\, a creative time of worship designed specifically for kids\, before returning for Holy Communion. \n\nCrossroads (2nd service only)\nSixth and seventh graders may follow the cross out of the sanctuary after the gospel reading and go to the youth room for a time of learning what it means to be a full participant in the larger worship service. \n  \nBETWEEN THE SERVICES\nClasses for all age groups are available between services (10:10-10:50 a.m.). \n\nBeginnings\nMusic class for toddlers and preschoolers is held in the preschool room. Child care for infants in available in the infant room. \n\nENCOUNTER kids\nChildren learn about our faith in Christ in an age-appropriate way. \n\nDash\nSixth through twelfth graders participate in teaching and discussion on a companion verse or parallel topic to the day’s sermon. \n\nAdults\nWe always have several classes for adults\, find out the current offerings here.
URL:https://saclr.org/event/sunday-services-classes/2023-08-20/
END:VEVENT
BEGIN:VEVENT
DTSTART;TZID=America/Chicago:20230820T101000
DTEND;TZID=America/Chicago:20230820T105000
DTSTAMP:20260420T012918
CREATED:20230808T201230Z
LAST-MODIFIED:20230808T201230Z
UID:10001888-1692526200-1692528600@saclr.org
SUMMARY:ENCOUNTER kids: Sunday school open house
DESCRIPTION:Between services on Sunday\, August 20\, ENCOUNTER kids will host a teacher meet and greet in the children’s ministry hallway. This is a low-key time for students in kindergarten through fifth grade to meet their new teachers and see their classrooms for this school year. We’ll have refreshments for parents and kids. Come and go as time allows. \nSunday school classes begin August 27.
URL:https://saclr.org/event/encounter-kids-sunday-school-open-house/
END:VEVENT
BEGIN:VEVENT
DTSTART;TZID=America/Chicago:20230820T180000
DTEND;TZID=America/Chicago:20230820T193000
DTSTAMP:20260420T012918
CREATED:20230808T201144Z
LAST-MODIFIED:20230808T201144Z
UID:10001887-1692554400-1692559800@saclr.org
SUMMARY:Newcomers' Dessert
DESCRIPTION:Are you new to St. Andrew’s? If so\, you are invited you to the Newcomers’ Dessert on Sunday\, August 20\, from 6-7:30 p.m. for a casual time of dessert and fellowship. Children and youth of families are also invited to attend and have a special time of dessert and play with family ministries. To RSVP or for more information\, contact Jessie Smith.
URL:https://saclr.org/event/newcomers-dessert-7/
END:VEVENT
BEGIN:VEVENT
DTSTART;TZID=America/Chicago:20230822T121500
DTEND;TZID=America/Chicago:20230822T131500
DTSTAMP:20260420T012918
CREATED:20190104T012627Z
LAST-MODIFIED:20250828T140023Z
UID:10001651-1692706500-1692710100@saclr.org
SUMMARY:Men's Bible Fellowship
DESCRIPTION:More information available here
URL:https://saclr.org/event/mens-bible-fellowship-2/2023-08-22/
END:VEVENT
BEGIN:VEVENT
DTSTART;TZID=America/Chicago:20230823T180000
DTEND;TZID=America/Chicago:20230823T200000
DTSTAMP:20260420T012918
CREATED:20150922T063132Z
LAST-MODIFIED:20241212T222527Z
UID:10000895-1692813600-1692820800@saclr.org
SUMMARY:DASH (Wednesday)
DESCRIPTION:Sixth through twelfth graders enjoy dinner at 6 p.m. Worship and teaching on Gospel basics begins at 7 p.m.
URL:https://saclr.org/event/dash-wednesday/2023-08-23/
CATEGORIES:Youth Ministry
END:VEVENT
BEGIN:VEVENT
DTSTART;TZID=America/Chicago:20230823T180000
DTEND;TZID=America/Chicago:20230823T203000
DTSTAMP:20260420T012918
CREATED:20230808T201831Z
LAST-MODIFIED:20230808T201831Z
UID:10001899-1692813600-1692822600@saclr.org
SUMMARY:Growing in Grace
DESCRIPTION:A complimentary dinner is followed by a recovery service and a small-group\, recovery meeting.  \nGiG Kids ministers to the children of  those parents who attend GiG and is available for the entire evening.
URL:https://saclr.org/event/growing-in-grace/2023-08-23/
END:VEVENT
BEGIN:VEVENT
DTSTART;VALUE=DATE:20230827
DTEND;VALUE=DATE:20230828
DTSTAMP:20260420T012918
CREATED:20230808T203153Z
LAST-MODIFIED:20230808T203558Z
UID:10002160-1693094400-1693180799@saclr.org
SUMMARY:Sunday services & classes
DESCRIPTION:THE SERVICES\nThe 8:45 a.m. worship service is more traditional. The liturgy is followed in a printed program with a mixture of ancient and modern hymns. It is approximately 70 minutes in length. \nThe 11 a.m. worship service is more contemporary. The liturgy is followed on two projection screens with hymns set to modern accompaniment and the newest songs of praise. It is approximately 90 minutes in length. \n  \nCHILDREN IN THE SERVICE\nA Mother’s Room\, with live stream of the service\, is available for nursing moms and those with infants. \n\nBeginnings\nChild care for infants through preschoolers is available throughout the service. Children may be picked up at The Peace to partake in Holy Communion with their families. \n\nENCOUNTER kids\nKindergarteners through fifth graders follow the cross out of the sanctuary after the Gospel reading for Encounter KIDS\, a creative time of worship designed specifically for kids\, before returning for Holy Communion. \n\nCrossroads (2nd service only)\nSixth and seventh graders may follow the cross out of the sanctuary after the gospel reading and go to the youth room for a time of learning what it means to be a full participant in the larger worship service. \n  \nBETWEEN THE SERVICES\nClasses for all age groups are available between services (10:10-10:50 a.m.). \n\nBeginnings\nMusic class for toddlers and preschoolers is held in the preschool room. Child care for infants in available in the infant room. \n\nENCOUNTER kids\nChildren learn about our faith in Christ in an age-appropriate way. \n\nDash\nSixth through twelfth graders participate in teaching and discussion on a companion verse or parallel topic to the day’s sermon. \n\nAdults\nWe always have several classes for adults\, find out the current offerings here.
URL:https://saclr.org/event/sunday-services-classes/2023-08-27/
END:VEVENT
BEGIN:VEVENT
DTSTART;TZID=America/Chicago:20230829T121500
DTEND;TZID=America/Chicago:20230829T131500
DTSTAMP:20260420T012918
CREATED:20190104T012627Z
LAST-MODIFIED:20250828T140023Z
UID:10001652-1693311300-1693314900@saclr.org
SUMMARY:Men's Bible Fellowship
DESCRIPTION:More information available here
URL:https://saclr.org/event/mens-bible-fellowship-2/2023-08-29/
END:VEVENT
BEGIN:VEVENT
DTSTART;TZID=America/Chicago:20230830T180000
DTEND;TZID=America/Chicago:20230830T200000
DTSTAMP:20260420T012918
CREATED:20150922T063132Z
LAST-MODIFIED:20241212T222527Z
UID:10000896-1693418400-1693425600@saclr.org
SUMMARY:DASH (Wednesday)
DESCRIPTION:Sixth through twelfth graders enjoy dinner at 6 p.m. Worship and teaching on Gospel basics begins at 7 p.m.
URL:https://saclr.org/event/dash-wednesday/2023-08-30/
CATEGORIES:Youth Ministry
END:VEVENT
BEGIN:VEVENT
DTSTART;TZID=America/Chicago:20230830T180000
DTEND;TZID=America/Chicago:20230830T203000
DTSTAMP:20260420T012918
CREATED:20230808T201831Z
LAST-MODIFIED:20230808T201831Z
UID:10001900-1693418400-1693427400@saclr.org
SUMMARY:Growing in Grace
DESCRIPTION:A complimentary dinner is followed by a recovery service and a small-group\, recovery meeting.  \nGiG Kids ministers to the children of  those parents who attend GiG and is available for the entire evening.
URL:https://saclr.org/event/growing-in-grace/2023-08-30/
END:VEVENT
BEGIN:VEVENT
DTSTART;VALUE=DATE:20230903
DTEND;VALUE=DATE:20230904
DTSTAMP:20260420T012918
CREATED:20230808T203153Z
LAST-MODIFIED:20230808T203558Z
UID:10002161-1693699200-1693785599@saclr.org
SUMMARY:Sunday services & classes
DESCRIPTION:THE SERVICES\nThe 8:45 a.m. worship service is more traditional. The liturgy is followed in a printed program with a mixture of ancient and modern hymns. It is approximately 70 minutes in length. \nThe 11 a.m. worship service is more contemporary. The liturgy is followed on two projection screens with hymns set to modern accompaniment and the newest songs of praise. It is approximately 90 minutes in length. \n  \nCHILDREN IN THE SERVICE\nA Mother’s Room\, with live stream of the service\, is available for nursing moms and those with infants. \n\nBeginnings\nChild care for infants through preschoolers is available throughout the service. Children may be picked up at The Peace to partake in Holy Communion with their families. \n\nENCOUNTER kids\nKindergarteners through fifth graders follow the cross out of the sanctuary after the Gospel reading for Encounter KIDS\, a creative time of worship designed specifically for kids\, before returning for Holy Communion. \n\nCrossroads (2nd service only)\nSixth and seventh graders may follow the cross out of the sanctuary after the gospel reading and go to the youth room for a time of learning what it means to be a full participant in the larger worship service. \n  \nBETWEEN THE SERVICES\nClasses for all age groups are available between services (10:10-10:50 a.m.). \n\nBeginnings\nMusic class for toddlers and preschoolers is held in the preschool room. Child care for infants in available in the infant room. \n\nENCOUNTER kids\nChildren learn about our faith in Christ in an age-appropriate way. \n\nDash\nSixth through twelfth graders participate in teaching and discussion on a companion verse or parallel topic to the day’s sermon. \n\nAdults\nWe always have several classes for adults\, find out the current offerings here.
URL:https://saclr.org/event/sunday-services-classes/2023-09-03/
END:VEVENT
BEGIN:VEVENT
DTSTART;VALUE=DATE:20230903
DTEND;VALUE=DATE:20230904
DTSTAMP:20260420T012918
CREATED:20230808T203646Z
LAST-MODIFIED:20230808T203646Z
UID:10002421-1693699200-1693785599@saclr.org
SUMMARY:No Sunday school classes between services today
DESCRIPTION:
URL:https://saclr.org/event/no-sunday-school-classes-between-services-today-2/
END:VEVENT
BEGIN:VEVENT
DTSTART;TZID=America/Chicago:20230905T121500
DTEND;TZID=America/Chicago:20230905T131500
DTSTAMP:20260420T012918
CREATED:20190104T012627Z
LAST-MODIFIED:20250828T140023Z
UID:10001653-1693916100-1693919700@saclr.org
SUMMARY:Men's Bible Fellowship
DESCRIPTION:More information available here
URL:https://saclr.org/event/mens-bible-fellowship-2/2023-09-05/
END:VEVENT
BEGIN:VEVENT
DTSTART;TZID=America/Chicago:20230906T103000
DTEND;TZID=America/Chicago:20230906T120000
DTSTAMP:20260420T012918
CREATED:20230913T190126Z
LAST-MODIFIED:20230913T190126Z
UID:10002478-1693996200-1694001600@saclr.org
SUMMARY:Prime Timers group
DESCRIPTION:More information here
URL:https://saclr.org/event/prime-timers-group/2023-09-06/
END:VEVENT
BEGIN:VEVENT
DTSTART;TZID=America/Chicago:20230906T180000
DTEND;TZID=America/Chicago:20230906T200000
DTSTAMP:20260420T012918
CREATED:20150922T063132Z
LAST-MODIFIED:20241212T222527Z
UID:10000897-1694023200-1694030400@saclr.org
SUMMARY:DASH (Wednesday)
DESCRIPTION:Sixth through twelfth graders enjoy dinner at 6 p.m. Worship and teaching on Gospel basics begins at 7 p.m.
URL:https://saclr.org/event/dash-wednesday/2023-09-06/
CATEGORIES:Youth Ministry
END:VEVENT
BEGIN:VEVENT
DTSTART;TZID=America/Chicago:20230906T180000
DTEND;TZID=America/Chicago:20230906T203000
DTSTAMP:20260420T012918
CREATED:20230808T201831Z
LAST-MODIFIED:20230808T201831Z
UID:10001901-1694023200-1694032200@saclr.org
SUMMARY:Growing in Grace
DESCRIPTION:A complimentary dinner is followed by a recovery service and a small-group\, recovery meeting.  \nGiG Kids ministers to the children of  those parents who attend GiG and is available for the entire evening.
URL:https://saclr.org/event/growing-in-grace/2023-09-06/
END:VEVENT
BEGIN:VEVENT
DTSTART;VALUE=DATE:20230910
DTEND;VALUE=DATE:20230911
DTSTAMP:20260420T012918
CREATED:20230808T203153Z
LAST-MODIFIED:20230808T203558Z
UID:10002162-1694304000-1694390399@saclr.org
SUMMARY:Sunday services & classes
DESCRIPTION:THE SERVICES\nThe 8:45 a.m. worship service is more traditional. The liturgy is followed in a printed program with a mixture of ancient and modern hymns. It is approximately 70 minutes in length. \nThe 11 a.m. worship service is more contemporary. The liturgy is followed on two projection screens with hymns set to modern accompaniment and the newest songs of praise. It is approximately 90 minutes in length. \n  \nCHILDREN IN THE SERVICE\nA Mother’s Room\, with live stream of the service\, is available for nursing moms and those with infants. \n\nBeginnings\nChild care for infants through preschoolers is available throughout the service. Children may be picked up at The Peace to partake in Holy Communion with their families. \n\nENCOUNTER kids\nKindergarteners through fifth graders follow the cross out of the sanctuary after the Gospel reading for Encounter KIDS\, a creative time of worship designed specifically for kids\, before returning for Holy Communion. \n\nCrossroads (2nd service only)\nSixth and seventh graders may follow the cross out of the sanctuary after the gospel reading and go to the youth room for a time of learning what it means to be a full participant in the larger worship service. \n  \nBETWEEN THE SERVICES\nClasses for all age groups are available between services (10:10-10:50 a.m.). \n\nBeginnings\nMusic class for toddlers and preschoolers is held in the preschool room. Child care for infants in available in the infant room. \n\nENCOUNTER kids\nChildren learn about our faith in Christ in an age-appropriate way. \n\nDash\nSixth through twelfth graders participate in teaching and discussion on a companion verse or parallel topic to the day’s sermon. \n\nAdults\nWe always have several classes for adults\, find out the current offerings here.
URL:https://saclr.org/event/sunday-services-classes/2023-09-10/
END:VEVENT
BEGIN:VEVENT
DTSTART;TZID=America/Chicago:20230911T180000
DTEND;TZID=America/Chicago:20230911T193000
DTSTAMP:20260420T012918
CREATED:20230808T201531Z
LAST-MODIFIED:20230808T201531Z
UID:10001891-1694455200-1694460600@saclr.org
SUMMARY:Discipleship Night
DESCRIPTION:This fall\, we will be diving into scripture using the Messiah: The Immerse Reading Bible\, which will be given out the first night\, and selected videos from the Bible Project.  We will read our way through Luke\, Acts and several New Testament letters\, learning more about the background of each book as we go and sharing what we discover in small group discussions. 
URL:https://saclr.org/event/discipleship-night-2/2023-09-11/
END:VEVENT
BEGIN:VEVENT
DTSTART;TZID=America/Chicago:20230912T121500
DTEND;TZID=America/Chicago:20230912T131500
DTSTAMP:20260420T012918
CREATED:20190104T012627Z
LAST-MODIFIED:20250828T140023Z
UID:10001654-1694520900-1694524500@saclr.org
SUMMARY:Men's Bible Fellowship
DESCRIPTION:More information available here
URL:https://saclr.org/event/mens-bible-fellowship-2/2023-09-12/
END:VEVENT
BEGIN:VEVENT
DTSTART;TZID=America/Chicago:20230913T180000
DTEND;TZID=America/Chicago:20230913T200000
DTSTAMP:20260420T012918
CREATED:20150922T063132Z
LAST-MODIFIED:20241212T222527Z
UID:10000898-1694628000-1694635200@saclr.org
SUMMARY:DASH (Wednesday)
DESCRIPTION:Sixth through twelfth graders enjoy dinner at 6 p.m. Worship and teaching on Gospel basics begins at 7 p.m.
URL:https://saclr.org/event/dash-wednesday/2023-09-13/
CATEGORIES:Youth Ministry
END:VEVENT
BEGIN:VEVENT
DTSTART;TZID=America/Chicago:20230913T180000
DTEND;TZID=America/Chicago:20230913T203000
DTSTAMP:20260420T012918
CREATED:20230808T201831Z
LAST-MODIFIED:20230808T201831Z
UID:10001902-1694628000-1694637000@saclr.org
SUMMARY:Growing in Grace
DESCRIPTION:A complimentary dinner is followed by a recovery service and a small-group\, recovery meeting.  \nGiG Kids ministers to the children of  those parents who attend GiG and is available for the entire evening.
URL:https://saclr.org/event/growing-in-grace/2023-09-13/
END:VEVENT
BEGIN:VEVENT
DTSTART;VALUE=DATE:20230917
DTEND;VALUE=DATE:20230918
DTSTAMP:20260420T012918
CREATED:20230808T203153Z
LAST-MODIFIED:20230808T203558Z
UID:10002163-1694908800-1694995199@saclr.org
SUMMARY:Sunday services & classes
DESCRIPTION:THE SERVICES\nThe 8:45 a.m. worship service is more traditional. The liturgy is followed in a printed program with a mixture of ancient and modern hymns. It is approximately 70 minutes in length. \nThe 11 a.m. worship service is more contemporary. The liturgy is followed on two projection screens with hymns set to modern accompaniment and the newest songs of praise. It is approximately 90 minutes in length. \n  \nCHILDREN IN THE SERVICE\nA Mother’s Room\, with live stream of the service\, is available for nursing moms and those with infants. \n\nBeginnings\nChild care for infants through preschoolers is available throughout the service. Children may be picked up at The Peace to partake in Holy Communion with their families. \n\nENCOUNTER kids\nKindergarteners through fifth graders follow the cross out of the sanctuary after the Gospel reading for Encounter KIDS\, a creative time of worship designed specifically for kids\, before returning for Holy Communion. \n\nCrossroads (2nd service only)\nSixth and seventh graders may follow the cross out of the sanctuary after the gospel reading and go to the youth room for a time of learning what it means to be a full participant in the larger worship service. \n  \nBETWEEN THE SERVICES\nClasses for all age groups are available between services (10:10-10:50 a.m.). \n\nBeginnings\nMusic class for toddlers and preschoolers is held in the preschool room. Child care for infants in available in the infant room. \n\nENCOUNTER kids\nChildren learn about our faith in Christ in an age-appropriate way. \n\nDash\nSixth through twelfth graders participate in teaching and discussion on a companion verse or parallel topic to the day’s sermon. \n\nAdults\nWe always have several classes for adults\, find out the current offerings here.
URL:https://saclr.org/event/sunday-services-classes/2023-09-17/
END:VEVENT
END:VCALENDAR