BEGIN:VCALENDAR
VERSION:2.0
PRODID:-//St. Andrew&#039;s Anglican Church - ECPv6.7.0//NONSGML v1.0//EN
CALSCALE:GREGORIAN
METHOD:PUBLISH
X-WR-CALNAME:St. Andrew&#039;s Anglican Church
X-ORIGINAL-URL:https://saclr.org
X-WR-CALDESC:Events for St. Andrew&#039;s Anglican Church
REFRESH-INTERVAL;VALUE=DURATION:PT1H
X-Robots-Tag:noindex
X-PUBLISHED-TTL:PT1H
BEGIN:VTIMEZONE
TZID:America/Chicago
BEGIN:DAYLIGHT
TZOFFSETFROM:-0600
TZOFFSETTO:-0500
TZNAME:CDT
DTSTART:20240310T080000
END:DAYLIGHT
BEGIN:STANDARD
TZOFFSETFROM:-0500
TZOFFSETTO:-0600
TZNAME:CST
DTSTART:20241103T070000
END:STANDARD
BEGIN:DAYLIGHT
TZOFFSETFROM:-0600
TZOFFSETTO:-0500
TZNAME:CDT
DTSTART:20250309T080000
END:DAYLIGHT
BEGIN:STANDARD
TZOFFSETFROM:-0500
TZOFFSETTO:-0600
TZNAME:CST
DTSTART:20251102T070000
END:STANDARD
END:VTIMEZONE
BEGIN:VEVENT
DTSTART;TZID=America/Chicago:20240703T180000
DTEND;TZID=America/Chicago:20240703T200000
DTSTAMP:20260422T180435
CREATED:20150922T063132Z
LAST-MODIFIED:20241212T222527Z
UID:10000940-1720029600-1720036800@saclr.org
SUMMARY:DASH (Wednesday)
DESCRIPTION:Sixth through twelfth graders enjoy dinner at 6 p.m. Worship and teaching on Gospel basics begins at 7 p.m.
URL:https://saclr.org/event/dash-wednesday/2024-07-03/
CATEGORIES:Youth Ministry
END:VEVENT
BEGIN:VEVENT
DTSTART;TZID=America/Chicago:20240710T180000
DTEND;TZID=America/Chicago:20240710T200000
DTSTAMP:20260422T180435
CREATED:20150922T063132Z
LAST-MODIFIED:20241212T222527Z
UID:10000941-1720634400-1720641600@saclr.org
SUMMARY:DASH (Wednesday)
DESCRIPTION:Sixth through twelfth graders enjoy dinner at 6 p.m. Worship and teaching on Gospel basics begins at 7 p.m.
URL:https://saclr.org/event/dash-wednesday/2024-07-10/
CATEGORIES:Youth Ministry
END:VEVENT
BEGIN:VEVENT
DTSTART;TZID=America/Chicago:20240717T180000
DTEND;TZID=America/Chicago:20240717T200000
DTSTAMP:20260422T180435
CREATED:20150922T063132Z
LAST-MODIFIED:20241212T222527Z
UID:10000942-1721239200-1721246400@saclr.org
SUMMARY:DASH (Wednesday)
DESCRIPTION:Sixth through twelfth graders enjoy dinner at 6 p.m. Worship and teaching on Gospel basics begins at 7 p.m.
URL:https://saclr.org/event/dash-wednesday/2024-07-17/
CATEGORIES:Youth Ministry
END:VEVENT
BEGIN:VEVENT
DTSTART;TZID=America/Chicago:20240724T180000
DTEND;TZID=America/Chicago:20240724T200000
DTSTAMP:20260422T180435
CREATED:20150922T063132Z
LAST-MODIFIED:20241212T222527Z
UID:10000943-1721844000-1721851200@saclr.org
SUMMARY:DASH (Wednesday)
DESCRIPTION:Sixth through twelfth graders enjoy dinner at 6 p.m. Worship and teaching on Gospel basics begins at 7 p.m.
URL:https://saclr.org/event/dash-wednesday/2024-07-24/
CATEGORIES:Youth Ministry
END:VEVENT
BEGIN:VEVENT
DTSTART;TZID=America/Chicago:20240731T180000
DTEND;TZID=America/Chicago:20240731T200000
DTSTAMP:20260422T180435
CREATED:20150922T063132Z
LAST-MODIFIED:20241212T222527Z
UID:10000944-1722448800-1722456000@saclr.org
SUMMARY:DASH (Wednesday)
DESCRIPTION:Sixth through twelfth graders enjoy dinner at 6 p.m. Worship and teaching on Gospel basics begins at 7 p.m.
URL:https://saclr.org/event/dash-wednesday/2024-07-31/
CATEGORIES:Youth Ministry
END:VEVENT
BEGIN:VEVENT
DTSTART;TZID=America/Chicago:20240807T180000
DTEND;TZID=America/Chicago:20240807T200000
DTSTAMP:20260422T180435
CREATED:20150922T063132Z
LAST-MODIFIED:20241212T222527Z
UID:10000945-1723053600-1723060800@saclr.org
SUMMARY:DASH (Wednesday)
DESCRIPTION:Sixth through twelfth graders enjoy dinner at 6 p.m. Worship and teaching on Gospel basics begins at 7 p.m.
URL:https://saclr.org/event/dash-wednesday/2024-08-07/
CATEGORIES:Youth Ministry
END:VEVENT
BEGIN:VEVENT
DTSTART;TZID=America/Chicago:20240814T180000
DTEND;TZID=America/Chicago:20240814T200000
DTSTAMP:20260422T180435
CREATED:20150922T063132Z
LAST-MODIFIED:20241212T222527Z
UID:10000946-1723658400-1723665600@saclr.org
SUMMARY:DASH (Wednesday)
DESCRIPTION:Sixth through twelfth graders enjoy dinner at 6 p.m. Worship and teaching on Gospel basics begins at 7 p.m.
URL:https://saclr.org/event/dash-wednesday/2024-08-14/
CATEGORIES:Youth Ministry
END:VEVENT
BEGIN:VEVENT
DTSTART;TZID=America/Chicago:20240821T180000
DTEND;TZID=America/Chicago:20240821T200000
DTSTAMP:20260422T180435
CREATED:20150922T063132Z
LAST-MODIFIED:20241212T222527Z
UID:10000947-1724263200-1724270400@saclr.org
SUMMARY:DASH (Wednesday)
DESCRIPTION:Sixth through twelfth graders enjoy dinner at 6 p.m. Worship and teaching on Gospel basics begins at 7 p.m.
URL:https://saclr.org/event/dash-wednesday/2024-08-21/
CATEGORIES:Youth Ministry
END:VEVENT
BEGIN:VEVENT
DTSTART;TZID=America/Chicago:20240828T180000
DTEND;TZID=America/Chicago:20240828T200000
DTSTAMP:20260422T180435
CREATED:20150922T063132Z
LAST-MODIFIED:20241212T222527Z
UID:10000948-1724868000-1724875200@saclr.org
SUMMARY:DASH (Wednesday)
DESCRIPTION:Sixth through twelfth graders enjoy dinner at 6 p.m. Worship and teaching on Gospel basics begins at 7 p.m.
URL:https://saclr.org/event/dash-wednesday/2024-08-28/
CATEGORIES:Youth Ministry
END:VEVENT
BEGIN:VEVENT
DTSTART;TZID=America/Chicago:20240904T180000
DTEND;TZID=America/Chicago:20240904T200000
DTSTAMP:20260422T180435
CREATED:20150922T063132Z
LAST-MODIFIED:20241212T222527Z
UID:10000949-1725472800-1725480000@saclr.org
SUMMARY:DASH (Wednesday)
DESCRIPTION:Sixth through twelfth graders enjoy dinner at 6 p.m. Worship and teaching on Gospel basics begins at 7 p.m.
URL:https://saclr.org/event/dash-wednesday/2024-09-04/
CATEGORIES:Youth Ministry
END:VEVENT
BEGIN:VEVENT
DTSTART;TZID=America/Chicago:20240911T180000
DTEND;TZID=America/Chicago:20240911T200000
DTSTAMP:20260422T180435
CREATED:20150922T063132Z
LAST-MODIFIED:20241212T222527Z
UID:10000950-1726077600-1726084800@saclr.org
SUMMARY:DASH (Wednesday)
DESCRIPTION:Sixth through twelfth graders enjoy dinner at 6 p.m. Worship and teaching on Gospel basics begins at 7 p.m.
URL:https://saclr.org/event/dash-wednesday/2024-09-11/
CATEGORIES:Youth Ministry
END:VEVENT
BEGIN:VEVENT
DTSTART;TZID=America/Chicago:20240918T180000
DTEND;TZID=America/Chicago:20240918T200000
DTSTAMP:20260422T180435
CREATED:20150922T063132Z
LAST-MODIFIED:20241212T222527Z
UID:10000951-1726682400-1726689600@saclr.org
SUMMARY:DASH (Wednesday)
DESCRIPTION:Sixth through twelfth graders enjoy dinner at 6 p.m. Worship and teaching on Gospel basics begins at 7 p.m.
URL:https://saclr.org/event/dash-wednesday/2024-09-18/
CATEGORIES:Youth Ministry
END:VEVENT
BEGIN:VEVENT
DTSTART;TZID=America/Chicago:20240925T180000
DTEND;TZID=America/Chicago:20240925T200000
DTSTAMP:20260422T180435
CREATED:20150922T063132Z
LAST-MODIFIED:20241212T222527Z
UID:10000952-1727287200-1727294400@saclr.org
SUMMARY:DASH (Wednesday)
DESCRIPTION:Sixth through twelfth graders enjoy dinner at 6 p.m. Worship and teaching on Gospel basics begins at 7 p.m.
URL:https://saclr.org/event/dash-wednesday/2024-09-25/
CATEGORIES:Youth Ministry
END:VEVENT
BEGIN:VEVENT
DTSTART;TZID=America/Chicago:20241002T180000
DTEND;TZID=America/Chicago:20241002T200000
DTSTAMP:20260422T180435
CREATED:20150922T063132Z
LAST-MODIFIED:20241212T222527Z
UID:10000953-1727892000-1727899200@saclr.org
SUMMARY:DASH (Wednesday)
DESCRIPTION:Sixth through twelfth graders enjoy dinner at 6 p.m. Worship and teaching on Gospel basics begins at 7 p.m.
URL:https://saclr.org/event/dash-wednesday/2024-10-02/
CATEGORIES:Youth Ministry
END:VEVENT
BEGIN:VEVENT
DTSTART;TZID=America/Chicago:20241009T180000
DTEND;TZID=America/Chicago:20241009T200000
DTSTAMP:20260422T180435
CREATED:20150922T063132Z
LAST-MODIFIED:20241212T222527Z
UID:10000954-1728496800-1728504000@saclr.org
SUMMARY:DASH (Wednesday)
DESCRIPTION:Sixth through twelfth graders enjoy dinner at 6 p.m. Worship and teaching on Gospel basics begins at 7 p.m.
URL:https://saclr.org/event/dash-wednesday/2024-10-09/
CATEGORIES:Youth Ministry
END:VEVENT
BEGIN:VEVENT
DTSTART;TZID=America/Chicago:20241016T180000
DTEND;TZID=America/Chicago:20241016T200000
DTSTAMP:20260422T180435
CREATED:20150922T063132Z
LAST-MODIFIED:20241212T222527Z
UID:10000955-1729101600-1729108800@saclr.org
SUMMARY:DASH (Wednesday)
DESCRIPTION:Sixth through twelfth graders enjoy dinner at 6 p.m. Worship and teaching on Gospel basics begins at 7 p.m.
URL:https://saclr.org/event/dash-wednesday/2024-10-16/
CATEGORIES:Youth Ministry
END:VEVENT
BEGIN:VEVENT
DTSTART;TZID=America/Chicago:20241023T180000
DTEND;TZID=America/Chicago:20241023T200000
DTSTAMP:20260422T180435
CREATED:20150922T063132Z
LAST-MODIFIED:20241212T222527Z
UID:10000956-1729706400-1729713600@saclr.org
SUMMARY:DASH (Wednesday)
DESCRIPTION:Sixth through twelfth graders enjoy dinner at 6 p.m. Worship and teaching on Gospel basics begins at 7 p.m.
URL:https://saclr.org/event/dash-wednesday/2024-10-23/
CATEGORIES:Youth Ministry
END:VEVENT
BEGIN:VEVENT
DTSTART;TZID=America/Chicago:20241030T180000
DTEND;TZID=America/Chicago:20241030T200000
DTSTAMP:20260422T180435
CREATED:20150922T063132Z
LAST-MODIFIED:20241212T222527Z
UID:10000957-1730311200-1730318400@saclr.org
SUMMARY:DASH (Wednesday)
DESCRIPTION:Sixth through twelfth graders enjoy dinner at 6 p.m. Worship and teaching on Gospel basics begins at 7 p.m.
URL:https://saclr.org/event/dash-wednesday/2024-10-30/
CATEGORIES:Youth Ministry
END:VEVENT
BEGIN:VEVENT
DTSTART;TZID=America/Chicago:20241106T180000
DTEND;TZID=America/Chicago:20241106T200000
DTSTAMP:20260422T180435
CREATED:20150922T063132Z
LAST-MODIFIED:20241212T222527Z
UID:10000958-1730916000-1730923200@saclr.org
SUMMARY:DASH (Wednesday)
DESCRIPTION:Sixth through twelfth graders enjoy dinner at 6 p.m. Worship and teaching on Gospel basics begins at 7 p.m.
URL:https://saclr.org/event/dash-wednesday/2024-11-06/
CATEGORIES:Youth Ministry
END:VEVENT
BEGIN:VEVENT
DTSTART;TZID=America/Chicago:20241113T180000
DTEND;TZID=America/Chicago:20241113T200000
DTSTAMP:20260422T180435
CREATED:20150922T063132Z
LAST-MODIFIED:20241212T222527Z
UID:10000959-1731520800-1731528000@saclr.org
SUMMARY:DASH (Wednesday)
DESCRIPTION:Sixth through twelfth graders enjoy dinner at 6 p.m. Worship and teaching on Gospel basics begins at 7 p.m.
URL:https://saclr.org/event/dash-wednesday/2024-11-13/
CATEGORIES:Youth Ministry
END:VEVENT
BEGIN:VEVENT
DTSTART;TZID=America/Chicago:20241120T180000
DTEND;TZID=America/Chicago:20241120T200000
DTSTAMP:20260422T180435
CREATED:20150922T063132Z
LAST-MODIFIED:20241212T222527Z
UID:10000960-1732125600-1732132800@saclr.org
SUMMARY:DASH (Wednesday)
DESCRIPTION:Sixth through twelfth graders enjoy dinner at 6 p.m. Worship and teaching on Gospel basics begins at 7 p.m.
URL:https://saclr.org/event/dash-wednesday/2024-11-20/
CATEGORIES:Youth Ministry
END:VEVENT
BEGIN:VEVENT
DTSTART;TZID=America/Chicago:20241127T180000
DTEND;TZID=America/Chicago:20241127T200000
DTSTAMP:20260422T180435
CREATED:20150922T063132Z
LAST-MODIFIED:20241212T222527Z
UID:10000961-1732730400-1732737600@saclr.org
SUMMARY:DASH (Wednesday)
DESCRIPTION:Sixth through twelfth graders enjoy dinner at 6 p.m. Worship and teaching on Gospel basics begins at 7 p.m.
URL:https://saclr.org/event/dash-wednesday/2024-11-27/
CATEGORIES:Youth Ministry
END:VEVENT
BEGIN:VEVENT
DTSTART;TZID=America/Chicago:20241204T180000
DTEND;TZID=America/Chicago:20241204T200000
DTSTAMP:20260422T180435
CREATED:20150922T063132Z
LAST-MODIFIED:20241212T222527Z
UID:10000962-1733335200-1733342400@saclr.org
SUMMARY:DASH (Wednesday)
DESCRIPTION:Sixth through twelfth graders enjoy dinner at 6 p.m. Worship and teaching on Gospel basics begins at 7 p.m.
URL:https://saclr.org/event/dash-wednesday/2024-12-04/
CATEGORIES:Youth Ministry
END:VEVENT
BEGIN:VEVENT
DTSTART;TZID=America/Chicago:20241211T180000
DTEND;TZID=America/Chicago:20241211T200000
DTSTAMP:20260422T180435
CREATED:20150922T063132Z
LAST-MODIFIED:20241212T222527Z
UID:10000963-1733940000-1733947200@saclr.org
SUMMARY:DASH (Wednesday)
DESCRIPTION:Sixth through twelfth graders enjoy dinner at 6 p.m. Worship and teaching on Gospel basics begins at 7 p.m.
URL:https://saclr.org/event/dash-wednesday/2024-12-11/
CATEGORIES:Youth Ministry
END:VEVENT
BEGIN:VEVENT
DTSTART;TZID=America/Chicago:20250108T180000
DTEND;TZID=America/Chicago:20250108T200000
DTSTAMP:20260422T180435
CREATED:20150922T063132Z
LAST-MODIFIED:20241212T222527Z
UID:10000967-1736359200-1736366400@saclr.org
SUMMARY:DASH (Wednesday)
DESCRIPTION:Sixth through twelfth graders enjoy dinner at 6 p.m. Worship and teaching on Gospel basics begins at 7 p.m.
URL:https://saclr.org/event/dash-wednesday/2025-01-08/
CATEGORIES:Youth Ministry
END:VEVENT
BEGIN:VEVENT
DTSTART;TZID=America/Chicago:20250115T180000
DTEND;TZID=America/Chicago:20250115T200000
DTSTAMP:20260422T180435
CREATED:20150922T063132Z
LAST-MODIFIED:20241212T222527Z
UID:10000968-1736964000-1736971200@saclr.org
SUMMARY:DASH (Wednesday)
DESCRIPTION:Sixth through twelfth graders enjoy dinner at 6 p.m. Worship and teaching on Gospel basics begins at 7 p.m.
URL:https://saclr.org/event/dash-wednesday/2025-01-15/
CATEGORIES:Youth Ministry
END:VEVENT
BEGIN:VEVENT
DTSTART;TZID=America/Chicago:20250122T180000
DTEND;TZID=America/Chicago:20250122T200000
DTSTAMP:20260422T180435
CREATED:20150922T063132Z
LAST-MODIFIED:20241212T222527Z
UID:10000969-1737568800-1737576000@saclr.org
SUMMARY:DASH (Wednesday)
DESCRIPTION:Sixth through twelfth graders enjoy dinner at 6 p.m. Worship and teaching on Gospel basics begins at 7 p.m.
URL:https://saclr.org/event/dash-wednesday/2025-01-22/
CATEGORIES:Youth Ministry
END:VEVENT
BEGIN:VEVENT
DTSTART;TZID=America/Chicago:20250129T180000
DTEND;TZID=America/Chicago:20250129T200000
DTSTAMP:20260422T180435
CREATED:20150922T063132Z
LAST-MODIFIED:20241212T222527Z
UID:10000970-1738173600-1738180800@saclr.org
SUMMARY:DASH (Wednesday)
DESCRIPTION:Sixth through twelfth graders enjoy dinner at 6 p.m. Worship and teaching on Gospel basics begins at 7 p.m.
URL:https://saclr.org/event/dash-wednesday/2025-01-29/
CATEGORIES:Youth Ministry
END:VEVENT
BEGIN:VEVENT
DTSTART;TZID=America/Chicago:20250205T180000
DTEND;TZID=America/Chicago:20250205T200000
DTSTAMP:20260422T180435
CREATED:20150922T063132Z
LAST-MODIFIED:20241212T222527Z
UID:10000971-1738778400-1738785600@saclr.org
SUMMARY:DASH (Wednesday)
DESCRIPTION:Sixth through twelfth graders enjoy dinner at 6 p.m. Worship and teaching on Gospel basics begins at 7 p.m.
URL:https://saclr.org/event/dash-wednesday/2025-02-05/
CATEGORIES:Youth Ministry
END:VEVENT
BEGIN:VEVENT
DTSTART;TZID=America/Chicago:20250212T180000
DTEND;TZID=America/Chicago:20250212T200000
DTSTAMP:20260422T180435
CREATED:20150922T063132Z
LAST-MODIFIED:20241212T222527Z
UID:10000972-1739383200-1739390400@saclr.org
SUMMARY:DASH (Wednesday)
DESCRIPTION:Sixth through twelfth graders enjoy dinner at 6 p.m. Worship and teaching on Gospel basics begins at 7 p.m.
URL:https://saclr.org/event/dash-wednesday/2025-02-12/
CATEGORIES:Youth Ministry
END:VEVENT
END:VCALENDAR