BEGIN:VCALENDAR
VERSION:2.0
PRODID:-//St. Andrew&#039;s Anglican Church - ECPv6.7.0//NONSGML v1.0//EN
CALSCALE:GREGORIAN
METHOD:PUBLISH
X-WR-CALNAME:St. Andrew&#039;s Anglican Church
X-ORIGINAL-URL:https://saclr.org
X-WR-CALDESC:Events for St. Andrew&#039;s Anglican Church
REFRESH-INTERVAL;VALUE=DURATION:PT1H
X-Robots-Tag:noindex
X-PUBLISHED-TTL:PT1H
BEGIN:VTIMEZONE
TZID:America/Chicago
BEGIN:DAYLIGHT
TZOFFSETFROM:-0600
TZOFFSETTO:-0500
TZNAME:CDT
DTSTART:20220313T080000
END:DAYLIGHT
BEGIN:STANDARD
TZOFFSETFROM:-0500
TZOFFSETTO:-0600
TZNAME:CST
DTSTART:20221106T070000
END:STANDARD
BEGIN:DAYLIGHT
TZOFFSETFROM:-0600
TZOFFSETTO:-0500
TZNAME:CDT
DTSTART:20230312T080000
END:DAYLIGHT
BEGIN:STANDARD
TZOFFSETFROM:-0500
TZOFFSETTO:-0600
TZNAME:CST
DTSTART:20231105T070000
END:STANDARD
END:VTIMEZONE
BEGIN:VEVENT
DTSTART;TZID=America/Chicago:20221214T180000
DTEND;TZID=America/Chicago:20221214T200000
DTSTAMP:20260422T123222
CREATED:20150922T063132Z
LAST-MODIFIED:20241212T222527Z
UID:10000862-1671040800-1671048000@saclr.org
SUMMARY:DASH (Wednesday)
DESCRIPTION:Sixth through twelfth graders enjoy dinner at 6 p.m. Worship and teaching on Gospel basics begins at 7 p.m.
URL:https://saclr.org/event/dash-wednesday/2022-12-14/
CATEGORIES:Youth Ministry
END:VEVENT
BEGIN:VEVENT
DTSTART;TZID=America/Chicago:20230111T180000
DTEND;TZID=America/Chicago:20230111T200000
DTSTAMP:20260422T123222
CREATED:20150922T063132Z
LAST-MODIFIED:20241212T222527Z
UID:10000863-1673460000-1673467200@saclr.org
SUMMARY:DASH (Wednesday)
DESCRIPTION:Sixth through twelfth graders enjoy dinner at 6 p.m. Worship and teaching on Gospel basics begins at 7 p.m.
URL:https://saclr.org/event/dash-wednesday/2023-01-11/
CATEGORIES:Youth Ministry
END:VEVENT
BEGIN:VEVENT
DTSTART;TZID=America/Chicago:20230118T180000
DTEND;TZID=America/Chicago:20230118T200000
DTSTAMP:20260422T123222
CREATED:20150922T063132Z
LAST-MODIFIED:20241212T222527Z
UID:10000864-1674064800-1674072000@saclr.org
SUMMARY:DASH (Wednesday)
DESCRIPTION:Sixth through twelfth graders enjoy dinner at 6 p.m. Worship and teaching on Gospel basics begins at 7 p.m.
URL:https://saclr.org/event/dash-wednesday/2023-01-18/
CATEGORIES:Youth Ministry
END:VEVENT
BEGIN:VEVENT
DTSTART;TZID=America/Chicago:20230125T180000
DTEND;TZID=America/Chicago:20230125T200000
DTSTAMP:20260422T123222
CREATED:20150922T063132Z
LAST-MODIFIED:20241212T222527Z
UID:10000865-1674669600-1674676800@saclr.org
SUMMARY:DASH (Wednesday)
DESCRIPTION:Sixth through twelfth graders enjoy dinner at 6 p.m. Worship and teaching on Gospel basics begins at 7 p.m.
URL:https://saclr.org/event/dash-wednesday/2023-01-25/
CATEGORIES:Youth Ministry
END:VEVENT
BEGIN:VEVENT
DTSTART;TZID=America/Chicago:20230201T180000
DTEND;TZID=America/Chicago:20230201T200000
DTSTAMP:20260422T123222
CREATED:20150922T063132Z
LAST-MODIFIED:20241212T222527Z
UID:10000866-1675274400-1675281600@saclr.org
SUMMARY:DASH (Wednesday)
DESCRIPTION:Sixth through twelfth graders enjoy dinner at 6 p.m. Worship and teaching on Gospel basics begins at 7 p.m.
URL:https://saclr.org/event/dash-wednesday/2023-02-01/
CATEGORIES:Youth Ministry
END:VEVENT
BEGIN:VEVENT
DTSTART;TZID=America/Chicago:20230208T180000
DTEND;TZID=America/Chicago:20230208T200000
DTSTAMP:20260422T123222
CREATED:20150922T063132Z
LAST-MODIFIED:20241212T222527Z
UID:10000867-1675879200-1675886400@saclr.org
SUMMARY:DASH (Wednesday)
DESCRIPTION:Sixth through twelfth graders enjoy dinner at 6 p.m. Worship and teaching on Gospel basics begins at 7 p.m.
URL:https://saclr.org/event/dash-wednesday/2023-02-08/
CATEGORIES:Youth Ministry
END:VEVENT
BEGIN:VEVENT
DTSTART;TZID=America/Chicago:20230215T180000
DTEND;TZID=America/Chicago:20230215T200000
DTSTAMP:20260422T123222
CREATED:20150922T063132Z
LAST-MODIFIED:20241212T222527Z
UID:10000868-1676484000-1676491200@saclr.org
SUMMARY:DASH (Wednesday)
DESCRIPTION:Sixth through twelfth graders enjoy dinner at 6 p.m. Worship and teaching on Gospel basics begins at 7 p.m.
URL:https://saclr.org/event/dash-wednesday/2023-02-15/
CATEGORIES:Youth Ministry
END:VEVENT
BEGIN:VEVENT
DTSTART;TZID=America/Chicago:20230222T180000
DTEND;TZID=America/Chicago:20230222T200000
DTSTAMP:20260422T123222
CREATED:20150922T063132Z
LAST-MODIFIED:20241212T222527Z
UID:10000869-1677088800-1677096000@saclr.org
SUMMARY:DASH (Wednesday)
DESCRIPTION:Sixth through twelfth graders enjoy dinner at 6 p.m. Worship and teaching on Gospel basics begins at 7 p.m.
URL:https://saclr.org/event/dash-wednesday/2023-02-22/
CATEGORIES:Youth Ministry
END:VEVENT
BEGIN:VEVENT
DTSTART;TZID=America/Chicago:20230301T180000
DTEND;TZID=America/Chicago:20230301T200000
DTSTAMP:20260422T123222
CREATED:20150922T063132Z
LAST-MODIFIED:20241212T222527Z
UID:10000870-1677693600-1677700800@saclr.org
SUMMARY:DASH (Wednesday)
DESCRIPTION:Sixth through twelfth graders enjoy dinner at 6 p.m. Worship and teaching on Gospel basics begins at 7 p.m.
URL:https://saclr.org/event/dash-wednesday/2023-03-01/
CATEGORIES:Youth Ministry
END:VEVENT
BEGIN:VEVENT
DTSTART;TZID=America/Chicago:20230308T180000
DTEND;TZID=America/Chicago:20230308T200000
DTSTAMP:20260422T123222
CREATED:20150922T063132Z
LAST-MODIFIED:20241212T222527Z
UID:10000871-1678298400-1678305600@saclr.org
SUMMARY:DASH (Wednesday)
DESCRIPTION:Sixth through twelfth graders enjoy dinner at 6 p.m. Worship and teaching on Gospel basics begins at 7 p.m.
URL:https://saclr.org/event/dash-wednesday/2023-03-08/
CATEGORIES:Youth Ministry
END:VEVENT
BEGIN:VEVENT
DTSTART;TZID=America/Chicago:20230315T180000
DTEND;TZID=America/Chicago:20230315T200000
DTSTAMP:20260422T123222
CREATED:20150922T063132Z
LAST-MODIFIED:20241212T222527Z
UID:10000872-1678903200-1678910400@saclr.org
SUMMARY:DASH (Wednesday)
DESCRIPTION:Sixth through twelfth graders enjoy dinner at 6 p.m. Worship and teaching on Gospel basics begins at 7 p.m.
URL:https://saclr.org/event/dash-wednesday/2023-03-15/
CATEGORIES:Youth Ministry
END:VEVENT
BEGIN:VEVENT
DTSTART;TZID=America/Chicago:20230322T180000
DTEND;TZID=America/Chicago:20230322T200000
DTSTAMP:20260422T123222
CREATED:20150922T063132Z
LAST-MODIFIED:20241212T222527Z
UID:10000873-1679508000-1679515200@saclr.org
SUMMARY:DASH (Wednesday)
DESCRIPTION:Sixth through twelfth graders enjoy dinner at 6 p.m. Worship and teaching on Gospel basics begins at 7 p.m.
URL:https://saclr.org/event/dash-wednesday/2023-03-22/
CATEGORIES:Youth Ministry
END:VEVENT
BEGIN:VEVENT
DTSTART;TZID=America/Chicago:20230329T180000
DTEND;TZID=America/Chicago:20230329T200000
DTSTAMP:20260422T123222
CREATED:20150922T063132Z
LAST-MODIFIED:20241212T222527Z
UID:10000874-1680112800-1680120000@saclr.org
SUMMARY:DASH (Wednesday)
DESCRIPTION:Sixth through twelfth graders enjoy dinner at 6 p.m. Worship and teaching on Gospel basics begins at 7 p.m.
URL:https://saclr.org/event/dash-wednesday/2023-03-29/
CATEGORIES:Youth Ministry
END:VEVENT
BEGIN:VEVENT
DTSTART;TZID=America/Chicago:20230405T180000
DTEND;TZID=America/Chicago:20230405T200000
DTSTAMP:20260422T123222
CREATED:20150922T063132Z
LAST-MODIFIED:20241212T222527Z
UID:10000875-1680717600-1680724800@saclr.org
SUMMARY:DASH (Wednesday)
DESCRIPTION:Sixth through twelfth graders enjoy dinner at 6 p.m. Worship and teaching on Gospel basics begins at 7 p.m.
URL:https://saclr.org/event/dash-wednesday/2023-04-05/
CATEGORIES:Youth Ministry
END:VEVENT
BEGIN:VEVENT
DTSTART;TZID=America/Chicago:20230412T180000
DTEND;TZID=America/Chicago:20230412T200000
DTSTAMP:20260422T123222
CREATED:20150922T063132Z
LAST-MODIFIED:20241212T222527Z
UID:10000876-1681322400-1681329600@saclr.org
SUMMARY:DASH (Wednesday)
DESCRIPTION:Sixth through twelfth graders enjoy dinner at 6 p.m. Worship and teaching on Gospel basics begins at 7 p.m.
URL:https://saclr.org/event/dash-wednesday/2023-04-12/
CATEGORIES:Youth Ministry
END:VEVENT
BEGIN:VEVENT
DTSTART;TZID=America/Chicago:20230419T180000
DTEND;TZID=America/Chicago:20230419T200000
DTSTAMP:20260422T123222
CREATED:20150922T063132Z
LAST-MODIFIED:20241212T222527Z
UID:10000877-1681927200-1681934400@saclr.org
SUMMARY:DASH (Wednesday)
DESCRIPTION:Sixth through twelfth graders enjoy dinner at 6 p.m. Worship and teaching on Gospel basics begins at 7 p.m.
URL:https://saclr.org/event/dash-wednesday/2023-04-19/
CATEGORIES:Youth Ministry
END:VEVENT
BEGIN:VEVENT
DTSTART;TZID=America/Chicago:20230426T180000
DTEND;TZID=America/Chicago:20230426T200000
DTSTAMP:20260422T123222
CREATED:20150922T063132Z
LAST-MODIFIED:20241212T222527Z
UID:10000878-1682532000-1682539200@saclr.org
SUMMARY:DASH (Wednesday)
DESCRIPTION:Sixth through twelfth graders enjoy dinner at 6 p.m. Worship and teaching on Gospel basics begins at 7 p.m.
URL:https://saclr.org/event/dash-wednesday/2023-04-26/
CATEGORIES:Youth Ministry
END:VEVENT
BEGIN:VEVENT
DTSTART;TZID=America/Chicago:20230503T180000
DTEND;TZID=America/Chicago:20230503T200000
DTSTAMP:20260422T123222
CREATED:20150922T063132Z
LAST-MODIFIED:20241212T222527Z
UID:10000879-1683136800-1683144000@saclr.org
SUMMARY:DASH (Wednesday)
DESCRIPTION:Sixth through twelfth graders enjoy dinner at 6 p.m. Worship and teaching on Gospel basics begins at 7 p.m.
URL:https://saclr.org/event/dash-wednesday/2023-05-03/
CATEGORIES:Youth Ministry
END:VEVENT
BEGIN:VEVENT
DTSTART;TZID=America/Chicago:20230510T180000
DTEND;TZID=America/Chicago:20230510T200000
DTSTAMP:20260422T123222
CREATED:20150922T063132Z
LAST-MODIFIED:20241212T222527Z
UID:10000880-1683741600-1683748800@saclr.org
SUMMARY:DASH (Wednesday)
DESCRIPTION:Sixth through twelfth graders enjoy dinner at 6 p.m. Worship and teaching on Gospel basics begins at 7 p.m.
URL:https://saclr.org/event/dash-wednesday/2023-05-10/
CATEGORIES:Youth Ministry
END:VEVENT
BEGIN:VEVENT
DTSTART;TZID=America/Chicago:20230517T180000
DTEND;TZID=America/Chicago:20230517T200000
DTSTAMP:20260422T123222
CREATED:20150922T063132Z
LAST-MODIFIED:20241212T222527Z
UID:10000881-1684346400-1684353600@saclr.org
SUMMARY:DASH (Wednesday)
DESCRIPTION:Sixth through twelfth graders enjoy dinner at 6 p.m. Worship and teaching on Gospel basics begins at 7 p.m.
URL:https://saclr.org/event/dash-wednesday/2023-05-17/
CATEGORIES:Youth Ministry
END:VEVENT
BEGIN:VEVENT
DTSTART;TZID=America/Chicago:20230524T180000
DTEND;TZID=America/Chicago:20230524T200000
DTSTAMP:20260422T123222
CREATED:20150922T063132Z
LAST-MODIFIED:20241212T222527Z
UID:10000882-1684951200-1684958400@saclr.org
SUMMARY:DASH (Wednesday)
DESCRIPTION:Sixth through twelfth graders enjoy dinner at 6 p.m. Worship and teaching on Gospel basics begins at 7 p.m.
URL:https://saclr.org/event/dash-wednesday/2023-05-24/
CATEGORIES:Youth Ministry
END:VEVENT
BEGIN:VEVENT
DTSTART;TZID=America/Chicago:20230531T180000
DTEND;TZID=America/Chicago:20230531T200000
DTSTAMP:20260422T123222
CREATED:20150922T063132Z
LAST-MODIFIED:20241212T222527Z
UID:10000883-1685556000-1685563200@saclr.org
SUMMARY:DASH (Wednesday)
DESCRIPTION:Sixth through twelfth graders enjoy dinner at 6 p.m. Worship and teaching on Gospel basics begins at 7 p.m.
URL:https://saclr.org/event/dash-wednesday/2023-05-31/
CATEGORIES:Youth Ministry
END:VEVENT
BEGIN:VEVENT
DTSTART;TZID=America/Chicago:20230607T180000
DTEND;TZID=America/Chicago:20230607T200000
DTSTAMP:20260422T123222
CREATED:20150922T063132Z
LAST-MODIFIED:20241212T222527Z
UID:10000884-1686160800-1686168000@saclr.org
SUMMARY:DASH (Wednesday)
DESCRIPTION:Sixth through twelfth graders enjoy dinner at 6 p.m. Worship and teaching on Gospel basics begins at 7 p.m.
URL:https://saclr.org/event/dash-wednesday/2023-06-07/
CATEGORIES:Youth Ministry
END:VEVENT
BEGIN:VEVENT
DTSTART;TZID=America/Chicago:20230614T180000
DTEND;TZID=America/Chicago:20230614T200000
DTSTAMP:20260422T123222
CREATED:20150922T063132Z
LAST-MODIFIED:20241212T222527Z
UID:10000885-1686765600-1686772800@saclr.org
SUMMARY:DASH (Wednesday)
DESCRIPTION:Sixth through twelfth graders enjoy dinner at 6 p.m. Worship and teaching on Gospel basics begins at 7 p.m.
URL:https://saclr.org/event/dash-wednesday/2023-06-14/
CATEGORIES:Youth Ministry
END:VEVENT
BEGIN:VEVENT
DTSTART;TZID=America/Chicago:20230621T180000
DTEND;TZID=America/Chicago:20230621T200000
DTSTAMP:20260422T123222
CREATED:20150922T063132Z
LAST-MODIFIED:20241212T222527Z
UID:10000886-1687370400-1687377600@saclr.org
SUMMARY:DASH (Wednesday)
DESCRIPTION:Sixth through twelfth graders enjoy dinner at 6 p.m. Worship and teaching on Gospel basics begins at 7 p.m.
URL:https://saclr.org/event/dash-wednesday/2023-06-21/
CATEGORIES:Youth Ministry
END:VEVENT
BEGIN:VEVENT
DTSTART;TZID=America/Chicago:20230628T180000
DTEND;TZID=America/Chicago:20230628T200000
DTSTAMP:20260422T123222
CREATED:20150922T063132Z
LAST-MODIFIED:20241212T222527Z
UID:10000887-1687975200-1687982400@saclr.org
SUMMARY:DASH (Wednesday)
DESCRIPTION:Sixth through twelfth graders enjoy dinner at 6 p.m. Worship and teaching on Gospel basics begins at 7 p.m.
URL:https://saclr.org/event/dash-wednesday/2023-06-28/
CATEGORIES:Youth Ministry
END:VEVENT
BEGIN:VEVENT
DTSTART;TZID=America/Chicago:20230705T180000
DTEND;TZID=America/Chicago:20230705T200000
DTSTAMP:20260422T123222
CREATED:20150922T063132Z
LAST-MODIFIED:20241212T222527Z
UID:10000888-1688580000-1688587200@saclr.org
SUMMARY:DASH (Wednesday)
DESCRIPTION:Sixth through twelfth graders enjoy dinner at 6 p.m. Worship and teaching on Gospel basics begins at 7 p.m.
URL:https://saclr.org/event/dash-wednesday/2023-07-05/
CATEGORIES:Youth Ministry
END:VEVENT
BEGIN:VEVENT
DTSTART;TZID=America/Chicago:20230712T180000
DTEND;TZID=America/Chicago:20230712T200000
DTSTAMP:20260422T123222
CREATED:20150922T063132Z
LAST-MODIFIED:20241212T222527Z
UID:10000889-1689184800-1689192000@saclr.org
SUMMARY:DASH (Wednesday)
DESCRIPTION:Sixth through twelfth graders enjoy dinner at 6 p.m. Worship and teaching on Gospel basics begins at 7 p.m.
URL:https://saclr.org/event/dash-wednesday/2023-07-12/
CATEGORIES:Youth Ministry
END:VEVENT
BEGIN:VEVENT
DTSTART;TZID=America/Chicago:20230719T180000
DTEND;TZID=America/Chicago:20230719T200000
DTSTAMP:20260422T123222
CREATED:20150922T063132Z
LAST-MODIFIED:20241212T222527Z
UID:10000890-1689789600-1689796800@saclr.org
SUMMARY:DASH (Wednesday)
DESCRIPTION:Sixth through twelfth graders enjoy dinner at 6 p.m. Worship and teaching on Gospel basics begins at 7 p.m.
URL:https://saclr.org/event/dash-wednesday/2023-07-19/
CATEGORIES:Youth Ministry
END:VEVENT
BEGIN:VEVENT
DTSTART;TZID=America/Chicago:20230726T180000
DTEND;TZID=America/Chicago:20230726T200000
DTSTAMP:20260422T123222
CREATED:20150922T063132Z
LAST-MODIFIED:20241212T222527Z
UID:10000891-1690394400-1690401600@saclr.org
SUMMARY:DASH (Wednesday)
DESCRIPTION:Sixth through twelfth graders enjoy dinner at 6 p.m. Worship and teaching on Gospel basics begins at 7 p.m.
URL:https://saclr.org/event/dash-wednesday/2023-07-26/
CATEGORIES:Youth Ministry
END:VEVENT
END:VCALENDAR