BEGIN:VCALENDAR
VERSION:2.0
PRODID:-//St. Andrew&#039;s Anglican Church - ECPv6.7.0//NONSGML v1.0//EN
CALSCALE:GREGORIAN
METHOD:PUBLISH
X-WR-CALNAME:St. Andrew&#039;s Anglican Church
X-ORIGINAL-URL:https://saclr.org
X-WR-CALDESC:Events for St. Andrew&#039;s Anglican Church
REFRESH-INTERVAL;VALUE=DURATION:PT1H
X-Robots-Tag:noindex
X-PUBLISHED-TTL:PT1H
BEGIN:VTIMEZONE
TZID:America/Chicago
BEGIN:DAYLIGHT
TZOFFSETFROM:-0600
TZOFFSETTO:-0500
TZNAME:CDT
DTSTART:20240310T080000
END:DAYLIGHT
BEGIN:STANDARD
TZOFFSETFROM:-0500
TZOFFSETTO:-0600
TZNAME:CST
DTSTART:20241103T070000
END:STANDARD
END:VTIMEZONE
BEGIN:VEVENT
DTSTART;TZID=America/Chicago:20240724T183000
DTEND;TZID=America/Chicago:20240724T200000
DTSTAMP:20260419T160535
CREATED:20240516T180055Z
LAST-MODIFIED:20240516T180055Z
UID:10002839-1721845800-1721851200@saclr.org
SUMMARY:Sips and Dips
DESCRIPTION:Host: Erica Vinson\nLocation: Erica’s home  \n \n\nBring your favorite dip to share and fellowship with other moms (of children 10 years old and younger).\n\n\n\n \n\nSign up here
URL:https://saclr.org/event/sips-and-dips-2/
LOCATION:AR
CATEGORIES:Women's Ministry
END:VEVENT
END:VCALENDAR