BEGIN:VCALENDAR
VERSION:2.0
PRODID:-//St. Andrew&#039;s Anglican Church - ECPv6.7.0//NONSGML v1.0//EN
CALSCALE:GREGORIAN
METHOD:PUBLISH
X-WR-CALNAME:St. Andrew&#039;s Anglican Church
X-ORIGINAL-URL:https://saclr.org
X-WR-CALDESC:Events for St. Andrew&#039;s Anglican Church
REFRESH-INTERVAL;VALUE=DURATION:PT1H
X-Robots-Tag:noindex
X-PUBLISHED-TTL:PT1H
BEGIN:VTIMEZONE
TZID:America/Chicago
BEGIN:DAYLIGHT
TZOFFSETFROM:-0600
TZOFFSETTO:-0500
TZNAME:CDT
DTSTART:20240310T080000
END:DAYLIGHT
BEGIN:STANDARD
TZOFFSETFROM:-0500
TZOFFSETTO:-0600
TZNAME:CST
DTSTART:20241103T070000
END:STANDARD
END:VTIMEZONE
BEGIN:VEVENT
DTSTART;TZID=America/Chicago:20240604T183000
DTEND;TZID=America/Chicago:20240604T200000
DTSTAMP:20260419T160151
CREATED:20240516T192942Z
LAST-MODIFIED:20240516T193457Z
UID:10002843-1717525800-1717531200@saclr.org
SUMMARY:Book study: God Does His Best Work With Empty by Nancy Guthrie
DESCRIPTION:Leader: Sara Bledsoe\nLocation: Sara’s home\nCost: book can be purchased on Amazon \nJoin us in discovering why emptiness has never been\, and never will be\, a problem to God. As the curtain is pulled back on God’s work to fill up emptiness as revealed throughout the Bible\, you’ll experience page after page of grace and hope that your emptiness can and will be filled. You’ll begin to see that God really does do his best work with empty―as he fills it with himself. Please purchase the book prior to the first meeting. For more information\, contact Sara. \n  \nSign up here
URL:https://saclr.org/event/book-study-god-does-his-best-work-with-empty/2024-06-04/
LOCATION:AR
CATEGORIES:Women's Ministry
END:VEVENT
BEGIN:VEVENT
DTSTART;TZID=America/Chicago:20240604T190000
DTEND;TZID=America/Chicago:20240604T203000
DTSTAMP:20260419T160151
CREATED:20240516T193210Z
LAST-MODIFIED:20240516T193533Z
UID:10002899-1717527600-1717533000@saclr.org
SUMMARY:Book study: Waymaker by Ann Voskamp
DESCRIPTION:Leader: April Carpenter\nLocation: St. Andrew’s Commons\nCost: book can be purchased on Amazon    \nHow do you work through the storms of life with a strong trust in God’s grace\, love and power? This summer\, join in with a group of women studying the S.A.C.R.E.D. way of life from Ann Voskamp’s Waymaker\, to help reorient your souls during hard times through Scripture and prayer. This eight-session study includes videos from Ann Voskamp\, as well as weekly group discussions and prayer for each other. For more information\, contact April. \n  \nSign up here
URL:https://saclr.org/event/book-study-waymaker-by-ann-voskamp/2024-06-04/
LOCATION:AR
CATEGORIES:Women's Ministry
END:VEVENT
BEGIN:VEVENT
DTSTART;TZID=America/Chicago:20240606T100000
DTEND;TZID=America/Chicago:20240606T113000
DTSTAMP:20260419T160151
CREATED:20240516T193343Z
LAST-MODIFIED:20240516T193420Z
UID:10002906-1717668000-1717673400@saclr.org
SUMMARY:Study: Coffee & Casual Conversation about Prayer
DESCRIPTION:Leader: Dorothy Johnson & Henny Collins\nLocation: Dorothy’s home  \nIn his book entitled Prayer\, Timothy Keller says that prayer is simply conversation with God. You may agree and yet feel shy or even intimidated by the subject of prayer. If you’d like to move beyond those feelings and learn more how to make prayer a life practice\, join us for coffee or tea on the four Thursdays in June. For more information\, contact Dorothy or Henny. \n  \nSign up here
URL:https://saclr.org/event/study-coffee-casual-conversation-about-prayer/2024-06-06/
LOCATION:AR
CATEGORIES:Women's Ministry
END:VEVENT
BEGIN:VEVENT
DTSTART;TZID=America/Chicago:20240611T180000
DTEND;TZID=America/Chicago:20240611T200000
DTSTAMP:20260419T160151
CREATED:20240516T171857Z
LAST-MODIFIED:20240516T174422Z
UID:10002829-1718128800-1718136000@saclr.org
SUMMARY:Traveling Table: Cafe' Bossa Nova
DESCRIPTION:Location: Cafe’ Bossa Nova\nHost: Marian Forrest \nJoin Marian and five other women for dinner at Cafe’ Bossa Nova. \nSign up here
URL:https://saclr.org/event/traveling-table-cafe-bossa-nova/
LOCATION:AR
CATEGORIES:Women's Ministry
END:VEVENT
BEGIN:VEVENT
DTSTART;TZID=America/Chicago:20240611T190000
DTEND;TZID=America/Chicago:20240611T203000
DTSTAMP:20260419T160151
CREATED:20240516T193210Z
LAST-MODIFIED:20240516T193533Z
UID:10002900-1718132400-1718137800@saclr.org
SUMMARY:Book study: Waymaker by Ann Voskamp
DESCRIPTION:Leader: April Carpenter\nLocation: St. Andrew’s Commons\nCost: book can be purchased on Amazon    \nHow do you work through the storms of life with a strong trust in God’s grace\, love and power? This summer\, join in with a group of women studying the S.A.C.R.E.D. way of life from Ann Voskamp’s Waymaker\, to help reorient your souls during hard times through Scripture and prayer. This eight-session study includes videos from Ann Voskamp\, as well as weekly group discussions and prayer for each other. For more information\, contact April. \n  \nSign up here
URL:https://saclr.org/event/book-study-waymaker-by-ann-voskamp/2024-06-11/
LOCATION:AR
CATEGORIES:Women's Ministry
END:VEVENT
BEGIN:VEVENT
DTSTART;TZID=America/Chicago:20240612T183000
DTEND;TZID=America/Chicago:20240612T200000
DTSTAMP:20260419T160151
CREATED:20240516T174335Z
LAST-MODIFIED:20240516T174335Z
UID:10002830-1718217000-1718222400@saclr.org
SUMMARY:Sips and Dips
DESCRIPTION:Location: Sarah Somers’ home \nBring your favorite dip to share and fellowship with other moms (of children 10 years old and younger). \nSign up here
URL:https://saclr.org/event/sips-and-dips/
LOCATION:AR
CATEGORIES:Women's Ministry
END:VEVENT
BEGIN:VEVENT
DTSTART;TZID=America/Chicago:20240613T100000
DTEND;TZID=America/Chicago:20240613T113000
DTSTAMP:20260419T160151
CREATED:20240516T193343Z
LAST-MODIFIED:20240516T193420Z
UID:10002907-1718272800-1718278200@saclr.org
SUMMARY:Study: Coffee & Casual Conversation about Prayer
DESCRIPTION:Leader: Dorothy Johnson & Henny Collins\nLocation: Dorothy’s home  \nIn his book entitled Prayer\, Timothy Keller says that prayer is simply conversation with God. You may agree and yet feel shy or even intimidated by the subject of prayer. If you’d like to move beyond those feelings and learn more how to make prayer a life practice\, join us for coffee or tea on the four Thursdays in June. For more information\, contact Dorothy or Henny. \n  \nSign up here
URL:https://saclr.org/event/study-coffee-casual-conversation-about-prayer/2024-06-13/
LOCATION:AR
CATEGORIES:Women's Ministry
END:VEVENT
BEGIN:VEVENT
DTSTART;TZID=America/Chicago:20240613T190000
DTEND;TZID=America/Chicago:20240613T210000
DTSTAMP:20260419T160151
CREATED:20240516T180346Z
LAST-MODIFIED:20240516T180346Z
UID:10002841-1718305200-1718312400@saclr.org
SUMMARY:Heart to Heart
DESCRIPTION:Hosts: Kimberly Cook & Joanna Douglass\nLocation: St. Andrew’s Commons\nSpeaker: Kimberly Cook \n \n\nThese evenings will include dessert\, large group fun\, and hearing from women we have asked to share their stories. We will also hear from mission partners.\n\n \n\nSign up here
URL:https://saclr.org/event/heart-to-heart/
LOCATION:AR
CATEGORIES:Women's Ministry
END:VEVENT
BEGIN:VEVENT
DTSTART;TZID=America/Chicago:20240618T093000
DTEND;TZID=America/Chicago:20240618T120000
DTSTAMP:20260419T160151
CREATED:20240516T174559Z
LAST-MODIFIED:20240516T174559Z
UID:10002831-1718703000-1718712000@saclr.org
SUMMARY:Cooking with Cathy
DESCRIPTION:Host: Cathy Lamb\nLocation: St. Andrew’s Kitchen  \n \n\nJoin Cathy Lamb to prepare freezer meals to have for new moms\, those who are ill or have just moved.\n\n \n\nSign up here
URL:https://saclr.org/event/cooking-with-cathy/
LOCATION:AR
CATEGORIES:Women's Ministry
END:VEVENT
BEGIN:VEVENT
DTSTART;TZID=America/Chicago:20240618T190000
DTEND;TZID=America/Chicago:20240618T203000
DTSTAMP:20260419T160151
CREATED:20240516T193210Z
LAST-MODIFIED:20240516T193533Z
UID:10002901-1718737200-1718742600@saclr.org
SUMMARY:Book study: Waymaker by Ann Voskamp
DESCRIPTION:Leader: April Carpenter\nLocation: St. Andrew’s Commons\nCost: book can be purchased on Amazon    \nHow do you work through the storms of life with a strong trust in God’s grace\, love and power? This summer\, join in with a group of women studying the S.A.C.R.E.D. way of life from Ann Voskamp’s Waymaker\, to help reorient your souls during hard times through Scripture and prayer. This eight-session study includes videos from Ann Voskamp\, as well as weekly group discussions and prayer for each other. For more information\, contact April. \n  \nSign up here
URL:https://saclr.org/event/book-study-waymaker-by-ann-voskamp/2024-06-18/
LOCATION:AR
CATEGORIES:Women's Ministry
END:VEVENT
BEGIN:VEVENT
DTSTART;TZID=America/Chicago:20240620T100000
DTEND;TZID=America/Chicago:20240620T113000
DTSTAMP:20260419T160151
CREATED:20240516T193343Z
LAST-MODIFIED:20240516T193420Z
UID:10002908-1718877600-1718883000@saclr.org
SUMMARY:Study: Coffee & Casual Conversation about Prayer
DESCRIPTION:Leader: Dorothy Johnson & Henny Collins\nLocation: Dorothy’s home  \nIn his book entitled Prayer\, Timothy Keller says that prayer is simply conversation with God. You may agree and yet feel shy or even intimidated by the subject of prayer. If you’d like to move beyond those feelings and learn more how to make prayer a life practice\, join us for coffee or tea on the four Thursdays in June. For more information\, contact Dorothy or Henny. \n  \nSign up here
URL:https://saclr.org/event/study-coffee-casual-conversation-about-prayer/2024-06-20/
LOCATION:AR
CATEGORIES:Women's Ministry
END:VEVENT
BEGIN:VEVENT
DTSTART;TZID=America/Chicago:20240622T100000
DTEND;TZID=America/Chicago:20240622T130000
DTSTAMP:20260419T160151
CREATED:20240516T174656Z
LAST-MODIFIED:20240516T174936Z
UID:10002832-1719050400-1719061200@saclr.org
SUMMARY:Bike (or walk) & Brunch
DESCRIPTION:Host: Gretchen Newkirk Location: Clinton Library  \n\n\n\nWe will meet in the Clinton Library parking lot and divide up into small groups of people with similar speeds and walk or bike around a portion of the river. Any type of bike rider is welcome. We will meet back at our cars and go over to Camp Taco for lunch outdoors. \n\n  Sign up here
URL:https://saclr.org/event/bike-or-walk-brunch/
LOCATION:AR
CATEGORIES:Women's Ministry
END:VEVENT
BEGIN:VEVENT
DTSTART;TZID=America/Chicago:20240624T180000
DTEND;TZID=America/Chicago:20240624T200000
DTSTAMP:20260419T160151
CREATED:20240516T174833Z
LAST-MODIFIED:20240516T174928Z
UID:10002833-1719252000-1719259200@saclr.org
SUMMARY:Traveling Table: Big Orange West
DESCRIPTION:Host: Carrie Spradlin Location: Big Orange West   \n\n\n\nJoin Carrie and five other women for dinner at Big Orange West Little Rock. \n\n  Sign up here
URL:https://saclr.org/event/traveling-table-big-orange-west/
LOCATION:AR
CATEGORIES:Women's Ministry
END:VEVENT
BEGIN:VEVENT
DTSTART;TZID=America/Chicago:20240625T183000
DTEND;TZID=America/Chicago:20240625T200000
DTSTAMP:20260419T160151
CREATED:20240516T192942Z
LAST-MODIFIED:20240516T193457Z
UID:10002844-1719340200-1719345600@saclr.org
SUMMARY:Book study: God Does His Best Work With Empty by Nancy Guthrie
DESCRIPTION:Leader: Sara Bledsoe\nLocation: Sara’s home\nCost: book can be purchased on Amazon \nJoin us in discovering why emptiness has never been\, and never will be\, a problem to God. As the curtain is pulled back on God’s work to fill up emptiness as revealed throughout the Bible\, you’ll experience page after page of grace and hope that your emptiness can and will be filled. You’ll begin to see that God really does do his best work with empty―as he fills it with himself. Please purchase the book prior to the first meeting. For more information\, contact Sara. \n  \nSign up here
URL:https://saclr.org/event/book-study-god-does-his-best-work-with-empty/2024-06-25/
LOCATION:AR
CATEGORIES:Women's Ministry
END:VEVENT
BEGIN:VEVENT
DTSTART;TZID=America/Chicago:20240625T190000
DTEND;TZID=America/Chicago:20240625T203000
DTSTAMP:20260419T160151
CREATED:20240516T193210Z
LAST-MODIFIED:20240516T193533Z
UID:10002902-1719342000-1719347400@saclr.org
SUMMARY:Book study: Waymaker by Ann Voskamp
DESCRIPTION:Leader: April Carpenter\nLocation: St. Andrew’s Commons\nCost: book can be purchased on Amazon    \nHow do you work through the storms of life with a strong trust in God’s grace\, love and power? This summer\, join in with a group of women studying the S.A.C.R.E.D. way of life from Ann Voskamp’s Waymaker\, to help reorient your souls during hard times through Scripture and prayer. This eight-session study includes videos from Ann Voskamp\, as well as weekly group discussions and prayer for each other. For more information\, contact April. \n  \nSign up here
URL:https://saclr.org/event/book-study-waymaker-by-ann-voskamp/2024-06-25/
LOCATION:AR
CATEGORIES:Women's Ministry
END:VEVENT
BEGIN:VEVENT
DTSTART;TZID=America/Chicago:20240626T170000
DTEND;TZID=America/Chicago:20240626T190000
DTSTAMP:20260419T160151
CREATED:20240516T174919Z
LAST-MODIFIED:20240516T174919Z
UID:10002834-1719421200-1719428400@saclr.org
SUMMARY:Summer Night Social
DESCRIPTION:Hosts: Bess Grobmyer & Ann Marie Gray\nLocation: Bess’ home  \n \n\nJoin Bess and Anne Marie for a fun night this summer. It’s sure to be full of laughter\, great conversation and yummy food!\n\n\n\n \n\nSign up here
URL:https://saclr.org/event/summer-night-social/
LOCATION:AR
CATEGORIES:Women's Ministry
END:VEVENT
BEGIN:VEVENT
DTSTART;TZID=America/Chicago:20240627T100000
DTEND;TZID=America/Chicago:20240627T113000
DTSTAMP:20260419T160151
CREATED:20240516T193343Z
LAST-MODIFIED:20240516T193420Z
UID:10002909-1719482400-1719487800@saclr.org
SUMMARY:Study: Coffee & Casual Conversation about Prayer
DESCRIPTION:Leader: Dorothy Johnson & Henny Collins\nLocation: Dorothy’s home  \nIn his book entitled Prayer\, Timothy Keller says that prayer is simply conversation with God. You may agree and yet feel shy or even intimidated by the subject of prayer. If you’d like to move beyond those feelings and learn more how to make prayer a life practice\, join us for coffee or tea on the four Thursdays in June. For more information\, contact Dorothy or Henny. \n  \nSign up here
URL:https://saclr.org/event/study-coffee-casual-conversation-about-prayer/2024-06-27/
LOCATION:AR
CATEGORIES:Women's Ministry
END:VEVENT
END:VCALENDAR