BEGIN:VCALENDAR
VERSION:2.0
PRODID:-//St. Andrew&#039;s Anglican Church - ECPv6.7.0//NONSGML v1.0//EN
CALSCALE:GREGORIAN
METHOD:PUBLISH
X-WR-CALNAME:St. Andrew&#039;s Anglican Church
X-ORIGINAL-URL:https://saclr.org
X-WR-CALDESC:Events for St. Andrew&#039;s Anglican Church
REFRESH-INTERVAL;VALUE=DURATION:PT1H
X-Robots-Tag:noindex
X-PUBLISHED-TTL:PT1H
BEGIN:VTIMEZONE
TZID:America/Chicago
BEGIN:DAYLIGHT
TZOFFSETFROM:-0600
TZOFFSETTO:-0500
TZNAME:CDT
DTSTART:20240310T080000
END:DAYLIGHT
BEGIN:STANDARD
TZOFFSETFROM:-0500
TZOFFSETTO:-0600
TZNAME:CST
DTSTART:20241103T070000
END:STANDARD
END:VTIMEZONE
BEGIN:VEVENT
DTSTART;VALUE=DATE:20240519
DTEND;VALUE=DATE:20240520
DTSTAMP:20260419T075231
CREATED:20231213T164456Z
LAST-MODIFIED:20231213T164456Z
UID:10002198-1716076800-1716163199@saclr.org
SUMMARY:Sunday services & classes
DESCRIPTION:THE SERVICES\nThe 8:45 a.m. worship service is more traditional. The liturgy is followed in a printed program with a mixture of ancient and modern hymns. It is approximately 70 minutes in length. \nThe 11 a.m. worship service is more contemporary. The liturgy is followed on two projection screens with hymns set to modern accompaniment and the newest songs of praise. It is approximately 90 minutes in length. \n  \nCHILDREN IN THE SERVICE\nA Mother’s Room\, with live stream of the service\, is available for nursing moms and those with infants. \n\nBeginnings\nChild care for infants through preschoolers is available throughout the service. Children may be picked up at The Peace to partake in Holy Communion with their families. \n\nENCOUNTER kids\nKindergarteners through fifth graders follow the cross out of the sanctuary after the Gospel reading for Encounter KIDS\, a creative time of worship designed specifically for kids\, before returning for Holy Communion. \n\nCrossroads (2nd service only)\nSixth and seventh graders may follow the cross out of the sanctuary after the gospel reading and go to the youth room for a time of learning what it means to be a full participant in the larger worship service. \n  \nBETWEEN THE SERVICES\nClasses for all age groups are available between services (10:10-10:50 a.m.). \n\nBeginnings\nMusic class for toddlers and preschoolers is held in the preschool room. Child care for infants in available in the infant room. \n\nENCOUNTER kids\nChildren learn about our faith in Christ in an age-appropriate way. \n\nDash\nSixth through twelfth graders participate in teaching and discussion on a companion verse or parallel topic to the day’s sermon. \n\nAdults\nWe always have several classes for adults\, find out the current offerings here.
URL:https://saclr.org/event/sunday-services-classes-2/2024-05-19/
END:VEVENT
BEGIN:VEVENT
DTSTART;TZID=America/Chicago:20240519T150000
DTEND;TZID=America/Chicago:20240519T163000
DTSTAMP:20260419T075231
CREATED:20200227T054233Z
LAST-MODIFIED:20240201T165006Z
UID:10002812-1716130800-1716136200@saclr.org
SUMMARY:Treasured Girls Study
DESCRIPTION:Find out more information here
URL:https://saclr.org/event/treasured-girls-study/2024-05-19/
END:VEVENT
BEGIN:VEVENT
DTSTART;TZID=America/Chicago:20240519T180000
DTEND;TZID=America/Chicago:20240519T200000
DTSTAMP:20260419T075231
CREATED:20240411T150913Z
LAST-MODIFIED:20240516T171122Z
UID:10002826-1716141600-1716148800@saclr.org
SUMMARY:Young Adult Game Night
DESCRIPTION:Find out more information here.
URL:https://saclr.org/event/young-adult-game-night-2/
END:VEVENT
END:VCALENDAR