BEGIN:VCALENDAR
VERSION:2.0
PRODID:-//St. Andrew&#039;s Anglican Church - ECPv6.7.0//NONSGML v1.0//EN
CALSCALE:GREGORIAN
METHOD:PUBLISH
X-ORIGINAL-URL:https://saclr.org
X-WR-CALDESC:Events for St. Andrew&#039;s Anglican Church
REFRESH-INTERVAL;VALUE=DURATION:PT1H
X-Robots-Tag:noindex
X-PUBLISHED-TTL:PT1H
BEGIN:VTIMEZONE
TZID:America/Chicago
BEGIN:DAYLIGHT
TZOFFSETFROM:-0600
TZOFFSETTO:-0500
TZNAME:CDT
DTSTART:20240310T080000
END:DAYLIGHT
BEGIN:STANDARD
TZOFFSETFROM:-0500
TZOFFSETTO:-0600
TZNAME:CST
DTSTART:20241103T070000
END:STANDARD
END:VTIMEZONE
BEGIN:VEVENT
DTSTART;TZID=America/Chicago:20240501T103000
DTEND;TZID=America/Chicago:20240501T120000
DTSTAMP:20260419T075341
CREATED:20240516T194126Z
LAST-MODIFIED:20240516T194127Z
UID:10002486-1714559400-1714564800@saclr.org
SUMMARY:Prime Timers group
DESCRIPTION:More information here
URL:https://saclr.org/event/prime-timers-group-2/
END:VEVENT
BEGIN:VEVENT
DTSTART;TZID=America/Chicago:20240501T180000
DTEND;TZID=America/Chicago:20240501T200000
DTSTAMP:20260419T075341
CREATED:20150922T063132Z
LAST-MODIFIED:20241212T222527Z
UID:10000931-1714586400-1714593600@saclr.org
SUMMARY:DASH (Wednesday)
DESCRIPTION:Sixth through twelfth graders enjoy dinner at 6 p.m. Worship and teaching on Gospel basics begins at 7 p.m.
URL:https://saclr.org/event/dash-wednesday/2024-05-01/
CATEGORIES:Youth Ministry
END:VEVENT
BEGIN:VEVENT
DTSTART;TZID=America/Chicago:20240501T180000
DTEND;TZID=America/Chicago:20240501T203000
DTSTAMP:20260419T075341
CREATED:20230808T201831Z
LAST-MODIFIED:20230808T201831Z
UID:10001935-1714586400-1714595400@saclr.org
SUMMARY:Growing in Grace
DESCRIPTION:A complimentary dinner is followed by a recovery service and a small-group\, recovery meeting.  \nGiG Kids ministers to the children of  those parents who attend GiG and is available for the entire evening.
URL:https://saclr.org/event/growing-in-grace/2024-05-01/
END:VEVENT
END:VCALENDAR