BEGIN:VCALENDAR
VERSION:2.0
PRODID:-//St. Andrew&#039;s Anglican Church - ECPv6.7.0//NONSGML v1.0//EN
CALSCALE:GREGORIAN
METHOD:PUBLISH
X-ORIGINAL-URL:https://saclr.org
X-WR-CALDESC:Events for St. Andrew&#039;s Anglican Church
REFRESH-INTERVAL;VALUE=DURATION:PT1H
X-Robots-Tag:noindex
X-PUBLISHED-TTL:PT1H
BEGIN:VTIMEZONE
TZID:America/Chicago
BEGIN:DAYLIGHT
TZOFFSETFROM:-0600
TZOFFSETTO:-0500
TZNAME:CDT
DTSTART:20230312T080000
END:DAYLIGHT
BEGIN:STANDARD
TZOFFSETFROM:-0500
TZOFFSETTO:-0600
TZNAME:CST
DTSTART:20231105T070000
END:STANDARD
END:VTIMEZONE
BEGIN:VEVENT
DTSTART;TZID=America/Chicago:20231121T121500
DTEND;TZID=America/Chicago:20231121T131500
DTSTAMP:20260419T183658
CREATED:20190104T012627Z
LAST-MODIFIED:20250828T140023Z
UID:10001664-1700568900-1700572500@saclr.org
SUMMARY:Men's Bible Fellowship
DESCRIPTION:More information available here
URL:https://saclr.org/event/mens-bible-fellowship-2/2023-11-21/
END:VEVENT
BEGIN:VEVENT
DTSTART;TZID=America/Chicago:20231121T180000
DTEND;TZID=America/Chicago:20231121T200000
DTSTAMP:20260419T183658
CREATED:20230907T173718Z
LAST-MODIFIED:20230913T185313Z
UID:10002451-1700589600-1700596800@saclr.org
SUMMARY:GriefShare
DESCRIPTION:The 13-week GriefShare seminar features biblical\, Christ-centered teaching that focuses on grief topics associated with the death of a loved one. Sign up for GriefShare here. \nHave you learned valuable lessons and experienced healing from the hurt? Would you like to help others do the same? If so\, please call the church office to learn more about the different volunteer opportunities with our GriefShare ministry. 
URL:https://saclr.org/event/griefshare-7-2/2023-11-21/
END:VEVENT
END:VCALENDAR