BEGIN:VCALENDAR
VERSION:2.0
PRODID:-//St. Andrew&#039;s Anglican Church - ECPv6.7.0//NONSGML v1.0//EN
CALSCALE:GREGORIAN
METHOD:PUBLISH
X-ORIGINAL-URL:https://saclr.org
X-WR-CALDESC:Events for St. Andrew&#039;s Anglican Church
REFRESH-INTERVAL;VALUE=DURATION:PT1H
X-Robots-Tag:noindex
X-PUBLISHED-TTL:PT1H
BEGIN:VTIMEZONE
TZID:America/Chicago
BEGIN:DAYLIGHT
TZOFFSETFROM:-0600
TZOFFSETTO:-0500
TZNAME:CDT
DTSTART:20230312T080000
END:DAYLIGHT
BEGIN:STANDARD
TZOFFSETFROM:-0500
TZOFFSETTO:-0600
TZNAME:CST
DTSTART:20231105T070000
END:STANDARD
END:VTIMEZONE
BEGIN:VEVENT
DTSTART;TZID=America/Chicago:20231030T180000
DTEND;TZID=America/Chicago:20231030T193000
DTSTAMP:20260419T183525
CREATED:20230808T201531Z
LAST-MODIFIED:20230808T201531Z
UID:10001895-1698688800-1698694200@saclr.org
SUMMARY:Discipleship Night
DESCRIPTION:This fall\, we will be diving into scripture using the Messiah: The Immerse Reading Bible\, which will be given out the first night\, and selected videos from the Bible Project.  We will read our way through Luke\, Acts and several New Testament letters\, learning more about the background of each book as we go and sharing what we discover in small group discussions. 
URL:https://saclr.org/event/discipleship-night-2/2023-10-30/
END:VEVENT
END:VCALENDAR