BEGIN:VCALENDAR
VERSION:2.0
PRODID:-//St. Andrew&#039;s Anglican Church - ECPv6.7.0//NONSGML v1.0//EN
CALSCALE:GREGORIAN
METHOD:PUBLISH
X-ORIGINAL-URL:https://saclr.org
X-WR-CALDESC:Events for St. Andrew&#039;s Anglican Church
REFRESH-INTERVAL;VALUE=DURATION:PT1H
X-Robots-Tag:noindex
X-PUBLISHED-TTL:PT1H
BEGIN:VTIMEZONE
TZID:America/Chicago
BEGIN:DAYLIGHT
TZOFFSETFROM:-0600
TZOFFSETTO:-0500
TZNAME:CDT
DTSTART:20230312T080000
END:DAYLIGHT
BEGIN:STANDARD
TZOFFSETFROM:-0500
TZOFFSETTO:-0600
TZNAME:CST
DTSTART:20231105T070000
END:STANDARD
END:VTIMEZONE
BEGIN:VEVENT
DTSTART;TZID=America/Chicago:20230928T180000
DTEND;TZID=America/Chicago:20230928T193000
DTSTAMP:20260419T221756
CREATED:20230831T183417Z
LAST-MODIFIED:20230831T183417Z
UID:10002425-1695924000-1695929400@saclr.org
SUMMARY:Family Ministry Worship Night & Potluck
DESCRIPTION:Family ministry invites you to a worship night/potluck at 6 p.m. on Thursday\, September 28 at the Pavilion. Come for fellowship\, worship and food! We’ll provide the main course. Last names A-J bring a side\, K-Z bring dessert.
URL:https://saclr.org/event/family-ministry-worship-night-potluck/
LOCATION:Pavilion
END:VEVENT
END:VCALENDAR