BEGIN:VCALENDAR
VERSION:2.0
PRODID:-//St. Andrew&#039;s Anglican Church - ECPv6.7.0//NONSGML v1.0//EN
CALSCALE:GREGORIAN
METHOD:PUBLISH
X-WR-CALNAME:St. Andrew&#039;s Anglican Church
X-ORIGINAL-URL:https://saclr.org
X-WR-CALDESC:Events for St. Andrew&#039;s Anglican Church
REFRESH-INTERVAL;VALUE=DURATION:PT1H
X-Robots-Tag:noindex
X-PUBLISHED-TTL:PT1H
BEGIN:VTIMEZONE
TZID:America/Chicago
BEGIN:DAYLIGHT
TZOFFSETFROM:-0600
TZOFFSETTO:-0500
TZNAME:CDT
DTSTART:20220313T080000
END:DAYLIGHT
BEGIN:STANDARD
TZOFFSETFROM:-0500
TZOFFSETTO:-0600
TZNAME:CST
DTSTART:20221106T070000
END:STANDARD
END:VTIMEZONE
BEGIN:VEVENT
DTSTART;TZID=America/Chicago:20221201T183000
DTEND;TZID=America/Chicago:20221201T203000
DTSTAMP:20260422T143842
CREATED:20221122T000746Z
LAST-MODIFIED:20221122T000746Z
UID:10001881-1669919400-1669926600@saclr.org
SUMMARY:Women's Christmas Dessert
DESCRIPTION:Join us for a festive gathering at the home of Mary Cavin. \nIn collaboration with Christmas Blessing\, you may drop off cookies at this event (2-3+ dozen homemade cookies in a disposable container). Please sign up in the Narthex if you plan to bring cookies. \nContact Cary Collins for more information.
URL:https://saclr.org/event/womens-christmas-dessert/
END:VEVENT
END:VCALENDAR