BEGIN:VCALENDAR
VERSION:2.0
PRODID:-//St. Andrew&#039;s Anglican Church - ECPv6.7.0//NONSGML v1.0//EN
CALSCALE:GREGORIAN
METHOD:PUBLISH
X-WR-CALNAME:St. Andrew&#039;s Anglican Church
X-ORIGINAL-URL:https://saclr.org
X-WR-CALDESC:Events for St. Andrew&#039;s Anglican Church
REFRESH-INTERVAL;VALUE=DURATION:PT1H
X-Robots-Tag:noindex
X-PUBLISHED-TTL:PT1H
BEGIN:VTIMEZONE
TZID:America/Chicago
BEGIN:DAYLIGHT
TZOFFSETFROM:-0600
TZOFFSETTO:-0500
TZNAME:CDT
DTSTART:20220313T080000
END:DAYLIGHT
BEGIN:STANDARD
TZOFFSETFROM:-0500
TZOFFSETTO:-0600
TZNAME:CST
DTSTART:20221106T070000
END:STANDARD
END:VTIMEZONE
BEGIN:VEVENT
DTSTART;VALUE=DATE:20221123
DTEND;VALUE=DATE:20221127
DTSTAMP:20260422T161739
CREATED:20160627T202105Z
LAST-MODIFIED:20160627T202105Z
UID:10001416-1669161600-1669507199@saclr.org
SUMMARY:Church Office Closed
DESCRIPTION:The church office will be closed beginning at noon on Wednesday\, November 23\, through Friday\, November 25\, in honor of Thanksgiving. It will reopen at the normal time on Sunday\, November 27.
URL:https://saclr.org/event/church-office-closed-3/
END:VEVENT
BEGIN:VEVENT
DTSTART;TZID=America/Chicago:20221124T100000
DTEND;TZID=America/Chicago:20221124T111000
DTSTAMP:20260422T161739
CREATED:20150922T070557Z
LAST-MODIFIED:20150922T070557Z
UID:10001369-1669284000-1669288200@saclr.org
SUMMARY:Thanksgiving service
DESCRIPTION:Join us for a traditional Thanksgiving worship service. This service lasts approximately 70 minutes; there is no child care.
URL:https://saclr.org/event/thanksgiving-service/
CATEGORIES:Worship
END:VEVENT
END:VCALENDAR