BEGIN:VCALENDAR
VERSION:2.0
PRODID:-//St. Andrew&#039;s Anglican Church - ECPv6.7.0//NONSGML v1.0//EN
CALSCALE:GREGORIAN
METHOD:PUBLISH
X-WR-CALNAME:St. Andrew&#039;s Anglican Church
X-ORIGINAL-URL:https://saclr.org
X-WR-CALDESC:Events for St. Andrew&#039;s Anglican Church
REFRESH-INTERVAL;VALUE=DURATION:PT1H
X-Robots-Tag:noindex
X-PUBLISHED-TTL:PT1H
BEGIN:VTIMEZONE
TZID:America/Chicago
BEGIN:DAYLIGHT
TZOFFSETFROM:-0600
TZOFFSETTO:-0500
TZNAME:CDT
DTSTART:20220313T080000
END:DAYLIGHT
BEGIN:STANDARD
TZOFFSETFROM:-0500
TZOFFSETTO:-0600
TZNAME:CST
DTSTART:20221106T070000
END:STANDARD
END:VTIMEZONE
BEGIN:VEVENT
DTSTART;TZID=America/Chicago:20220920T100000
DTEND;TZID=America/Chicago:20220920T113000
DTSTAMP:20260422T200917
CREATED:20220907T223303Z
LAST-MODIFIED:20220907T223303Z
UID:10001863-1663668000-1663673400@saclr.org
SUMMARY:The Word of the Lord women's Bible study
DESCRIPTION:In the Old Testament\, God spoke to his people through prophets―men specially called to speak God’s Word to his people. The New Testament makes it clear that such prophets\, whether chastising or comforting\, testified to Israel’s final redemption and ultimate hope: Jesus the Messiah.
URL:https://saclr.org/event/the-word-of-the-lord-womens-bible-study/2022-09-20/
END:VEVENT
BEGIN:VEVENT
DTSTART;TZID=America/Chicago:20220920T121500
DTEND;TZID=America/Chicago:20220920T131500
DTSTAMP:20260422T200917
CREATED:20190104T012627Z
LAST-MODIFIED:20250828T140023Z
UID:10001603-1663676100-1663679700@saclr.org
SUMMARY:Men's Bible Fellowship
DESCRIPTION:More information available here
URL:https://saclr.org/event/mens-bible-fellowship-2/2022-09-20/
END:VEVENT
BEGIN:VEVENT
DTSTART;TZID=America/Chicago:20220920T180000
DTEND;TZID=America/Chicago:20220920T200000
DTSTAMP:20260422T200917
CREATED:20220907T223212Z
LAST-MODIFIED:20230907T173425Z
UID:10002428-1663696800-1663704000@saclr.org
SUMMARY:GriefShare
DESCRIPTION:The 13-week GriefShare seminar features biblical\, Christ-centered teaching that focuses on grief topics associated with the death of a loved one. Sign up for GriefShare here. \nHave you learned valuable lessons and experienced healing from the hurt? Would you like to help others do the same? If so\, please call the church office to learn more about the different volunteer opportunities with our GriefShare ministry. \nFor more info\, contact Ryland Brown.
URL:https://saclr.org/event/griefshare-7/2022-09-20/
END:VEVENT
END:VCALENDAR