BEGIN:VCALENDAR
VERSION:2.0
PRODID:-//St. Andrew&#039;s Anglican Church - ECPv6.7.0//NONSGML v1.0//EN
CALSCALE:GREGORIAN
METHOD:PUBLISH
X-ORIGINAL-URL:https://saclr.org
X-WR-CALDESC:Events for St. Andrew&#039;s Anglican Church
REFRESH-INTERVAL;VALUE=DURATION:PT1H
X-Robots-Tag:noindex
X-PUBLISHED-TTL:PT1H
BEGIN:VTIMEZONE
TZID:America/Chicago
BEGIN:DAYLIGHT
TZOFFSETFROM:-0600
TZOFFSETTO:-0500
TZNAME:CDT
DTSTART:20220313T080000
END:DAYLIGHT
BEGIN:STANDARD
TZOFFSETFROM:-0500
TZOFFSETTO:-0600
TZNAME:CST
DTSTART:20221106T070000
END:STANDARD
END:VTIMEZONE
BEGIN:VEVENT
DTSTART;VALUE=DATE:20220814
DTEND;VALUE=DATE:20220815
DTSTAMP:20260423T000344
CREATED:20150922T051243Z
LAST-MODIFIED:20230808T202317Z
UID:10001075-1660435200-1660521599@saclr.org
SUMMARY:Sunday Services/Classes
DESCRIPTION:THE SERVICES\nThe 8:45 a.m. worship service is more traditional. The liturgy is followed in a printed program with a mixture of ancient and modern hymns. It is approximately 70 minutes in length. \nThe 11 a.m. worship service is more contemporary. The liturgy is followed on two projection screens with hymns set to modern accompaniment and the newest songs of praise. It is approximately 90 minutes in length. \nCHILDREN IN THE SERVICE\nA Mother’s Room\, with volume-controlled audio of the service\, is available for nursing moms and those with infants. \nChild care for infants through preschoolers is available throughout the service. Children may be picked up at The Peace to partake in Holy Communion with their families. \nKindergarteners through sixth graders follow the cross out of the sanctuary after the Gospel reading for Encounter KIDS\, a creative time of worship designed specifically for kids\, before returning for Holy Communion. \nBETWEEN THE SERVICES\nClasses for all age groups are available between services (10:10-10:50 a.m.). \nBeginnings\nMusic class for toddlers and preschoolers is held in the preschool room. Child care for infants in available in the infant room. \nENCOUNTER kids\nChildren learn about our faith in Christ in an age-appropriate way. \nDASH\nSeventh through twelfth graders participate in teaching and discussion on a companion verse or parallel topic to the day’s sermon. \nAdults\nWe always have several classes for adults\, find out the current offerings here.
URL:https://saclr.org/event/sunday-services/2022-08-14/
CATEGORIES:Worship
END:VEVENT
BEGIN:VEVENT
DTSTART;VALUE=DATE:20220814
DTEND;VALUE=DATE:20220815
DTSTAMP:20260423T000344
CREATED:20220721T203845Z
LAST-MODIFIED:20220721T203845Z
UID:10001285-1660435200-1660521599@saclr.org
SUMMARY:Family Ministry Move-Up Sunday
DESCRIPTION:Sunday\, August 14\, is St. Andrew’s Move-Up Sunday—the Sunday that our children graduate to their next class. Those in Pre-K4 during the 2021-22 school year will begin worshiping with their parents in the service and leaving during the sermon for ENCOUNTER Kids. Those in fifth grade during the 2021-22 school year are now a part of the youth group and will remain in the sanctuary for the entire service.
URL:https://saclr.org/event/family-ministry-move-up-sunday/
END:VEVENT
BEGIN:VEVENT
DTSTART;TZID=America/Chicago:20220814T180000
DTEND;TZID=America/Chicago:20220814T193000
DTSTAMP:20260423T000344
CREATED:20220721T204101Z
LAST-MODIFIED:20220721T204101Z
UID:10001289-1660500000-1660505400@saclr.org
SUMMARY:Newcomers' Dessert
DESCRIPTION:Are you new to St. Andrew’s? If so\, you are invited you to the Newcomers’ Dessert on Sunday\, August 14\, from 6-7:30 p.m. for a casual time of dessert and fellowship. Children and youth of families are also invited to attend and have a special time of dessert and play with family ministries. To RSVP or for more information\, contact Jessie Smith.
URL:https://saclr.org/event/newcomers-dessert-6/
END:VEVENT
END:VCALENDAR