BEGIN:VCALENDAR
VERSION:2.0
PRODID:-//St. Andrew&#039;s Anglican Church - ECPv6.7.0//NONSGML v1.0//EN
CALSCALE:GREGORIAN
METHOD:PUBLISH
X-WR-CALNAME:St. Andrew&#039;s Anglican Church
X-ORIGINAL-URL:https://saclr.org
X-WR-CALDESC:Events for St. Andrew&#039;s Anglican Church
REFRESH-INTERVAL;VALUE=DURATION:PT1H
X-Robots-Tag:noindex
X-PUBLISHED-TTL:PT1H
BEGIN:VTIMEZONE
TZID:America/Chicago
BEGIN:DAYLIGHT
TZOFFSETFROM:-0600
TZOFFSETTO:-0500
TZNAME:CDT
DTSTART:20220313T080000
END:DAYLIGHT
BEGIN:STANDARD
TZOFFSETFROM:-0500
TZOFFSETTO:-0600
TZNAME:CST
DTSTART:20221106T070000
END:STANDARD
END:VTIMEZONE
BEGIN:VEVENT
DTSTART;TZID=America/Chicago:20220426T100000
DTEND;TZID=America/Chicago:20220426T113000
DTSTAMP:20260423T051706
CREATED:20220218T004129Z
LAST-MODIFIED:20220218T004129Z
UID:10001790-1650967200-1650972600@saclr.org
SUMMARY:The Wisdom of God women's study
DESCRIPTION:The Wisdom of God \nSeeing Jesus in the Psalms & Wisdom Books \n“This 10-week study of Job\, Psalms\, Proverbs\, Ecclesiastes\, and the Song of Solomon mines the Wisdom Literature not only for wise principles for living\, but also for the wise person these books point to through their drama\, poetry\, proverb\, and song. In her accessible and authentic style\, Nancy Guthrie focuses on seeing Jesus in the Old Testament instead of emphasizing works-based moralism.“
URL:https://saclr.org/event/the-wisdom-of-god-womens-study/2022-04-26/
END:VEVENT
BEGIN:VEVENT
DTSTART;TZID=America/Chicago:20220426T121500
DTEND;TZID=America/Chicago:20220426T131500
DTSTAMP:20260423T051706
CREATED:20190104T012627Z
LAST-MODIFIED:20250828T140023Z
UID:10001582-1650975300-1650978900@saclr.org
SUMMARY:Men's Bible Fellowship
DESCRIPTION:More information available here
URL:https://saclr.org/event/mens-bible-fellowship-2/2022-04-26/
END:VEVENT
END:VCALENDAR