BEGIN:VCALENDAR
VERSION:2.0
PRODID:-//St. Andrew&#039;s Anglican Church - ECPv6.7.0//NONSGML v1.0//EN
CALSCALE:GREGORIAN
METHOD:PUBLISH
X-ORIGINAL-URL:https://saclr.org
X-WR-CALDESC:Events for St. Andrew&#039;s Anglican Church
REFRESH-INTERVAL;VALUE=DURATION:PT1H
X-Robots-Tag:noindex
X-PUBLISHED-TTL:PT1H
BEGIN:VTIMEZONE
TZID:America/Chicago
BEGIN:DAYLIGHT
TZOFFSETFROM:-0600
TZOFFSETTO:-0500
TZNAME:CDT
DTSTART:20210314T080000
END:DAYLIGHT
BEGIN:STANDARD
TZOFFSETFROM:-0500
TZOFFSETTO:-0600
TZNAME:CST
DTSTART:20211107T070000
END:STANDARD
END:VTIMEZONE
BEGIN:VEVENT
DTSTART;TZID=America/Chicago:20211227T090000
DTEND;TZID=America/Chicago:20211231T120000
DTSTAMP:20260423T101353
CREATED:20160627T202305Z
LAST-MODIFIED:20160627T202305Z
UID:10001418-1640595600-1640952000@saclr.org
SUMMARY:Holiday Office Hours
DESCRIPTION:The church office will be open from 9 a.m.-12 p.m. on Monday\, December 27\, through Friday\, December 31. \nBut the staff will not be present as they will be celebrating the holidays with their families. In the event of a pastoral need\, please contact Dustin or Robert. \nNormal office hours will resume on Monday\, January 3. \n 
URL:https://saclr.org/event/church-office-closed-4/
ATTACH;FMTTYPE=image/jpeg:https://saclr.org/wp-content/uploads/2023/06/Holiday-Office-Hours-01.jpg
END:VEVENT
BEGIN:VEVENT
DTSTART;TZID=America/Chicago:20211228T121500
DTEND;TZID=America/Chicago:20211228T131500
DTSTAMP:20260423T101353
CREATED:20190104T012627Z
LAST-MODIFIED:20250828T140023Z
UID:10001565-1640693700-1640697300@saclr.org
SUMMARY:Men's Bible Fellowship
DESCRIPTION:More information available here
URL:https://saclr.org/event/mens-bible-fellowship-2/2021-12-28/
END:VEVENT
END:VCALENDAR